BEGIN:VCALENDAR
VERSION:2.0
PRODID:-//Mississippi Humanities Council - ECPv6.15.18//NONSGML v1.0//EN
CALSCALE:GREGORIAN
METHOD:PUBLISH
X-WR-CALNAME:Mississippi Humanities Council
X-ORIGINAL-URL:https://www.mshumanities.org
X-WR-CALDESC:Events for Mississippi Humanities Council
REFRESH-INTERVAL;VALUE=DURATION:PT1H
X-Robots-Tag:noindex
X-PUBLISHED-TTL:PT1H
BEGIN:VTIMEZONE
TZID:America/Chicago
BEGIN:DAYLIGHT
TZOFFSETFROM:-0600
TZOFFSETTO:-0500
TZNAME:CDT
DTSTART:20210314T080000
END:DAYLIGHT
BEGIN:STANDARD
TZOFFSETFROM:-0500
TZOFFSETTO:-0600
TZNAME:CST
DTSTART:20211107T070000
END:STANDARD
BEGIN:DAYLIGHT
TZOFFSETFROM:-0600
TZOFFSETTO:-0500
TZNAME:CDT
DTSTART:20220313T080000
END:DAYLIGHT
BEGIN:STANDARD
TZOFFSETFROM:-0500
TZOFFSETTO:-0600
TZNAME:CST
DTSTART:20221106T070000
END:STANDARD
BEGIN:DAYLIGHT
TZOFFSETFROM:-0600
TZOFFSETTO:-0500
TZNAME:CDT
DTSTART:20230312T080000
END:DAYLIGHT
BEGIN:STANDARD
TZOFFSETFROM:-0500
TZOFFSETTO:-0600
TZNAME:CST
DTSTART:20231105T070000
END:STANDARD
END:VTIMEZONE
BEGIN:VEVENT
DTSTART;TZID=America/Chicago:20220128T110000
DTEND;TZID=America/Chicago:20220128T130000
DTSTAMP:20260423T173515
CREATED:20220120T152534Z
LAST-MODIFIED:20220120T152534Z
UID:11442-1643367600-1643374800@www.mshumanities.org
SUMMARY:HTA - The Journey Home: Literary Narratives and PTSD
DESCRIPTION:Humanities Teacher Award winner Dr. Tammy Townsend (Mississippi Gulf Coast Community College) will present her public lecture\, “The Journey Home: Literary Narratives and PTSD”. This presentation will be held on the Harrison County campus in Building U\, Room 202. \nThe presentation will cover how cognitive therapy exists in psychoanalysis sessions and in English classes. According to new research\, reading literary narratives makes us better people. Through the study of classic literary narratives\, we share the hero’s journey and learn how to order our own experiences into a coherent narrative that helps us put ourselves into the context of our lives.
URL:https://www.mshumanities.org/event/hta-the-journey-home-literary-narratives-and-ptsd/
LOCATION:Mississippi Gulf Coast Community College\, 2226 Switzer Road\, Gulfport\, MS\, 39507\, United States
END:VEVENT
END:VCALENDAR