BEGIN:VCALENDAR
VERSION:2.0
PRODID:-//Mississippi Humanities Council - ECPv6.15.18//NONSGML v1.0//EN
CALSCALE:GREGORIAN
METHOD:PUBLISH
X-ORIGINAL-URL:https://www.mshumanities.org
X-WR-CALDESC:Events for Mississippi Humanities Council
REFRESH-INTERVAL;VALUE=DURATION:PT1H
X-Robots-Tag:noindex
X-PUBLISHED-TTL:PT1H
BEGIN:VTIMEZONE
TZID:America/Chicago
BEGIN:DAYLIGHT
TZOFFSETFROM:-0600
TZOFFSETTO:-0500
TZNAME:CDT
DTSTART:20210314T080000
END:DAYLIGHT
BEGIN:STANDARD
TZOFFSETFROM:-0500
TZOFFSETTO:-0600
TZNAME:CST
DTSTART:20211107T070000
END:STANDARD
BEGIN:DAYLIGHT
TZOFFSETFROM:-0600
TZOFFSETTO:-0500
TZNAME:CDT
DTSTART:20220313T080000
END:DAYLIGHT
BEGIN:STANDARD
TZOFFSETFROM:-0500
TZOFFSETTO:-0600
TZNAME:CST
DTSTART:20221106T070000
END:STANDARD
BEGIN:DAYLIGHT
TZOFFSETFROM:-0600
TZOFFSETTO:-0500
TZNAME:CDT
DTSTART:20230312T080000
END:DAYLIGHT
BEGIN:STANDARD
TZOFFSETFROM:-0500
TZOFFSETTO:-0600
TZNAME:CST
DTSTART:20231105T070000
END:STANDARD
END:VTIMEZONE
BEGIN:VEVENT
DTSTART;TZID=America/Chicago:20220203T170000
DTEND;TZID=America/Chicago:20220423T200000
DTSTAMP:20260423T173529
CREATED:20210617T194046Z
LAST-MODIFIED:20210617T194046Z
UID:11402-1643907600-1650744000@www.mshumanities.org
SUMMARY:O.N. Pruitt's Possum Town: Photographing Trouble and Resilience in The American South
DESCRIPTION:This event is a traveling multimedia exhibition that reveals life in northeast Mississippi based on the photography of O.N. Pruitt. From 1915 to 1960\, Pruitt\, a white man in a racially segregated society\, recorded community celebrations as well as troubling violence. His work is distinguished from others of his time by his diligent and prolific depictions of the joys and sorrows of everyday people—both Black and white—in his hometown of Columbus\, locally referred to as “Possum Town.”
URL:https://www.mshumanities.org/event/o-n-pruitts-possum-town-photographing-trouble-and-resilience-in-the-american-south/
LOCATION:Columbus Arts Council\, Columbus \, MS 
END:VEVENT
BEGIN:VEVENT
DTSTART;TZID=America/Chicago:20220204T100000
DTEND;TZID=America/Chicago:20220204T110000
DTSTAMP:20260423T173529
CREATED:20220119T153241Z
LAST-MODIFIED:20220119T153241Z
UID:11439-1643968800-1643972400@www.mshumanities.org
SUMMARY:HTA - From Handprints on Cave Walls to Posting on Social Media; Seeking Validation Through our Personal Narratives
DESCRIPTION:Humanities Teacher Award winner Anne Lacy Johnson (Meridian Community College) will present her public lecture\, “From Handprints on Cave Walls to Posting on Social Media; Seeking Validation Through our Personal Narratives.” This presentation will be held in the McCain Theater. Reception to follow. \nOur personal narratives inspire art\, music\, and prose. The theme of my presentation is; “From Handprints on cave walls\, to posting on Social Media; seeking validation through our personal narrative.” I’ll take you on a journey through life\, how our personal stores inspire\, distract\, influence\, lead and guide our life. Come see what your handprint tells others about you!
URL:https://www.mshumanities.org/event/hta-from-handprints-on-cave-walls-to-posting-on-social-media-seeking-validation-through-our-personal-narratives/
LOCATION:Meridian Community College\, 910 Hwy 19 N\, Meridian\, MS\, 39307
END:VEVENT
BEGIN:VEVENT
DTSTART;TZID=America/Chicago:20220204T190000
DTEND;TZID=America/Chicago:20220204T203000
DTSTAMP:20260423T173529
CREATED:20220201T151505Z
LAST-MODIFIED:20220201T151505Z
UID:11444-1644001200-1644006600@www.mshumanities.org
SUMMARY:Isabella and the Prince: Overcoming Struggle through Courage and Faith
DESCRIPTION:
URL:https://www.mshumanities.org/event/isabella-and-the-prince-overcoming-struggle-through-courage-and-faith/
LOCATION:Prince Ibrahim
END:VEVENT
END:VCALENDAR