BEGIN:VCALENDAR
VERSION:2.0
PRODID:-//Mississippi Humanities Council - ECPv6.15.18//NONSGML v1.0//EN
CALSCALE:GREGORIAN
METHOD:PUBLISH
X-ORIGINAL-URL:https://www.mshumanities.org
X-WR-CALDESC:Events for Mississippi Humanities Council
REFRESH-INTERVAL;VALUE=DURATION:PT1H
X-Robots-Tag:noindex
X-PUBLISHED-TTL:PT1H
BEGIN:VTIMEZONE
TZID:America/Chicago
BEGIN:DAYLIGHT
TZOFFSETFROM:-0600
TZOFFSETTO:-0500
TZNAME:CDT
DTSTART:20210314T080000
END:DAYLIGHT
BEGIN:STANDARD
TZOFFSETFROM:-0500
TZOFFSETTO:-0600
TZNAME:CST
DTSTART:20211107T070000
END:STANDARD
BEGIN:DAYLIGHT
TZOFFSETFROM:-0600
TZOFFSETTO:-0500
TZNAME:CDT
DTSTART:20220313T080000
END:DAYLIGHT
BEGIN:STANDARD
TZOFFSETFROM:-0500
TZOFFSETTO:-0600
TZNAME:CST
DTSTART:20221106T070000
END:STANDARD
BEGIN:DAYLIGHT
TZOFFSETFROM:-0600
TZOFFSETTO:-0500
TZNAME:CDT
DTSTART:20230312T080000
END:DAYLIGHT
BEGIN:STANDARD
TZOFFSETFROM:-0500
TZOFFSETTO:-0600
TZNAME:CST
DTSTART:20231105T070000
END:STANDARD
END:VTIMEZONE
BEGIN:VEVENT
DTSTART;TZID=America/Chicago:20220203T170000
DTEND;TZID=America/Chicago:20220423T200000
DTSTAMP:20260423T185344
CREATED:20210617T194046Z
LAST-MODIFIED:20210617T194046Z
UID:11402-1643907600-1650744000@www.mshumanities.org
SUMMARY:O.N. Pruitt's Possum Town: Photographing Trouble and Resilience in The American South
DESCRIPTION:This event is a traveling multimedia exhibition that reveals life in northeast Mississippi based on the photography of O.N. Pruitt. From 1915 to 1960\, Pruitt\, a white man in a racially segregated society\, recorded community celebrations as well as troubling violence. His work is distinguished from others of his time by his diligent and prolific depictions of the joys and sorrows of everyday people—both Black and white—in his hometown of Columbus\, locally referred to as “Possum Town.”
URL:https://www.mshumanities.org/event/o-n-pruitts-possum-town-photographing-trouble-and-resilience-in-the-american-south/
LOCATION:Columbus Arts Council\, Columbus \, MS 
END:VEVENT
BEGIN:VEVENT
DTSTART;TZID=America/Chicago:20220223T120000
DTEND;TZID=America/Chicago:20220223T133000
DTSTAMP:20260423T185344
CREATED:20220214T230846Z
LAST-MODIFIED:20220214T230846Z
UID:11446-1645617600-1645623000@www.mshumanities.org
SUMMARY:HTA - Effective Communication Amongst the College Campus Community by Generational Breakdown: A How-To Guide
DESCRIPTION:Humanities Teacher Award winner Shanelle Frazier (Coahoma Community College) will present her public lecture\, “Effective Communication Amongst the College Campus Community by Generational Breakdown: A How-To Guide.” This presentation will take place at the Whiteside Hall Lecture Room on Coahoma’s Clarksdale campus. Reception to follow. \n 
URL:https://www.mshumanities.org/event/hta-effective-communication-amongst-the-college-campus-community-by-generational-breakdown-a-how-to-guide/
LOCATION:Coahoma Community College\, 3240 Friars Point Road\, Clarksdale\, MS\, 38614\, United States
END:VEVENT
BEGIN:VEVENT
DTSTART;TZID=America/Chicago:20220223T183000
DTEND;TZID=America/Chicago:20220223T193000
DTSTAMP:20260423T185344
CREATED:20220215T192431Z
LAST-MODIFIED:20220215T192431Z
UID:11458-1645641000-1645644600@www.mshumanities.org
SUMMARY:Ideas on Tap - Reflecting Mississippi in Monuments
DESCRIPTION:Join us for this Ideas on Tap program titled “Reflecting Mississippi in Monuments”. This program will discuss in a broader sense: who has been represented in Mississippi’s monuments? Who hasn’t been? How can we use monuments to tell a fuller\, more accurate history of our state?\nSue Mobley of Monument Lab\, Kathleen Bond of the National Parks Service\, and Dennis Dahmer (son of Civil Rights Veteran Vernon Dahmer)\, will add new perspective to this ongoing conversation.\nThis program will be virtual and streamed from the MHC Facebook page on February 23 at 6:30pm
URL:https://www.mshumanities.org/event/ideas-on-tap-reflecting-mississippi-in-monuments/
LOCATION:Online Event
END:VEVENT
END:VCALENDAR