BEGIN:VCALENDAR
VERSION:2.0
PRODID:-//Mississippi Humanities Council - ECPv6.15.18//NONSGML v1.0//EN
CALSCALE:GREGORIAN
METHOD:PUBLISH
X-ORIGINAL-URL:https://www.mshumanities.org
X-WR-CALDESC:Events for Mississippi Humanities Council
REFRESH-INTERVAL;VALUE=DURATION:PT1H
X-Robots-Tag:noindex
X-PUBLISHED-TTL:PT1H
BEGIN:VTIMEZONE
TZID:America/Chicago
BEGIN:DAYLIGHT
TZOFFSETFROM:-0600
TZOFFSETTO:-0500
TZNAME:CDT
DTSTART:20210314T080000
END:DAYLIGHT
BEGIN:STANDARD
TZOFFSETFROM:-0500
TZOFFSETTO:-0600
TZNAME:CST
DTSTART:20211107T070000
END:STANDARD
BEGIN:DAYLIGHT
TZOFFSETFROM:-0600
TZOFFSETTO:-0500
TZNAME:CDT
DTSTART:20220313T080000
END:DAYLIGHT
BEGIN:STANDARD
TZOFFSETFROM:-0500
TZOFFSETTO:-0600
TZNAME:CST
DTSTART:20221106T070000
END:STANDARD
BEGIN:DAYLIGHT
TZOFFSETFROM:-0600
TZOFFSETTO:-0500
TZNAME:CDT
DTSTART:20230312T080000
END:DAYLIGHT
BEGIN:STANDARD
TZOFFSETFROM:-0500
TZOFFSETTO:-0600
TZNAME:CST
DTSTART:20231105T070000
END:STANDARD
END:VTIMEZONE
BEGIN:VEVENT
DTSTART;TZID=America/Chicago:20220203T170000
DTEND;TZID=America/Chicago:20220423T200000
DTSTAMP:20260423T185339
CREATED:20210617T194046Z
LAST-MODIFIED:20210617T194046Z
UID:11402-1643907600-1650744000@www.mshumanities.org
SUMMARY:O.N. Pruitt's Possum Town: Photographing Trouble and Resilience in The American South
DESCRIPTION:This event is a traveling multimedia exhibition that reveals life in northeast Mississippi based on the photography of O.N. Pruitt. From 1915 to 1960\, Pruitt\, a white man in a racially segregated society\, recorded community celebrations as well as troubling violence. His work is distinguished from others of his time by his diligent and prolific depictions of the joys and sorrows of everyday people—both Black and white—in his hometown of Columbus\, locally referred to as “Possum Town.”
URL:https://www.mshumanities.org/event/o-n-pruitts-possum-town-photographing-trouble-and-resilience-in-the-american-south/
LOCATION:Columbus Arts Council\, Columbus \, MS 
END:VEVENT
BEGIN:VEVENT
DTSTART;TZID=America/Chicago:20220224T140000
DTEND;TZID=America/Chicago:20220224T153000
DTSTAMP:20260423T185339
CREATED:20220215T155502Z
LAST-MODIFIED:20220215T155502Z
UID:11448-1645711200-1645716600@www.mshumanities.org
SUMMARY:HTA - Beauty and Poise: Women Writers of the Harlem Renaissance
DESCRIPTION:Humanities Teacher Award winner Lashonda Levy (Holmes Community College) will present her public lecture\, “Beauty and Poise: Women Writers of the Harlem Renaissance.” This presentation will take place at the McMorrough Library on Holmes’ Goodman Campus. Reception to follow. \nThe toxicity of the culture of display is not a new revelation. Shakespeare deals with it in Coriolanus. He shows how displaying oneself in a performative manner encourages duplicity and distortion\, whereas casting off one’s need to be seen allows one to live truthfully. His message reaches across time to encompass the dangers of some current social media trends.
URL:https://www.mshumanities.org/event/hta-beauty-and-poise-women-writers-of-the-harlem-renaissance/
LOCATION:Holmes Community College\, 1 Hill Street\, Goodman\, MS\, 39079\, United States
END:VEVENT
BEGIN:VEVENT
DTSTART;TZID=America/Chicago:20220224T183000
DTEND;TZID=America/Chicago:20220224T193000
DTSTAMP:20260423T185339
CREATED:20220118T172100Z
LAST-MODIFIED:20220118T172100Z
UID:11432-1645727400-1645731000@www.mshumanities.org
SUMMARY:Outkast and the Hip-Hop South
DESCRIPTION:Part of the Black History Month Lecture Series presented by The Mississippi University for Women. \nZoom Details located on the flyer.
URL:https://www.mshumanities.org/event/outkast-and-the-hip-hop-south/
LOCATION:Online Event
END:VEVENT
END:VCALENDAR