BEGIN:VCALENDAR
VERSION:2.0
PRODID:-//Mississippi Humanities Council - ECPv6.15.18//NONSGML v1.0//EN
CALSCALE:GREGORIAN
METHOD:PUBLISH
X-ORIGINAL-URL:https://www.mshumanities.org
X-WR-CALDESC:Events for Mississippi Humanities Council
REFRESH-INTERVAL;VALUE=DURATION:PT1H
X-Robots-Tag:noindex
X-PUBLISHED-TTL:PT1H
BEGIN:VTIMEZONE
TZID:America/Chicago
BEGIN:DAYLIGHT
TZOFFSETFROM:-0600
TZOFFSETTO:-0500
TZNAME:CDT
DTSTART:20210314T080000
END:DAYLIGHT
BEGIN:STANDARD
TZOFFSETFROM:-0500
TZOFFSETTO:-0600
TZNAME:CST
DTSTART:20211107T070000
END:STANDARD
BEGIN:DAYLIGHT
TZOFFSETFROM:-0600
TZOFFSETTO:-0500
TZNAME:CDT
DTSTART:20220313T080000
END:DAYLIGHT
BEGIN:STANDARD
TZOFFSETFROM:-0500
TZOFFSETTO:-0600
TZNAME:CST
DTSTART:20221106T070000
END:STANDARD
BEGIN:DAYLIGHT
TZOFFSETFROM:-0600
TZOFFSETTO:-0500
TZNAME:CDT
DTSTART:20230312T080000
END:DAYLIGHT
BEGIN:STANDARD
TZOFFSETFROM:-0500
TZOFFSETTO:-0600
TZNAME:CST
DTSTART:20231105T070000
END:STANDARD
END:VTIMEZONE
BEGIN:VEVENT
DTSTART;TZID=America/Chicago:20220203T170000
DTEND;TZID=America/Chicago:20220423T200000
DTSTAMP:20260423T201426
CREATED:20210617T194046Z
LAST-MODIFIED:20210617T194046Z
UID:11402-1643907600-1650744000@www.mshumanities.org
SUMMARY:O.N. Pruitt's Possum Town: Photographing Trouble and Resilience in The American South
DESCRIPTION:This event is a traveling multimedia exhibition that reveals life in northeast Mississippi based on the photography of O.N. Pruitt. From 1915 to 1960\, Pruitt\, a white man in a racially segregated society\, recorded community celebrations as well as troubling violence. His work is distinguished from others of his time by his diligent and prolific depictions of the joys and sorrows of everyday people—both Black and white—in his hometown of Columbus\, locally referred to as “Possum Town.”
URL:https://www.mshumanities.org/event/o-n-pruitts-possum-town-photographing-trouble-and-resilience-in-the-american-south/
LOCATION:Columbus Arts Council\, Columbus \, MS 
END:VEVENT
BEGIN:VEVENT
DTSTART;TZID=America/Chicago:20220307T180000
DTEND;TZID=America/Chicago:20220307T193000
DTSTAMP:20260423T201426
CREATED:20220215T163801Z
LAST-MODIFIED:20220215T163801Z
UID:11453-1646676000-1646681400@www.mshumanities.org
SUMMARY:HTA - Language as Music: What are we speaking exactly?
DESCRIPTION:Humanities Teacher Award winner Dr. Allen Clark (University of Mississippi) will present his public lecture\, “Language as Music: What are we speaking exactly?” This presentation will take place in the Tupelo Room within Bondurant Observatory on Ole Miss’ Campus. Q & A and reception to follow. \nHave you ever considered the similarities between language and music? Come join us for an evening where we embark on a journey exploring both the commonalities and the differences between these two forms of human communication. From Darwinian notions of evolutionary linguistic and musical expression found in our past\, to neuroscience’s recent discoveries about shared areas in the brain that process and store linguistic and musical data\, to questioning the very nature of how we learn languages and how the way we learn them differs quite substantially from the way we learn music.
URL:https://www.mshumanities.org/event/hta-language-as-music-what-are-we-speaking-exactly/
LOCATION:University of Mississippi\, P.O. Box 1848\, University\, MS\, 38677\, United States
END:VEVENT
END:VCALENDAR