BEGIN:VCALENDAR
VERSION:2.0
PRODID:-//Mississippi Humanities Council - ECPv6.15.18//NONSGML v1.0//EN
CALSCALE:GREGORIAN
METHOD:PUBLISH
X-ORIGINAL-URL:https://www.mshumanities.org
X-WR-CALDESC:Events for Mississippi Humanities Council
REFRESH-INTERVAL;VALUE=DURATION:PT1H
X-Robots-Tag:noindex
X-PUBLISHED-TTL:PT1H
BEGIN:VTIMEZONE
TZID:America/Chicago
BEGIN:DAYLIGHT
TZOFFSETFROM:-0600
TZOFFSETTO:-0500
TZNAME:CDT
DTSTART:20210314T080000
END:DAYLIGHT
BEGIN:STANDARD
TZOFFSETFROM:-0500
TZOFFSETTO:-0600
TZNAME:CST
DTSTART:20211107T070000
END:STANDARD
BEGIN:DAYLIGHT
TZOFFSETFROM:-0600
TZOFFSETTO:-0500
TZNAME:CDT
DTSTART:20220313T080000
END:DAYLIGHT
BEGIN:STANDARD
TZOFFSETFROM:-0500
TZOFFSETTO:-0600
TZNAME:CST
DTSTART:20221106T070000
END:STANDARD
BEGIN:DAYLIGHT
TZOFFSETFROM:-0600
TZOFFSETTO:-0500
TZNAME:CDT
DTSTART:20230312T080000
END:DAYLIGHT
BEGIN:STANDARD
TZOFFSETFROM:-0500
TZOFFSETTO:-0600
TZNAME:CST
DTSTART:20231105T070000
END:STANDARD
END:VTIMEZONE
BEGIN:VEVENT
DTSTART;TZID=America/Chicago:20220203T170000
DTEND;TZID=America/Chicago:20220423T200000
DTSTAMP:20260423T201416
CREATED:20210617T194046Z
LAST-MODIFIED:20210617T194046Z
UID:11402-1643907600-1650744000@www.mshumanities.org
SUMMARY:O.N. Pruitt's Possum Town: Photographing Trouble and Resilience in The American South
DESCRIPTION:This event is a traveling multimedia exhibition that reveals life in northeast Mississippi based on the photography of O.N. Pruitt. From 1915 to 1960\, Pruitt\, a white man in a racially segregated society\, recorded community celebrations as well as troubling violence. His work is distinguished from others of his time by his diligent and prolific depictions of the joys and sorrows of everyday people—both Black and white—in his hometown of Columbus\, locally referred to as “Possum Town.”
URL:https://www.mshumanities.org/event/o-n-pruitts-possum-town-photographing-trouble-and-resilience-in-the-american-south/
LOCATION:Columbus Arts Council\, Columbus \, MS 
END:VEVENT
BEGIN:VEVENT
DTSTART;TZID=America/Chicago:20220322T163000
DTEND;TZID=America/Chicago:20220326T150000
DTSTAMP:20260423T201416
CREATED:20220315T150258Z
LAST-MODIFIED:20220315T150258Z
UID:11471-1647966600-1648306800@www.mshumanities.org
SUMMARY:The Phillis Wheatley Poetry Festival 50th Anniversary Prologue
DESCRIPTION:
URL:https://www.mshumanities.org/event/the-phillis-wheatley-poetry-festival-50th-anniversary-prologue/
LOCATION:MS
END:VEVENT
BEGIN:VEVENT
DTSTART;TZID=America/Chicago:20220323T123000
DTEND;TZID=America/Chicago:20220323T140000
DTSTAMP:20260423T201416
CREATED:20220314T144411Z
LAST-MODIFIED:20220314T144411Z
UID:11465-1648038600-1648044000@www.mshumanities.org
SUMMARY:HTA – Stage Combat
DESCRIPTION:Hinds Community College – Reeves 165\, Raymond\, MS
URL:https://www.mshumanities.org/event/hta-stage-combat/
LOCATION:Hinds Community College – Raymond Campus\, 501 East Main Street\, Raymond\, 39154\, United States
END:VEVENT
BEGIN:VEVENT
DTSTART;TZID=America/Chicago:20220323T150000
DTEND;TZID=America/Chicago:20220323T163000
DTSTAMP:20260423T201416
CREATED:20220314T145854Z
LAST-MODIFIED:20220314T145854Z
UID:11467-1648047600-1648053000@www.mshumanities.org
SUMMARY:HTA – Jazz: The Fabric of Modern Music
DESCRIPTION:Tougaloo College – Bennie G. Thompson Academic Center\, Jackson\, MS \nIt is often easy to overlook or disregard the impact that jazz has on our society.  For as long as music has existed\, it has served various roles including but not limited to provide entertainment\, celebrate\, mourn\, meditation\, etc.  This presentation will focus on establishing the connection between the stylistic and performance practice impact of jazz on modern music.
URL:https://www.mshumanities.org/event/hta-jazz-the-fabric-of-modern-music/
LOCATION:Tougaloo College\, 500 W County Line Rd\, Tougaloo\, MS\, 39174\, United States
END:VEVENT
BEGIN:VEVENT
DTSTART;TZID=America/Chicago:20220323T180000
DTEND;TZID=America/Chicago:20220323T193000
DTSTAMP:20260423T201416
CREATED:20220314T145244Z
LAST-MODIFIED:20220314T145244Z
UID:11466-1648058400-1648063800@www.mshumanities.org
SUMMARY:HTA – The Future is Dreamed: Organizing the Clutter of Back Then to Make a Restful\, Collective Now
DESCRIPTION:Rust College – Doxey Auditorium\, Holly Springs\, MS \nThe past is always present in the now\, driving communal decisions\, policymaking\, and stories. Perhaps that fact is nowhere near as pressing as it is in locales recovering from war. The City of Holly Springs boasts over 50 Antebellum sites\, inclusive of two HBCUs. We could say that the town itself is a museum. But a museum is curated\, organized around storytelling that invites the patron into an almost physical experience of the object. It is performed\, lived. This missing context is accidentally turning our beloved objects and buildings into a pile of things and making it difficult to create an inclusive future. Working with my artist collective\, Earthseed\, we can began to ask ourselves the following questions: When does a hoard become a collection? When does a hoarder become a curator? When does a real estate investment become a time capsule? When does a museum become a closet full of forgotten items? What role can performance inquiry play in stitching together routes of exchange and understanding between objects\, between silences?
URL:https://www.mshumanities.org/event/hta-the-future-is-dreamed-organizing-the-clutter-of-back-then-to-make-a-restful-collective-now/
LOCATION:Scott
END:VEVENT
END:VCALENDAR