BEGIN:VCALENDAR
VERSION:2.0
PRODID:-//Mississippi Humanities Council - ECPv6.15.18//NONSGML v1.0//EN
CALSCALE:GREGORIAN
METHOD:PUBLISH
X-WR-CALNAME:Mississippi Humanities Council
X-ORIGINAL-URL:https://www.mshumanities.org
X-WR-CALDESC:Events for Mississippi Humanities Council
REFRESH-INTERVAL;VALUE=DURATION:PT1H
X-Robots-Tag:noindex
X-PUBLISHED-TTL:PT1H
BEGIN:VTIMEZONE
TZID:America/Chicago
BEGIN:DAYLIGHT
TZOFFSETFROM:-0600
TZOFFSETTO:-0500
TZNAME:CDT
DTSTART:20210314T080000
END:DAYLIGHT
BEGIN:STANDARD
TZOFFSETFROM:-0500
TZOFFSETTO:-0600
TZNAME:CST
DTSTART:20211107T070000
END:STANDARD
BEGIN:DAYLIGHT
TZOFFSETFROM:-0600
TZOFFSETTO:-0500
TZNAME:CDT
DTSTART:20220313T080000
END:DAYLIGHT
BEGIN:STANDARD
TZOFFSETFROM:-0500
TZOFFSETTO:-0600
TZNAME:CST
DTSTART:20221106T070000
END:STANDARD
BEGIN:DAYLIGHT
TZOFFSETFROM:-0600
TZOFFSETTO:-0500
TZNAME:CDT
DTSTART:20230312T080000
END:DAYLIGHT
BEGIN:STANDARD
TZOFFSETFROM:-0500
TZOFFSETTO:-0600
TZNAME:CST
DTSTART:20231105T070000
END:STANDARD
END:VTIMEZONE
BEGIN:VEVENT
DTSTART;TZID=America/Chicago:20220203T170000
DTEND;TZID=America/Chicago:20220423T200000
DTSTAMP:20260423T201359
CREATED:20210617T194046Z
LAST-MODIFIED:20210617T194046Z
UID:11402-1643907600-1650744000@www.mshumanities.org
SUMMARY:O.N. Pruitt's Possum Town: Photographing Trouble and Resilience in The American South
DESCRIPTION:This event is a traveling multimedia exhibition that reveals life in northeast Mississippi based on the photography of O.N. Pruitt. From 1915 to 1960\, Pruitt\, a white man in a racially segregated society\, recorded community celebrations as well as troubling violence. His work is distinguished from others of his time by his diligent and prolific depictions of the joys and sorrows of everyday people—both Black and white—in his hometown of Columbus\, locally referred to as “Possum Town.”
URL:https://www.mshumanities.org/event/o-n-pruitts-possum-town-photographing-trouble-and-resilience-in-the-american-south/
LOCATION:Columbus Arts Council\, Columbus \, MS 
END:VEVENT
BEGIN:VEVENT
DTSTART;TZID=America/Chicago:20220322T163000
DTEND;TZID=America/Chicago:20220326T150000
DTSTAMP:20260423T201359
CREATED:20220315T150258Z
LAST-MODIFIED:20220315T150258Z
UID:11471-1647966600-1648306800@www.mshumanities.org
SUMMARY:The Phillis Wheatley Poetry Festival 50th Anniversary Prologue
DESCRIPTION:
URL:https://www.mshumanities.org/event/the-phillis-wheatley-poetry-festival-50th-anniversary-prologue/
LOCATION:MS
END:VEVENT
BEGIN:VEVENT
DTSTART;TZID=America/Chicago:20220324T120000
DTEND;TZID=America/Chicago:20220324T130000
DTSTAMP:20260423T201359
CREATED:20220315T152753Z
LAST-MODIFIED:20220315T152753Z
UID:11472-1648123200-1648126800@www.mshumanities.org
SUMMARY:SB – Rockoff – Shalom Y’all: The History of Jews in Mississippi
DESCRIPTION:In the early 19th century\, Jewish immigrants from Europe began to arrive in the Magnolia State\, settling initially in towns along the Mississippi River. Concentrating in retail trade\, these Jews became visible symbols of economic modernity and market capitalism in Mississippi. Throughout much of their history\, Mississippi Jews have worked to lessen the cultural differences between themselves and their neighbors. In recent decades\, due to region-wide economic and demographic trends\, the Jewish population of Mississippi has declined and become concentrated in the state’s population centers.
URL:https://www.mshumanities.org/event/sb-rockoff-shalom-yall-the-history-of-jews-in-mississippi/
LOCATION:MS
END:VEVENT
BEGIN:VEVENT
DTSTART;TZID=America/Chicago:20220324T190000
DTEND;TZID=America/Chicago:20220324T203000
DTSTAMP:20260423T201359
CREATED:20220314T150126Z
LAST-MODIFIED:20220314T150126Z
UID:11468-1648148400-1648153800@www.mshumanities.org
SUMMARY:HTA – What Should MC Teach? Curricular Efficacy and the Core
DESCRIPTION:Mississippi College – Leland Speed Library Discovery Room\, Clinton\, MS \nBorrowing its title from one of Kodak’s early advertising slogans\, this lecture explores how vernacular photography has responded to the immense technological changes in the ways images are made\, distributed\, and consumed. It also looks at how these changes impact the teaching of both photography and visual literacy.
URL:https://www.mshumanities.org/event/hta-what-should-mc-teach-curricular-efficacy-and-the-core/
LOCATION:Mississippi College\, 200 Capitol St.\, Clinton\, MS\, 39056
END:VEVENT
END:VCALENDAR