BEGIN:VCALENDAR
VERSION:2.0
PRODID:-//Mississippi Humanities Council - ECPv6.15.18//NONSGML v1.0//EN
CALSCALE:GREGORIAN
METHOD:PUBLISH
X-ORIGINAL-URL:https://www.mshumanities.org
X-WR-CALDESC:Events for Mississippi Humanities Council
REFRESH-INTERVAL;VALUE=DURATION:PT1H
X-Robots-Tag:noindex
X-PUBLISHED-TTL:PT1H
BEGIN:VTIMEZONE
TZID:America/Chicago
BEGIN:DAYLIGHT
TZOFFSETFROM:-0600
TZOFFSETTO:-0500
TZNAME:CDT
DTSTART:20210314T080000
END:DAYLIGHT
BEGIN:STANDARD
TZOFFSETFROM:-0500
TZOFFSETTO:-0600
TZNAME:CST
DTSTART:20211107T070000
END:STANDARD
BEGIN:DAYLIGHT
TZOFFSETFROM:-0600
TZOFFSETTO:-0500
TZNAME:CDT
DTSTART:20220313T080000
END:DAYLIGHT
BEGIN:STANDARD
TZOFFSETFROM:-0500
TZOFFSETTO:-0600
TZNAME:CST
DTSTART:20221106T070000
END:STANDARD
BEGIN:DAYLIGHT
TZOFFSETFROM:-0600
TZOFFSETTO:-0500
TZNAME:CDT
DTSTART:20230312T080000
END:DAYLIGHT
BEGIN:STANDARD
TZOFFSETFROM:-0500
TZOFFSETTO:-0600
TZNAME:CST
DTSTART:20231105T070000
END:STANDARD
END:VTIMEZONE
BEGIN:VEVENT
DTSTART;TZID=America/Chicago:20220409T100000
DTEND;TZID=America/Chicago:20220911T180000
DTSTAMP:20260424T004822
CREATED:20220414T151440Z
LAST-MODIFIED:20220414T151440Z
UID:11483-1649498400-1662919200@www.mshumanities.org
SUMMARY:A Movement in Every Direction: Legacies of the Great Migration
DESCRIPTION:A Movement in Every Direction: Legacies of the Great Migration explores the profound impact of the Great Migration on the social and cultural life of the United States from historical and personal perspectives. Co-organized with the Baltimore Museum of Art\, the exhibition features newly commissioned works by 12 acclaimed Black artists across a variety of media. The Great Migration (1915-1970) saw more than six million Black Americans leave the South for cities across the United States. Informed by research\, explorations\, and conversations\, the artists’ works explore themes of perseverance\, self-determination\, and self-reliance\, along with the impacts this historical phenomenon continues to have today.
URL:https://www.mshumanities.org/event/a-movement-in-every-direction-legacies-of-the-great-migration/
LOCATION:MS
END:VEVENT
BEGIN:VEVENT
DTSTART;TZID=America/Chicago:20220725T173000
DTEND;TZID=America/Chicago:20220725T190000
DTSTAMP:20260424T004822
CREATED:20220721T140936Z
LAST-MODIFIED:20220721T140936Z
UID:11502-1658770200-1658775600@www.mshumanities.org
SUMMARY:What Does Freedom Mean to You? - Natchez
DESCRIPTION:After celebrating Juneteenth and our nation’s independence this year\, it’s clear that freedom is unique to all of us. Is there any common ground on the meaning of the term? The MHC wants to know\, so we are asking the question\, “what does freedom mean to you?” in a three-part Ideas on Tap series\, we fondly call the “Freedom Tour”. We are taking the program to Natchez\, Columbus\, and Jackson. We have created a panel for each conversation to address what freedom means through various lenses\, like immigration\, African Americans\, LGBTQ\, and women. We encourage our guests to share their perspectives of freedom and how they understand freedom differently. This series of conversations is a part of our More Perfect Union initiative\, which seeks to honor the Mississippians that challenged America and this state to provide freedom and justice for all.  The first stop of the tour will be in Natchez at the Natchez Brewing Company\, July 25th from 5:30-7pm. The second stop will be in Columbus at the Columbus Arts Council\, July 26th from 5:30-7pm. The final stop will be in Jackson at the Cultivation Food Hall\, August 1st at 5:30-7pm. Each program is free to all and hors d’oeuvres will be provided. For more details contact John Spann\, program and outreach officer.
URL:https://www.mshumanities.org/event/what-does-freedom-mean-to-you-natchez/
LOCATION:Natchez Brewing Company\, 207 High St\, Natchez\, MS\, 39120\, United States
END:VEVENT
END:VCALENDAR