BEGIN:VCALENDAR
VERSION:2.0
PRODID:-//Mississippi Humanities Council - ECPv6.15.18//NONSGML v1.0//EN
CALSCALE:GREGORIAN
METHOD:PUBLISH
X-ORIGINAL-URL:https://www.mshumanities.org
X-WR-CALDESC:Events for Mississippi Humanities Council
REFRESH-INTERVAL;VALUE=DURATION:PT1H
X-Robots-Tag:noindex
X-PUBLISHED-TTL:PT1H
BEGIN:VTIMEZONE
TZID:America/Chicago
BEGIN:DAYLIGHT
TZOFFSETFROM:-0600
TZOFFSETTO:-0500
TZNAME:CDT
DTSTART:20220313T080000
END:DAYLIGHT
BEGIN:STANDARD
TZOFFSETFROM:-0500
TZOFFSETTO:-0600
TZNAME:CST
DTSTART:20221106T070000
END:STANDARD
BEGIN:DAYLIGHT
TZOFFSETFROM:-0600
TZOFFSETTO:-0500
TZNAME:CDT
DTSTART:20230312T080000
END:DAYLIGHT
BEGIN:STANDARD
TZOFFSETFROM:-0500
TZOFFSETTO:-0600
TZNAME:CST
DTSTART:20231105T070000
END:STANDARD
BEGIN:DAYLIGHT
TZOFFSETFROM:-0600
TZOFFSETTO:-0500
TZNAME:CDT
DTSTART:20240310T080000
END:DAYLIGHT
BEGIN:STANDARD
TZOFFSETFROM:-0500
TZOFFSETTO:-0600
TZNAME:CST
DTSTART:20241103T070000
END:STANDARD
END:VTIMEZONE
BEGIN:VEVENT
DTSTART;VALUE=DATE:20230201
DTEND;VALUE=DATE:20230301
DTSTAMP:20260424T142639
CREATED:20230126T183918Z
LAST-MODIFIED:20230126T183918Z
UID:11535-1675209600-1677628799@www.mshumanities.org
SUMMARY:Mississippi Founders Exhibit
DESCRIPTION:Mississippi Founders\, sponsored by the Mississippi Humanities Council and the National Endowment for the Humanities “A More Perfect Union” grant\, will be hosted at Mississippi College for the month of February. The exhibit highlights twelve Mississippians who challenged America to be a more perfect union. The twelve individuals range from the Reconstruction period to the modern Civil Rights Movement\, including Fannie Lou Hamer\, Amzie Moore\, Annie Devine\, Medgar Evers\, Lawrence Guyot\, Ida B. Wells-Barnett\, Clarie Collins Harvey\, Aaron Henry\, John R. Lynch\, Thomas W. Stringer\, Unita Blackwell\, and Vernon Dahmer. The effort and sacrifices made by these individuals helped ensure democracy for all Mississippians. These individuals challenged the status-quo\, urging that the phrase “We the People” should include all people. For more information\, contact aastudies@mc.edu.
URL:https://www.mshumanities.org/event/mississippi-founders-exhibit-2/
LOCATION:Mississippi College\, 200 Capitol St.\, Clinton\, MS\, 39056
END:VEVENT
BEGIN:VEVENT
DTSTART;TZID=America/Chicago:20230211T120000
DTEND;TZID=America/Chicago:20230211T170000
DTSTAMP:20260424T142639
CREATED:20230120T161555Z
LAST-MODIFIED:20230120T161555Z
UID:11531-1676116800-1676134800@www.mshumanities.org
SUMMARY:Jackson Book Festival 2023
DESCRIPTION:The 2023 Jackson Book Fair will host Book Talks\, Book Sales and Signings\, Art/Craft Vendors\, Photo Ops\, Live Entertainment\, Black History Theme\, an Intellectual Revolution\, a literary family friendly affair. \nAdmission is free and open to the public \nPoetry Contest Level \nElementary School\, write at least a 4 line stanza \nMiddle School\, write at least 2 (4) line stanzas \nH.S. & Adult Contest\, write at least 4 mixed (line) stanzas 2 line minimum \nPoems must be written by the poet presenter. \nPublished poems by the contestant are admissible
URL:https://www.mshumanities.org/event/jackson-book-festival-2023/
LOCATION:Jackson Medical Mall\, 350 W. Woodrow Wilson Blvd.\, jackson\, MS\, 39213\, United States
ORGANIZER;CN="Community Library":MAILTO:comunitylibrary.ms@gmail.com
END:VEVENT
BEGIN:VEVENT
DTSTART;TZID=America/Chicago:20230211T140000
DTEND;TZID=America/Chicago:20230211T170000
DTSTAMP:20260424T142639
CREATED:20230110T170108Z
LAST-MODIFIED:20230110T170108Z
UID:11527-1676124000-1676134800@www.mshumanities.org
SUMMARY:The Natchez Deacons for Defense
DESCRIPTION:The Dr. John Banks House presents The Natchez Deacons for Defense: A Dramatization by Jamal McCullen. \nFor the first time in Natchez’ history\, a play will be held to tell the story of the Deacons for Defense and Justice in Natchez\, and their role in the civil rights movement of the 1960s. It is set for 2 p.m.\, Saturday\, Feb. 11\, at Rose Hill Missionary Baptist Church at 607 Madison St. \nThe event is free and open to the public. It will feature the creative talent of Jamal McCullen\, an educator in the Natchez-Adams School District. Hosted by Rose Hill Missionary Baptist Church and representatives of the Dr. John Bowman Banks Museum\, the Black History program will feature music from the 1960s and eight male students in grades eighth through 12th. \nMcCullen said the program “will give history lessons while entertaining. The music will help to give the story context.”
URL:https://www.mshumanities.org/event/the-natchez-deacons-for-defense/
LOCATION:Rose Hill Missionary Baptist Church\, 607 Madison St.\, Natchez\, MS\, 39120\, United States
ORGANIZER;CN="Dr. John Banks House":MAILTO:dcprater@bellsouth.net
END:VEVENT
END:VCALENDAR