BEGIN:VCALENDAR
VERSION:2.0
PRODID:-//Mississippi Humanities Council - ECPv6.15.18//NONSGML v1.0//EN
CALSCALE:GREGORIAN
METHOD:PUBLISH
X-ORIGINAL-URL:https://www.mshumanities.org
X-WR-CALDESC:Events for Mississippi Humanities Council
REFRESH-INTERVAL;VALUE=DURATION:PT1H
X-Robots-Tag:noindex
X-PUBLISHED-TTL:PT1H
BEGIN:VTIMEZONE
TZID:America/Chicago
BEGIN:DAYLIGHT
TZOFFSETFROM:-0600
TZOFFSETTO:-0500
TZNAME:CDT
DTSTART:20220313T080000
END:DAYLIGHT
BEGIN:STANDARD
TZOFFSETFROM:-0500
TZOFFSETTO:-0600
TZNAME:CST
DTSTART:20221106T070000
END:STANDARD
BEGIN:DAYLIGHT
TZOFFSETFROM:-0600
TZOFFSETTO:-0500
TZNAME:CDT
DTSTART:20230312T080000
END:DAYLIGHT
BEGIN:STANDARD
TZOFFSETFROM:-0500
TZOFFSETTO:-0600
TZNAME:CST
DTSTART:20231105T070000
END:STANDARD
BEGIN:DAYLIGHT
TZOFFSETFROM:-0600
TZOFFSETTO:-0500
TZNAME:CDT
DTSTART:20240310T080000
END:DAYLIGHT
BEGIN:STANDARD
TZOFFSETFROM:-0500
TZOFFSETTO:-0600
TZNAME:CST
DTSTART:20241103T070000
END:STANDARD
END:VTIMEZONE
BEGIN:VEVENT
DTSTART;VALUE=DATE:20230201
DTEND;VALUE=DATE:20230301
DTSTAMP:20260424T142638
CREATED:20230126T183918Z
LAST-MODIFIED:20230126T183918Z
UID:11535-1675209600-1677628799@www.mshumanities.org
SUMMARY:Mississippi Founders Exhibit
DESCRIPTION:Mississippi Founders\, sponsored by the Mississippi Humanities Council and the National Endowment for the Humanities “A More Perfect Union” grant\, will be hosted at Mississippi College for the month of February. The exhibit highlights twelve Mississippians who challenged America to be a more perfect union. The twelve individuals range from the Reconstruction period to the modern Civil Rights Movement\, including Fannie Lou Hamer\, Amzie Moore\, Annie Devine\, Medgar Evers\, Lawrence Guyot\, Ida B. Wells-Barnett\, Clarie Collins Harvey\, Aaron Henry\, John R. Lynch\, Thomas W. Stringer\, Unita Blackwell\, and Vernon Dahmer. The effort and sacrifices made by these individuals helped ensure democracy for all Mississippians. These individuals challenged the status-quo\, urging that the phrase “We the People” should include all people. For more information\, contact aastudies@mc.edu.
URL:https://www.mshumanities.org/event/mississippi-founders-exhibit-2/
LOCATION:Mississippi College\, 200 Capitol St.\, Clinton\, MS\, 39056
END:VEVENT
END:VCALENDAR