BEGIN:VCALENDAR
VERSION:2.0
PRODID:-//Mississippi Humanities Council - ECPv6.15.18//NONSGML v1.0//EN
CALSCALE:GREGORIAN
METHOD:PUBLISH
X-ORIGINAL-URL:https://www.mshumanities.org
X-WR-CALDESC:Events for Mississippi Humanities Council
REFRESH-INTERVAL;VALUE=DURATION:PT1H
X-Robots-Tag:noindex
X-PUBLISHED-TTL:PT1H
BEGIN:VTIMEZONE
TZID:America/Chicago
BEGIN:DAYLIGHT
TZOFFSETFROM:-0600
TZOFFSETTO:-0500
TZNAME:CDT
DTSTART:20220313T080000
END:DAYLIGHT
BEGIN:STANDARD
TZOFFSETFROM:-0500
TZOFFSETTO:-0600
TZNAME:CST
DTSTART:20221106T070000
END:STANDARD
BEGIN:DAYLIGHT
TZOFFSETFROM:-0600
TZOFFSETTO:-0500
TZNAME:CDT
DTSTART:20230312T080000
END:DAYLIGHT
BEGIN:STANDARD
TZOFFSETFROM:-0500
TZOFFSETTO:-0600
TZNAME:CST
DTSTART:20231105T070000
END:STANDARD
BEGIN:DAYLIGHT
TZOFFSETFROM:-0600
TZOFFSETTO:-0500
TZNAME:CDT
DTSTART:20240310T080000
END:DAYLIGHT
BEGIN:STANDARD
TZOFFSETFROM:-0500
TZOFFSETTO:-0600
TZNAME:CST
DTSTART:20241103T070000
END:STANDARD
END:VTIMEZONE
BEGIN:VEVENT
DTSTART;VALUE=DATE:20230201
DTEND;VALUE=DATE:20230301
DTSTAMP:20260424T142644
CREATED:20230126T183918Z
LAST-MODIFIED:20230126T183918Z
UID:11535-1675209600-1677628799@www.mshumanities.org
SUMMARY:Mississippi Founders Exhibit
DESCRIPTION:Mississippi Founders\, sponsored by the Mississippi Humanities Council and the National Endowment for the Humanities “A More Perfect Union” grant\, will be hosted at Mississippi College for the month of February. The exhibit highlights twelve Mississippians who challenged America to be a more perfect union. The twelve individuals range from the Reconstruction period to the modern Civil Rights Movement\, including Fannie Lou Hamer\, Amzie Moore\, Annie Devine\, Medgar Evers\, Lawrence Guyot\, Ida B. Wells-Barnett\, Clarie Collins Harvey\, Aaron Henry\, John R. Lynch\, Thomas W. Stringer\, Unita Blackwell\, and Vernon Dahmer. The effort and sacrifices made by these individuals helped ensure democracy for all Mississippians. These individuals challenged the status-quo\, urging that the phrase “We the People” should include all people. For more information\, contact aastudies@mc.edu.
URL:https://www.mshumanities.org/event/mississippi-founders-exhibit-2/
LOCATION:Mississippi College\, 200 Capitol St.\, Clinton\, MS\, 39056
END:VEVENT
BEGIN:VEVENT
DTSTART;VALUE=DATE:20230224
DTEND;VALUE=DATE:20230226
DTSTAMP:20260424T142644
CREATED:20230124T174720Z
LAST-MODIFIED:20230124T174720Z
UID:11533-1677196800-1677369599@www.mshumanities.org
SUMMARY:Natchez Literary & Cinema Celebration
DESCRIPTION:This annual celebration\, which began in 1990\, is a theme-based lecture series enhanced by films\, workshops\, exhibitions\, book signings\, concerts\, discussions and more. The conference is made possible in part by the Mississippi Humanities Council. Here’s a list of presenters: \nDr. Rebecca Hall\, Wake: The Hidden History of Women-Led Slave Revolts\n(Simon and Schuster\, 2021)\nDr. Jonathan White\, A House Built by Slaves\, African American Visitors to\nthe Lincoln White House (Rowman and Littlefi eld\, 2022)\nDr. Joan DeJean\, Mutinous Women\, How French Convicts Became\nFounding Mothers of the Gulf Coast (Basic Books\, 2022)\nDr. Kimberly Chrisman-Campbell\, Skirts\, Fashioning Modern Femininity\nin the Twentieth Century (St. Martin’s Press\, 2022)\nJulie Hines Mabus\, Confessions of a Southern Beauty Queen (University\nPress of MS\, 2022)\nDr. Elizabeth Bronwyn Boyd\, Southern Beauty\, Race\, Ritual\, and Memory\nin the Modern South (University of Georgia Press\, 2022)\nDr. Jodi Skipper\, Behind the Big House: Reconciling Slavery\, Race\, and\nHeritage in the U.S. South (University of Iowa Press\, 2022)\nAmy Argetsinger\, There She Was: The Secret History of Miss America (Atria/\nOne Signal Publishers\, 2021)\nKristen Green\, The Devil’s Half Acre\, the Untold Story of How One Woman\nLiberated the South’s Most Notorious Slave Jail (Seal Press\, 2022)\nDanielle Dreilinger\, The Secret History of Home Economics\, How\nTrailblazing Women Harnessed the Power of Home and Changed the Way\nWe Live (WW Norton and Co\, 2021)\nDr. Thavolia Glymph\, The Women’s Fight: The Civil War’s Battles for Home\,\nFreedom\, and Nation (University of North Carolina Press\, 2021)\nShelby Harriel\, Behind the Rifl e\, Women Soldiers in Civil War Mississippi\n(University Press of Mississippi\, 2019)\nDr. Rebecca Sharpless\, Grain and Fire\, a History of Baking in the American\nSouth (University of North Carolina Press\, 2022)\nDiane C. McPhail\, The Seamstress of New Orleans (A John Scognamiglio\nBook\, 2022) and The Abolitionist’s Daughter (A John Scognamiglio Book\,\n2019)\nDr. Sarah Adlakha\, She Wouldn’t Change a Thing (Forge Books\, 2021) and\nMidnight on the Marne (Forge Books\, 2022)\nValerie Martin\, Property (Vintage\, 2004)\, Mary Reilly (Vintage\, 2001)\, The\nGreat Divorce (Bantam\, 1995)\nChristine Wiltz\, The Last Madam: A Life in the New Orleans Underworld\n(Da Capo Press\, 2001)\nNicole A. Taylor\, Watermelon & Red Birds\, A Cookbook for Juneteenth and\nBlack Celebrations (Simon and Schuster\, 2022)\nDr. Gail Myers\, Rhythms of the Land\, a multimedia fi lm documentary\, 2022\nTimothy Givens\, The Saloon\, a fi lm documentary\, 2022
URL:https://www.mshumanities.org/event/natchez-literary-cinema-celebration/
LOCATION:Natchez Convention Center\, 211 Main Street\, Natchez\, MS\, 39120
END:VEVENT
BEGIN:VEVENT
DTSTART;TZID=America/Chicago:20230224T130000
DTEND;TZID=America/Chicago:20230224T140000
DTSTAMP:20260424T142644
CREATED:20230221T201503Z
LAST-MODIFIED:20230221T201503Z
UID:11543-1677243600-1677247200@www.mshumanities.org
SUMMARY:The Impact of Rap Music on Today's Youth
DESCRIPTION:Community Library Mississippi presents The Impact of Rap Music on Today’s Youth Community Speaking Series presented Malesha Smith live on Zoom and Facebook Live. Get your tickets at eventbrite.com  or email communitylibrary.ms@gmail.com for more information.
URL:https://www.mshumanities.org/event/the-impact-of-rap-music-on-todays-youth/
LOCATION:zoom
ORGANIZER;CN="Community Library":MAILTO:comunitylibrary.ms@gmail.com
END:VEVENT
END:VCALENDAR