BEGIN:VCALENDAR
VERSION:2.0
PRODID:-//Mississippi Humanities Council - ECPv6.15.18//NONSGML v1.0//EN
CALSCALE:GREGORIAN
METHOD:PUBLISH
X-ORIGINAL-URL:https://www.mshumanities.org
X-WR-CALDESC:Events for Mississippi Humanities Council
REFRESH-INTERVAL;VALUE=DURATION:PT1H
X-Robots-Tag:noindex
X-PUBLISHED-TTL:PT1H
BEGIN:VTIMEZONE
TZID:America/Chicago
BEGIN:DAYLIGHT
TZOFFSETFROM:-0600
TZOFFSETTO:-0500
TZNAME:CDT
DTSTART:20220313T080000
END:DAYLIGHT
BEGIN:STANDARD
TZOFFSETFROM:-0500
TZOFFSETTO:-0600
TZNAME:CST
DTSTART:20221106T070000
END:STANDARD
BEGIN:DAYLIGHT
TZOFFSETFROM:-0600
TZOFFSETTO:-0500
TZNAME:CDT
DTSTART:20230312T080000
END:DAYLIGHT
BEGIN:STANDARD
TZOFFSETFROM:-0500
TZOFFSETTO:-0600
TZNAME:CST
DTSTART:20231105T070000
END:STANDARD
BEGIN:DAYLIGHT
TZOFFSETFROM:-0600
TZOFFSETTO:-0500
TZNAME:CDT
DTSTART:20240310T080000
END:DAYLIGHT
BEGIN:STANDARD
TZOFFSETFROM:-0500
TZOFFSETTO:-0600
TZNAME:CST
DTSTART:20241103T070000
END:STANDARD
END:VTIMEZONE
BEGIN:VEVENT
DTSTART;TZID=America/Chicago:20230325T090000
DTEND;TZID=America/Chicago:20230325T170000
DTSTAMP:20260424T171001
CREATED:20230306T170844Z
LAST-MODIFIED:20230306T170844Z
UID:11549-1679734800-1679763600@www.mshumanities.org
SUMMARY:Banned Book Festival
DESCRIPTION:Millsaps College will host its very first Banned Books Festival on March 25\, 2023. Increasingly\, multitudes of books have been banned from public school libraries for their subject matter—for example\, exploring racial justice and injustice\, documenting investigative reporting and navigating difficult experiences through memoir. In reaction to these rising bans\, the Medgar and Myrlie Evers Institute\, the Mississippi Center for Investigative Reporting\, the Mississippi Humanities Council\, the Millsaps College Truth\, Racial Healing and Transformation Campus Center (TRHT)\, and the ACLU are collaborating to sponsor a festival with authors of banned books sharing their stories. Join authors Angie Thomas\, Julie K. Brown and Rick Bragg\, and other to hear them discuss authorship\, publication and banning. This event will begin at 9:00 a.m. and take place in various locations on the Millsaps campus.
URL:https://www.mshumanities.org/event/banned-book-festival/
LOCATION:Millsaps College\, 1701 N. State Street\, Jackson\, Mississippi\, 39202
END:VEVENT
END:VCALENDAR