BEGIN:VCALENDAR
VERSION:2.0
PRODID:-//Mississippi Humanities Council - ECPv6.15.18//NONSGML v1.0//EN
CALSCALE:GREGORIAN
METHOD:PUBLISH
X-ORIGINAL-URL:https://www.mshumanities.org
X-WR-CALDESC:Events for Mississippi Humanities Council
REFRESH-INTERVAL;VALUE=DURATION:PT1H
X-Robots-Tag:noindex
X-PUBLISHED-TTL:PT1H
BEGIN:VTIMEZONE
TZID:America/Chicago
BEGIN:DAYLIGHT
TZOFFSETFROM:-0600
TZOFFSETTO:-0500
TZNAME:CDT
DTSTART:20220313T080000
END:DAYLIGHT
BEGIN:STANDARD
TZOFFSETFROM:-0500
TZOFFSETTO:-0600
TZNAME:CST
DTSTART:20221106T070000
END:STANDARD
BEGIN:DAYLIGHT
TZOFFSETFROM:-0600
TZOFFSETTO:-0500
TZNAME:CDT
DTSTART:20230312T080000
END:DAYLIGHT
BEGIN:STANDARD
TZOFFSETFROM:-0500
TZOFFSETTO:-0600
TZNAME:CST
DTSTART:20231105T070000
END:STANDARD
BEGIN:DAYLIGHT
TZOFFSETFROM:-0600
TZOFFSETTO:-0500
TZNAME:CDT
DTSTART:20240310T080000
END:DAYLIGHT
BEGIN:STANDARD
TZOFFSETFROM:-0500
TZOFFSETTO:-0600
TZNAME:CST
DTSTART:20241103T070000
END:STANDARD
END:VTIMEZONE
BEGIN:VEVENT
DTSTART;TZID=America/Chicago:20230512T120000
DTEND;TZID=America/Chicago:20230512T160000
DTSTAMP:20260424T181727
CREATED:20230428T182012Z
LAST-MODIFIED:20230428T182012Z
UID:11555-1683892800-1683907200@www.mshumanities.org
SUMMARY:Cottrell Street Festival Symposium
DESCRIPTION:Cottrell Street is one of the most historic streets in the City of WestPoint and leaders wanted to spread some of the history to those who don’t know much about it. \nCottrell Street used to be the life of West Point in the 50’s and 60’s but things died down after that. Now town leaders and residents want to restore the celebration and tell the story of the street at a symposium held during the weekend festival help May 12\, 2023. The symposium will educate the community of the importance of and education THEN during segregation and integration compared to NOW.
URL:https://www.mshumanities.org/event/cottrell-street-festival-symposium/
LOCATION:northside christian church\, 155 Cottrell Street\, West Point\, MS\, 39773\, Andorra
END:VEVENT
END:VCALENDAR