BEGIN:VCALENDAR
VERSION:2.0
PRODID:-//Mississippi Humanities Council - ECPv6.15.18//NONSGML v1.0//EN
CALSCALE:GREGORIAN
METHOD:PUBLISH
X-WR-CALNAME:Mississippi Humanities Council
X-ORIGINAL-URL:https://www.mshumanities.org
X-WR-CALDESC:Events for Mississippi Humanities Council
REFRESH-INTERVAL;VALUE=DURATION:PT1H
X-Robots-Tag:noindex
X-PUBLISHED-TTL:PT1H
BEGIN:VTIMEZONE
TZID:America/Chicago
BEGIN:DAYLIGHT
TZOFFSETFROM:-0600
TZOFFSETTO:-0500
TZNAME:CDT
DTSTART:20220313T080000
END:DAYLIGHT
BEGIN:STANDARD
TZOFFSETFROM:-0500
TZOFFSETTO:-0600
TZNAME:CST
DTSTART:20221106T070000
END:STANDARD
BEGIN:DAYLIGHT
TZOFFSETFROM:-0600
TZOFFSETTO:-0500
TZNAME:CDT
DTSTART:20230312T080000
END:DAYLIGHT
BEGIN:STANDARD
TZOFFSETFROM:-0500
TZOFFSETTO:-0600
TZNAME:CST
DTSTART:20231105T070000
END:STANDARD
BEGIN:DAYLIGHT
TZOFFSETFROM:-0600
TZOFFSETTO:-0500
TZNAME:CDT
DTSTART:20240310T080000
END:DAYLIGHT
BEGIN:STANDARD
TZOFFSETFROM:-0500
TZOFFSETTO:-0600
TZNAME:CST
DTSTART:20241103T070000
END:STANDARD
END:VTIMEZONE
BEGIN:VEVENT
DTSTART;TZID=America/Chicago:20230605T080000
DTEND;TZID=America/Chicago:20230630T140000
DTSTAMP:20260424T192549
CREATED:20230517T150924Z
LAST-MODIFIED:20230517T150924Z
UID:11556-1685952000-1688133600@www.mshumanities.org
SUMMARY:E-STEAM Summer Camp
DESCRIPTION:The Center for Social Entrepreneurship will provide a free E-STEAM Summer Camp to promote entrepreneurship\, STEAM\, and the arts 4th and 5th graders residing in West Jackson\, MS. The four week camp is scheduled for June 2023 with daily sessions Monday-Friday 8:—2:00. Cap will be help at iVilliage Community House to provide easy access for neighborhood children.
URL:https://www.mshumanities.org/event/e-steam-summer-camp/
LOCATION:iVilliage Community House\, 1225 Robinson Street\, Jackson\, MS\, 39203\, United States
ORGANIZER;CN="center for social entrepreneurship":MAILTO:vilas@cse-ms.org
END:VEVENT
BEGIN:VEVENT
DTSTART;TZID=America/Chicago:20230616T110000
DTEND;TZID=America/Chicago:20230616T140000
DTSTAMP:20260424T192549
CREATED:20230612T210140Z
LAST-MODIFIED:20230612T210140Z
UID:11564-1686913200-1686924000@www.mshumanities.org
SUMMARY:The Legacy of Juneteenth: Are We Free?
DESCRIPTION:What is the legacy of freedom in Mississippi and what challenges are Black Mississippians facing today? Join us for this enlightening community conversation on the legacy of Juneteenth with some of our brightest scholars. This conversation will be focused on Black Mississippian’s liberation story and try to answer the question\, “Are We Really Free?” \n  \nThe program will last from 11am-2pm. We will start the conversation at 11:15am and have it last till 12:30pm. A 15minute Q&A session will follow. Free Food will be served.
URL:https://www.mshumanities.org/event/the-legacy-of-juneteenth-are-we-free/
LOCATION:The Orchid Bed and Breakfast\, 628 North State Street\, Jackson\, MS\, 39202
END:VEVENT
END:VCALENDAR