BEGIN:VCALENDAR
VERSION:2.0
PRODID:-//Mississippi Humanities Council - ECPv6.15.18//NONSGML v1.0//EN
CALSCALE:GREGORIAN
METHOD:PUBLISH
X-ORIGINAL-URL:https://www.mshumanities.org
X-WR-CALDESC:Events for Mississippi Humanities Council
REFRESH-INTERVAL;VALUE=DURATION:PT1H
X-Robots-Tag:noindex
X-PUBLISHED-TTL:PT1H
BEGIN:VTIMEZONE
TZID:America/Chicago
BEGIN:DAYLIGHT
TZOFFSETFROM:-0600
TZOFFSETTO:-0500
TZNAME:CDT
DTSTART:20220313T080000
END:DAYLIGHT
BEGIN:STANDARD
TZOFFSETFROM:-0500
TZOFFSETTO:-0600
TZNAME:CST
DTSTART:20221106T070000
END:STANDARD
BEGIN:DAYLIGHT
TZOFFSETFROM:-0600
TZOFFSETTO:-0500
TZNAME:CDT
DTSTART:20230312T080000
END:DAYLIGHT
BEGIN:STANDARD
TZOFFSETFROM:-0500
TZOFFSETTO:-0600
TZNAME:CST
DTSTART:20231105T070000
END:STANDARD
BEGIN:DAYLIGHT
TZOFFSETFROM:-0600
TZOFFSETTO:-0500
TZNAME:CDT
DTSTART:20240310T080000
END:DAYLIGHT
BEGIN:STANDARD
TZOFFSETFROM:-0500
TZOFFSETTO:-0600
TZNAME:CST
DTSTART:20241103T070000
END:STANDARD
END:VTIMEZONE
BEGIN:VEVENT
DTSTART;TZID=America/Chicago:20230717T090000
DTEND;TZID=America/Chicago:20230724T160000
DTSTAMP:20260424T203241
CREATED:20230629T165157Z
LAST-MODIFIED:20230629T165157Z
UID:11572-1689584400-1690214400@www.mshumanities.org
SUMMARY:Landmarks in Humanities: Teaching Architecture\, History and Culture with Historic Places
DESCRIPTION:Free summer youth workshop engaging middle school students with local architecture\, history and culture. Programming will take place at The Belmont 1857\, a former plantation home in Greenville and the Grammy Museum Mississippi.
URL:https://www.mshumanities.org/event/landmarks-in-humanities-teaching-architecture-history-and-culture-with-historic-places-2/
LOCATION:The Belmont 1857\, 3498 MS-1\, Wayside\, MS\, 38780
ATTACH;FMTTYPE=image/png:https://www.mshumanities.org/wp-content/uploads/2023/06/gql792js.png
ORGANIZER;CN="the alex foundation":MAILTO:angela@alex-foundation.org
END:VEVENT
END:VCALENDAR