BEGIN:VCALENDAR
VERSION:2.0
PRODID:-//Mississippi Humanities Council - ECPv6.15.18//NONSGML v1.0//EN
CALSCALE:GREGORIAN
METHOD:PUBLISH
X-WR-CALNAME:Mississippi Humanities Council
X-ORIGINAL-URL:https://www.mshumanities.org
X-WR-CALDESC:Events for Mississippi Humanities Council
REFRESH-INTERVAL;VALUE=DURATION:PT1H
X-Robots-Tag:noindex
X-PUBLISHED-TTL:PT1H
BEGIN:VTIMEZONE
TZID:America/Chicago
BEGIN:DAYLIGHT
TZOFFSETFROM:-0600
TZOFFSETTO:-0500
TZNAME:CDT
DTSTART:20220313T080000
END:DAYLIGHT
BEGIN:STANDARD
TZOFFSETFROM:-0500
TZOFFSETTO:-0600
TZNAME:CST
DTSTART:20221106T070000
END:STANDARD
BEGIN:DAYLIGHT
TZOFFSETFROM:-0600
TZOFFSETTO:-0500
TZNAME:CDT
DTSTART:20230312T080000
END:DAYLIGHT
BEGIN:STANDARD
TZOFFSETFROM:-0500
TZOFFSETTO:-0600
TZNAME:CST
DTSTART:20231105T070000
END:STANDARD
BEGIN:DAYLIGHT
TZOFFSETFROM:-0600
TZOFFSETTO:-0500
TZNAME:CDT
DTSTART:20240310T080000
END:DAYLIGHT
BEGIN:STANDARD
TZOFFSETFROM:-0500
TZOFFSETTO:-0600
TZNAME:CST
DTSTART:20241103T070000
END:STANDARD
END:VTIMEZONE
BEGIN:VEVENT
DTSTART;TZID=America/Chicago:20230724T090000
DTEND;TZID=America/Chicago:20230728T160000
DTSTAMP:20260424T203131
CREATED:20230629T165354Z
LAST-MODIFIED:20230629T165354Z
UID:11573-1690189200-1690560000@www.mshumanities.org
SUMMARY:Landmarks in Humanities: Teaching Architecture\, History and Culture with Historic Places
DESCRIPTION:Free summer youth workshop engaging middle school students with local architecture\, history and culture.\nProgramming will take place at The Belmont 1857\, a former plantation home in Greenville and the Grammy Museum Mississippi.
URL:https://www.mshumanities.org/event/landmarks-in-humanities-teaching-architecture-history-and-culture-with-historic-places-3/
LOCATION:GRAMMY Museum Mississippi\, 800 West Sunflower Rd\, Cleveland \, MS\, 38732\, United States
ORGANIZER;CN="the alex foundation":MAILTO:angela@alex-foundation.org
END:VEVENT
BEGIN:VEVENT
DTSTART;TZID=America/Chicago:20230727T173000
DTEND;TZID=America/Chicago:20230727T190000
DTSTAMP:20260424T203131
CREATED:20230710T143624Z
LAST-MODIFIED:20230710T143624Z
UID:11578-1690479000-1690484400@www.mshumanities.org
SUMMARY:Ideas on Tap
DESCRIPTION:Our next Ideas on Tap event will be July 27th from 5:30 – 7pm at Soule Coffee and Bubble Tea on Old Canton Road. The topic will be “Whats going on with boys today?” and will feature a discussion panel and question/answer session. To learn more about Ideas on Tap\, contact our program and outreach officer\, John Spann at jspann@mhc.state.ms.us \n 
URL:https://www.mshumanities.org/event/ideas-on-tap-6/
LOCATION:Soule Coffee and Bubble Tea\, 2943 Old Canton Road\, jackson\, MS\, 39216
END:VEVENT
END:VCALENDAR