BEGIN:VCALENDAR
VERSION:2.0
PRODID:-//Mississippi Humanities Council - ECPv6.15.18//NONSGML v1.0//EN
CALSCALE:GREGORIAN
METHOD:PUBLISH
X-ORIGINAL-URL:https://www.mshumanities.org
X-WR-CALDESC:Events for Mississippi Humanities Council
REFRESH-INTERVAL;VALUE=DURATION:PT1H
X-Robots-Tag:noindex
X-PUBLISHED-TTL:PT1H
BEGIN:VTIMEZONE
TZID:America/Chicago
BEGIN:DAYLIGHT
TZOFFSETFROM:-0600
TZOFFSETTO:-0500
TZNAME:CDT
DTSTART:20220313T080000
END:DAYLIGHT
BEGIN:STANDARD
TZOFFSETFROM:-0500
TZOFFSETTO:-0600
TZNAME:CST
DTSTART:20221106T070000
END:STANDARD
BEGIN:DAYLIGHT
TZOFFSETFROM:-0600
TZOFFSETTO:-0500
TZNAME:CDT
DTSTART:20230312T080000
END:DAYLIGHT
BEGIN:STANDARD
TZOFFSETFROM:-0500
TZOFFSETTO:-0600
TZNAME:CST
DTSTART:20231105T070000
END:STANDARD
BEGIN:DAYLIGHT
TZOFFSETFROM:-0600
TZOFFSETTO:-0500
TZNAME:CDT
DTSTART:20240310T080000
END:DAYLIGHT
BEGIN:STANDARD
TZOFFSETFROM:-0500
TZOFFSETTO:-0600
TZNAME:CST
DTSTART:20241103T070000
END:STANDARD
END:VTIMEZONE
BEGIN:VEVENT
DTSTART;TZID=America/Chicago:20230811T100000
DTEND;TZID=America/Chicago:20230811T170000
DTSTAMP:20260424T214116
CREATED:20230628T161914Z
LAST-MODIFIED:20230628T161914Z
UID:11565-1691748000-1691773200@www.mshumanities.org
SUMMARY:Highway 61: Traveling America’s Music Highway
DESCRIPTION:Highway 61: Traveling America’s Music Highway exhibit will tell the important history of Highway 61 and its impact on American music.  The exhibit will be on display at GRAMMY Museum Mississippi in Cleveland\, MS\, through 2024. \nAugust 11th – Exhibit opens to the public at 10:00 AM \n 
URL:https://www.mshumanities.org/event/highway-61-traveling-americas-music-highway/
LOCATION:GRAMMY Museum Mississippi\, 800 West Sunflower Rd\, Cleveland \, MS\, 38732\, United States
END:VEVENT
END:VCALENDAR