BEGIN:VCALENDAR
VERSION:2.0
PRODID:-//Mississippi Humanities Council - ECPv6.15.18//NONSGML v1.0//EN
CALSCALE:GREGORIAN
METHOD:PUBLISH
X-WR-CALNAME:Mississippi Humanities Council
X-ORIGINAL-URL:https://www.mshumanities.org
X-WR-CALDESC:Events for Mississippi Humanities Council
REFRESH-INTERVAL;VALUE=DURATION:PT1H
X-Robots-Tag:noindex
X-PUBLISHED-TTL:PT1H
BEGIN:VTIMEZONE
TZID:America/Chicago
BEGIN:DAYLIGHT
TZOFFSETFROM:-0600
TZOFFSETTO:-0500
TZNAME:CDT
DTSTART:20220313T080000
END:DAYLIGHT
BEGIN:STANDARD
TZOFFSETFROM:-0500
TZOFFSETTO:-0600
TZNAME:CST
DTSTART:20221106T070000
END:STANDARD
BEGIN:DAYLIGHT
TZOFFSETFROM:-0600
TZOFFSETTO:-0500
TZNAME:CDT
DTSTART:20230312T080000
END:DAYLIGHT
BEGIN:STANDARD
TZOFFSETFROM:-0500
TZOFFSETTO:-0600
TZNAME:CST
DTSTART:20231105T070000
END:STANDARD
BEGIN:DAYLIGHT
TZOFFSETFROM:-0600
TZOFFSETTO:-0500
TZNAME:CDT
DTSTART:20240310T080000
END:DAYLIGHT
BEGIN:STANDARD
TZOFFSETFROM:-0500
TZOFFSETTO:-0600
TZNAME:CST
DTSTART:20241103T070000
END:STANDARD
END:VTIMEZONE
BEGIN:VEVENT
DTSTART;TZID=America/Chicago:20230923T130000
DTEND;TZID=America/Chicago:20230923T150000
DTSTAMP:20260424T225157
CREATED:20230210T174157Z
LAST-MODIFIED:20230210T174157Z
UID:11539-1695474000-1695481200@www.mshumanities.org
SUMMARY:Plant-Based Pigments with Robin Whitfield
DESCRIPTION:Medicine Wheel Garden Event at USM Hattiesburg Campus\n\n\nThe Center of American Indian Research and Studies (CAIRS) at The University of Southern Mississippi (USM) is partnering with the Mississippi Humanities Council\, WECAN (Women’s Earth & Climate Action Network) and the Telenutrition Center to present several events throughout the year at the Medicine Wheel Garden\, located on the USM Hattiesburg campus behind the Liberal Arts Building. \nDr. Tammy Greer\, an associate professor of psychology who serves as director for CAIRS\, developed the Medicine Wheel Garden in 2005 along with others to highlight the plants that were used by the indigenous peoples of this area\, and to promote awareness of the rich histories and cultures of Southeastern Native Americans. \nAll events begin at 1 p.m. at the Medicine Wheel Garden; native plant-based snacks will be provided at each event. Members of the university and local communities are invited to these free events. \n*   Sept. 23: Plant-Based Pigments with Robin Whitfield \n*   Nov. 11: Plant Medicine with Jenna Mae
URL:https://www.mshumanities.org/event/plant-based-pigments-with-robin-whitfield/
LOCATION:USM Liberal Arts Building\, 114 N. 31st Ave.\, Hattiesburg\, MS\, 39401
ATTACH;FMTTYPE=image/jpeg:https://www.mshumanities.org/wp-content/uploads/2023/02/medicine-wheel-events.jpeg
END:VEVENT
END:VCALENDAR