BEGIN:VCALENDAR
VERSION:2.0
PRODID:-//Mississippi Humanities Council - ECPv6.15.18//NONSGML v1.0//EN
CALSCALE:GREGORIAN
METHOD:PUBLISH
X-WR-CALNAME:Mississippi Humanities Council
X-ORIGINAL-URL:https://www.mshumanities.org
X-WR-CALDESC:Events for Mississippi Humanities Council
REFRESH-INTERVAL;VALUE=DURATION:PT1H
X-Robots-Tag:noindex
X-PUBLISHED-TTL:PT1H
BEGIN:VTIMEZONE
TZID:America/Chicago
BEGIN:DAYLIGHT
TZOFFSETFROM:-0600
TZOFFSETTO:-0500
TZNAME:CDT
DTSTART:20220313T080000
END:DAYLIGHT
BEGIN:STANDARD
TZOFFSETFROM:-0500
TZOFFSETTO:-0600
TZNAME:CST
DTSTART:20221106T070000
END:STANDARD
BEGIN:DAYLIGHT
TZOFFSETFROM:-0600
TZOFFSETTO:-0500
TZNAME:CDT
DTSTART:20230312T080000
END:DAYLIGHT
BEGIN:STANDARD
TZOFFSETFROM:-0500
TZOFFSETTO:-0600
TZNAME:CST
DTSTART:20231105T070000
END:STANDARD
BEGIN:DAYLIGHT
TZOFFSETFROM:-0600
TZOFFSETTO:-0500
TZNAME:CDT
DTSTART:20240310T080000
END:DAYLIGHT
BEGIN:STANDARD
TZOFFSETFROM:-0500
TZOFFSETTO:-0600
TZNAME:CST
DTSTART:20241103T070000
END:STANDARD
END:VTIMEZONE
BEGIN:VEVENT
DTSTART;TZID=America/Chicago:20230926T173000
DTEND;TZID=America/Chicago:20230926T193000
DTSTAMP:20260424T225155
CREATED:20230918T162705Z
LAST-MODIFIED:20230918T162705Z
UID:11589-1695749400-1695756600@www.mshumanities.org
SUMMARY:Speaker's Bureau: "Murder on Pretty Creek: New Revelations on an Old Case"
DESCRIPTION:The killing of Ben Chester White\, one of the brutal murders that occurred in Natchez during the civil rights movement in the 1960s\, will be discussed by Stanley Nelson at the Tuesday\, Sept. 26\, meeting of the Natchez Historical Society. The meeting begins with a social at 5:30 p.m. and Nelson’s presentation at 6 p.m.\, at the Historic Natchez Foundation at 108 S. Commerce St. The event is free to the public. \nNelson’s presentation is titled\, “Murder on Pretty Creek: New Revelations on an Old Case.” It will focus on White\, the 67-year-old Black man who was murdered in 1966 by the Ku Klux Klan. Nelson will talk about his alleged killers\, two of whom\, Ernest Avants and James Lloyd Jones\, were charged but not convicted in 1967; and a third one\, Claude Fuller\, who was never brought to trial.
URL:https://www.mshumanities.org/event/speakers-bureau-murder-on-pretty-creek-new-revelations-on-an-old-case/
LOCATION:Historic Natchez Foundation\, 108 S. Commerce St.\, Natchez\, MS\, United States
END:VEVENT
END:VCALENDAR