BEGIN:VCALENDAR
VERSION:2.0
PRODID:-//Mississippi Humanities Council - ECPv6.15.18//NONSGML v1.0//EN
CALSCALE:GREGORIAN
METHOD:PUBLISH
X-ORIGINAL-URL:https://www.mshumanities.org
X-WR-CALDESC:Events for Mississippi Humanities Council
REFRESH-INTERVAL;VALUE=DURATION:PT1H
X-Robots-Tag:noindex
X-PUBLISHED-TTL:PT1H
BEGIN:VTIMEZONE
TZID:America/Chicago
BEGIN:DAYLIGHT
TZOFFSETFROM:-0600
TZOFFSETTO:-0500
TZNAME:CDT
DTSTART:20220313T080000
END:DAYLIGHT
BEGIN:STANDARD
TZOFFSETFROM:-0500
TZOFFSETTO:-0600
TZNAME:CST
DTSTART:20221106T070000
END:STANDARD
BEGIN:DAYLIGHT
TZOFFSETFROM:-0600
TZOFFSETTO:-0500
TZNAME:CDT
DTSTART:20230312T080000
END:DAYLIGHT
BEGIN:STANDARD
TZOFFSETFROM:-0500
TZOFFSETTO:-0600
TZNAME:CST
DTSTART:20231105T070000
END:STANDARD
BEGIN:DAYLIGHT
TZOFFSETFROM:-0600
TZOFFSETTO:-0500
TZNAME:CDT
DTSTART:20240310T080000
END:DAYLIGHT
BEGIN:STANDARD
TZOFFSETFROM:-0500
TZOFFSETTO:-0600
TZNAME:CST
DTSTART:20241103T070000
END:STANDARD
END:VTIMEZONE
BEGIN:VEVENT
DTSTART;TZID=America/Chicago:20230927T080000
DTEND;TZID=America/Chicago:20230927T170000
DTSTAMP:20260424T225335
CREATED:20230605T194852Z
LAST-MODIFIED:20230605T194852Z
UID:11562-1695801600-1695834000@www.mshumanities.org
SUMMARY:MS Delta Civil Rights Heritage Tourism Summit
DESCRIPTION:About the Summit\nAs a follow up to these events\, MS Delta NHA/Delta Center\, BB King Museum and Delta Interpretive Center\, Mississippi Humanities Council\, Mound Bayou Museum\, the National Park Service\, and other regional partners are collaborating to host a Civil Rights Heritage Tourism Summit. The Summit is scheduled to take place on Wednesday\, September 27\, 2023\, at BB King Museum and Delta Interpretive Center and the historic\, recently restored Club Ebony in Indianola\, MS. \nIn April 2022\, the Mississippi Delta National Heritage Area (MS Delta NHA) at Delta State University’s Delta Center for Culture and Learning hosted the Alliance of National Heritage Areas Spring Meeting. The meeting included an inclusive storytelling and community-based tourism development session with a special focus on African American Civil Rights heritage in the Mississippi Delta. The session was facilitated by Dr. Déanda Johnson\, National Park Service Civil Rights Historian for the Southeast Region. MS Delta NHA is the first NHA to be designated to the National Park Service’s African American Civil Rights Network
URL:https://www.mshumanities.org/event/ms-delta-civil-rights-heritage-tourism-summit/
LOCATION:BB King Museum\, 400 Second Street\, Indianola\, MS\, 38751\, United States
END:VEVENT
END:VCALENDAR