BEGIN:VCALENDAR
VERSION:2.0
PRODID:-//Mississippi Humanities Council - ECPv6.15.18//NONSGML v1.0//EN
CALSCALE:GREGORIAN
METHOD:PUBLISH
X-WR-CALNAME:Mississippi Humanities Council
X-ORIGINAL-URL:https://www.mshumanities.org
X-WR-CALDESC:Events for Mississippi Humanities Council
REFRESH-INTERVAL;VALUE=DURATION:PT1H
X-Robots-Tag:noindex
X-PUBLISHED-TTL:PT1H
BEGIN:VTIMEZONE
TZID:America/Chicago
BEGIN:DAYLIGHT
TZOFFSETFROM:-0600
TZOFFSETTO:-0500
TZNAME:CDT
DTSTART:20250309T080000
END:DAYLIGHT
BEGIN:STANDARD
TZOFFSETFROM:-0500
TZOFFSETTO:-0600
TZNAME:CST
DTSTART:20251102T070000
END:STANDARD
BEGIN:DAYLIGHT
TZOFFSETFROM:-0600
TZOFFSETTO:-0500
TZNAME:CDT
DTSTART:20260308T080000
END:DAYLIGHT
BEGIN:STANDARD
TZOFFSETFROM:-0500
TZOFFSETTO:-0600
TZNAME:CST
DTSTART:20261101T070000
END:STANDARD
BEGIN:DAYLIGHT
TZOFFSETFROM:-0600
TZOFFSETTO:-0500
TZNAME:CDT
DTSTART:20270314T080000
END:DAYLIGHT
BEGIN:STANDARD
TZOFFSETFROM:-0500
TZOFFSETTO:-0600
TZNAME:CST
DTSTART:20271107T070000
END:STANDARD
END:VTIMEZONE
BEGIN:VEVENT
DTSTART;TZID=America/Chicago:20260222T150000
DTEND;TZID=America/Chicago:20260222T170000
DTSTAMP:20260425T193903
CREATED:20260218T152422Z
LAST-MODIFIED:20260218T152837Z
UID:14647-1771772400-1771779600@www.mshumanities.org
SUMMARY:Speakers Bureau: “A Look at Mande (West African) Culture Through Traditional Music"
DESCRIPTION:Jerry Jenkins presents “A Look at Mande (West African) Culture Through Traditional Music” \nThis presentation will give the listener a glimpse of the Mande Culture of West Africa. In the tradition of the Mande\, the history and culture is orally preserved in the minds and through the music of the Djeli (oral librarian/mandenka hereditary professional musicians). The establishment of the Mali Empire can be recalled and retold in the musical piece of the legendary Densoba (great warrior) Sunjata. This discussion explores the function of the Mande music and musical instruments\, Mande class system\, songs\, ceremonies and stories. The discussion also examines the influence of West Africa on American culture and why the djembe was outlawed during slavery. Participants will learn about the djembe\, its introduction by drummers like Babatunde Olatunji in 1950 and Ladji Camara from Guinea\, and how it spread throughout America.
URL:https://www.mshumanities.org/event/speakers-bureau-a-look-at-mande-west-african-culture-through-traditional-music-8/
LOCATION:Frazier Educational & Cultural Center\, 1445 George F West Sr Blvd\, Natchez\, MS\, 39120\, United States
END:VEVENT
END:VCALENDAR