BEGIN:VCALENDAR
VERSION:2.0
PRODID:-//Mississippi Humanities Council - ECPv6.15.18//NONSGML v1.0//EN
CALSCALE:GREGORIAN
METHOD:PUBLISH
X-ORIGINAL-URL:https://www.mshumanities.org
X-WR-CALDESC:Events for Mississippi Humanities Council
REFRESH-INTERVAL;VALUE=DURATION:PT1H
X-Robots-Tag:noindex
X-PUBLISHED-TTL:PT1H
BEGIN:VTIMEZONE
TZID:America/Chicago
BEGIN:DAYLIGHT
TZOFFSETFROM:-0600
TZOFFSETTO:-0500
TZNAME:CDT
DTSTART:20250309T080000
END:DAYLIGHT
BEGIN:STANDARD
TZOFFSETFROM:-0500
TZOFFSETTO:-0600
TZNAME:CST
DTSTART:20251102T070000
END:STANDARD
BEGIN:DAYLIGHT
TZOFFSETFROM:-0600
TZOFFSETTO:-0500
TZNAME:CDT
DTSTART:20260308T080000
END:DAYLIGHT
BEGIN:STANDARD
TZOFFSETFROM:-0500
TZOFFSETTO:-0600
TZNAME:CST
DTSTART:20261101T070000
END:STANDARD
BEGIN:DAYLIGHT
TZOFFSETFROM:-0600
TZOFFSETTO:-0500
TZNAME:CDT
DTSTART:20270314T080000
END:DAYLIGHT
BEGIN:STANDARD
TZOFFSETFROM:-0500
TZOFFSETTO:-0600
TZNAME:CST
DTSTART:20271107T070000
END:STANDARD
END:VTIMEZONE
BEGIN:VEVENT
DTSTART;VALUE=DATE:20260226
DTEND;VALUE=DATE:20260301
DTSTAMP:20260425T155754
CREATED:20260205T213732Z
LAST-MODIFIED:20260205T221314Z
UID:14524-1772064000-1772323199@www.mshumanities.org
SUMMARY:America250 Mississippi - Natchez Literary & Cinema Celebration
DESCRIPTION:The Natchez Literary and Cinema Celebration is proud to announce plans for the 37th annual Celebration\, to be held February 26-28\, 2026. View the 2026 agenda here!\nCome and hear the story of America\, from the founding to today\, as told by expert historians and prolific authors! The 2026 NLCC will weave a diverse tapestry of the stories that make us who we are as Americans today. These are stories of hope and resilience\, stories of perseverance and bravery\, stories of ordinary people who took a stand and fought hard for the freedoms that we enjoy today. \nMeet Our 2026 Authors & Presenters \nView the CEU Agenda here \nNominate William Winter Scholars here \nNominate Vance Fellows here \nPurchase tickets for the 2026 ticketed events:\n\nRaise A Glass to Freedom\nFood Power Politics\nVoices of Freedom: An Evening with Gloria J. Browne-Marshall\n\nLodging:\nThe Grand Hotel; 111 Broadway St.; Natchez\, MS. (Access Code: NLCC) Book your room here! \nConference Co-Sponsors:\nCo-Lin\, the Adams County Board of Supervisors\, Visit Natchez\, Mississippi Arts Commission\, Mississippi Department of Archives and History\, Mississippi Humanities Council\, Southwest Mississippi Center for Culture & Learning at Alcorn State University\, Walmart\, Sons of the American Revolution\, DAR\, American Cruise Lines\, and the generous contributions of individuals and businesses throughout the state and region. \nContact:\nBrittany Caldwell\, NLCC Director\, Copiah-Lincoln Community College\nnlcc@colin.edu or call 601.446.1104 or 601.446.1101.
URL:https://www.mshumanities.org/event/natchez-literary-cinema-celebration-2/
LOCATION:Natchez Convention Center\, 211 Main Street\, Natchez\, MS\, 39120
END:VEVENT
BEGIN:VEVENT
DTSTART;TZID=America/Chicago:20260227T093000
DTEND;TZID=America/Chicago:20260227T113000
DTSTAMP:20260425T155754
CREATED:20260120T213641Z
LAST-MODIFIED:20260122T212508Z
UID:14391-1772184600-1772191800@www.mshumanities.org
SUMMARY:HTA Lecture: “Roles\, Obedience\, and Authority: An Examination of the Stanford Prison Experiment”
DESCRIPTION:Suzanne Gibson will present the 2026 Humanities Teacher Award lecture for Meridian Community College titled “Roles\, Obedience\, and Authority: An Examination of the Stanford Prison Experiment.” \nThis presentation examines the Stanford Prison Experiment to explore how assigned roles can significantly influence human behavior. It explains how individuals may change when placed into specific social roles and how granting even a small amount of power can alter behavior within those roles. The presentation also discusses how authority and obedience can be established by stripping individuals of their identity\, demonstrating how situational forces can outweigh personal morals and values. \nThe lecture will take place on the Meridian Community College campus on February 27\, 2026\, at 9:30 a.m.
URL:https://www.mshumanities.org/event/hta-lecture-roles-obedience-and-authority-an-examination-of-the-stanford-prison-experiment/
LOCATION:Meridian Community College\, 910 Hwy 19 N\, Meridian\, MS\, 39307
END:VEVENT
BEGIN:VEVENT
DTSTART;TZID=America/Chicago:20260227T110000
DTEND;TZID=America/Chicago:20260227T130000
DTSTAMP:20260425T155754
CREATED:20260205T193251Z
LAST-MODIFIED:20260205T193356Z
UID:14509-1772190000-1772197200@www.mshumanities.org
SUMMARY:Mississippi Freedom Trail Unveiling: The Meridian Civil Rights Movement
DESCRIPTION:Mississippi Freedom Trail Unveiling: The Meridian Civil Rights Movement \n2505 5th Street \nMeridian\, MS \n  \n11 a.m. \n  \nRead More
URL:https://www.mshumanities.org/event/mississippi-freedom-trail-unveiling-the-meridian-civil-rights-movement/
LOCATION:Fielder & Brooks Drug Store\, 2505 Fifth Street\, Meridian\, MS\, 39301\, United States
ORGANIZER;CN="Visit Mississippi":MAILTO:tinquiry@mississippi.org
END:VEVENT
BEGIN:VEVENT
DTSTART;TZID=America/Chicago:20260227T143000
DTEND;TZID=America/Chicago:20260227T163000
DTSTAMP:20260425T155754
CREATED:20260202T230003Z
LAST-MODIFIED:20260202T230003Z
UID:14493-1772202600-1772209800@www.mshumanities.org
SUMMARY:Speakers Bureau: "A Look at Mande (West African) Culture Through Traditional Music"
DESCRIPTION:Jerry Jenkins presents “A Look at Mande (West African) Culture Through Traditional Music” on February 27\, 2026\, at 2:30 p.m. \nThis presentation will give the listener a glimpse of the Mande Culture of West Africa. In the tradition of the Mande\, the history and culture is orally preserved in the minds and through the music of the Djeli (oral librarian/mandenka hereditary professional musicians). The establishment of the Mali Empire can be recalled and retold in the musical piece of the legendary Densoba (great warrior) Sunjata. This discussion explores the function of the Mande music and musical instruments\, Mande class system\, songs\, ceremonies and stories. The discussion also examines the influence of West Africa on American culture and why the djembe was outlawed during slavery. Participants will learn about the djembe\, its introduction by drummers like Babatunde Olatunji in 1950 and Ladji Camara from Guinea\, and how it spread throughout America.
URL:https://www.mshumanities.org/event/speakers-bureau-a-look-at-mande-west-african-culture-through-traditional-music-7/
LOCATION:Canopy Children’s Solutions\, 1465 Lakeland Dr\, Jackson\, 39216\, United States
END:VEVENT
END:VCALENDAR