BEGIN:VCALENDAR
VERSION:2.0
PRODID:-//Mississippi Humanities Council - ECPv6.15.18//NONSGML v1.0//EN
CALSCALE:GREGORIAN
METHOD:PUBLISH
X-WR-CALNAME:Mississippi Humanities Council
X-ORIGINAL-URL:https://www.mshumanities.org
X-WR-CALDESC:Events for Mississippi Humanities Council
REFRESH-INTERVAL;VALUE=DURATION:PT1H
X-Robots-Tag:noindex
X-PUBLISHED-TTL:PT1H
BEGIN:VTIMEZONE
TZID:America/Chicago
BEGIN:DAYLIGHT
TZOFFSETFROM:-0600
TZOFFSETTO:-0500
TZNAME:CDT
DTSTART:20250309T080000
END:DAYLIGHT
BEGIN:STANDARD
TZOFFSETFROM:-0500
TZOFFSETTO:-0600
TZNAME:CST
DTSTART:20251102T070000
END:STANDARD
BEGIN:DAYLIGHT
TZOFFSETFROM:-0600
TZOFFSETTO:-0500
TZNAME:CDT
DTSTART:20260308T080000
END:DAYLIGHT
BEGIN:STANDARD
TZOFFSETFROM:-0500
TZOFFSETTO:-0600
TZNAME:CST
DTSTART:20261101T070000
END:STANDARD
BEGIN:DAYLIGHT
TZOFFSETFROM:-0600
TZOFFSETTO:-0500
TZNAME:CDT
DTSTART:20270314T080000
END:DAYLIGHT
BEGIN:STANDARD
TZOFFSETFROM:-0500
TZOFFSETTO:-0600
TZNAME:CST
DTSTART:20271107T070000
END:STANDARD
END:VTIMEZONE
BEGIN:VEVENT
DTSTART;VALUE=DATE:20260301
DTEND;VALUE=DATE:20260302
DTSTAMP:20260425T171306
CREATED:20260113T163510Z
LAST-MODIFIED:20260113T163510Z
UID:14296-1772323200-1772409599@www.mshumanities.org
SUMMARY:Witness: The Freedom Memory Project Deadline
DESCRIPTION:Deadline for Witness: The Freedom Memory Project 2026 applications. \nHow to Apply \nFirst\, contact MHC Director of Strategic Initiatives John Spann (jspann@mhc.state.ms.us) to discuss your community’s idea. Then\, ﬁll out the Witness: The Mississippi Freedom Project application by March 1\, 2026. All applications will be reviewed by the project’s advisory board. The 2026 cohort of communities will be announced by April 1\, 2026. Full details and 2026 applicant materials are available at https://shorturl.at/1GTd3. \nThe 2027 and 2028 applications will be announced at a later date.
URL:https://www.mshumanities.org/event/witness-the-freedom-memory-project-deadline/
LOCATION:MS
END:VEVENT
BEGIN:VEVENT
DTSTART;TZID=America/Chicago:20260301T140000
DTEND;TZID=America/Chicago:20260301T160000
DTSTAMP:20260425T171306
CREATED:20260216T183957Z
LAST-MODIFIED:20260216T183957Z
UID:14637-1772373600-1772380800@www.mshumanities.org
SUMMARY:Sunday Screening: “In Search of Phillis Wheatley Peters”
DESCRIPTION:Join us for a free screening of “In Search of Phillis Wheatley Peters” at 2 p.m.\, Sunday\, March 1\, in the Craig H. Neilsen Auditorium. This 35-minute documentary uncovers the little-known love story of Phillis Wheatley\, America’s first Black published poet\, and John Peters\, a free Black man she married in 1778. Following the screening\, a panel conversation featuring moderator Robby Luckett\, scholar Ebony Lumumba\, and filmmakers Leslie Askew and Turlough White will highlight Margaret Walker’s creation of the Phillis Wheatley Poetry Festival and the Black Studies program at Jackson State University.\n\nThis event is sponsored by the Mississippi Humanities Council\, Film Mississippi\, and the Mississippi Film Society. For more information\, call 601-576-6850 or email info@mdah.ms.gov.
URL:https://www.mshumanities.org/event/sunday-screening-in-search-of-phillis-wheatley-peters/
LOCATION:TWO MISSISSIPPI MUSEUMS\, 222 NORTH STREET \, JACKSON\, MS\, United States
END:VEVENT
END:VCALENDAR