BEGIN:VCALENDAR
VERSION:2.0
PRODID:-//Mississippi Humanities Council - ECPv6.15.18//NONSGML v1.0//EN
CALSCALE:GREGORIAN
METHOD:PUBLISH
X-ORIGINAL-URL:https://www.mshumanities.org
X-WR-CALDESC:Events for Mississippi Humanities Council
REFRESH-INTERVAL;VALUE=DURATION:PT1H
X-Robots-Tag:noindex
X-PUBLISHED-TTL:PT1H
BEGIN:VTIMEZONE
TZID:America/Chicago
BEGIN:DAYLIGHT
TZOFFSETFROM:-0600
TZOFFSETTO:-0500
TZNAME:CDT
DTSTART:20250309T080000
END:DAYLIGHT
BEGIN:STANDARD
TZOFFSETFROM:-0500
TZOFFSETTO:-0600
TZNAME:CST
DTSTART:20251102T070000
END:STANDARD
BEGIN:DAYLIGHT
TZOFFSETFROM:-0600
TZOFFSETTO:-0500
TZNAME:CDT
DTSTART:20260308T080000
END:DAYLIGHT
BEGIN:STANDARD
TZOFFSETFROM:-0500
TZOFFSETTO:-0600
TZNAME:CST
DTSTART:20261101T070000
END:STANDARD
BEGIN:DAYLIGHT
TZOFFSETFROM:-0600
TZOFFSETTO:-0500
TZNAME:CDT
DTSTART:20270314T080000
END:DAYLIGHT
BEGIN:STANDARD
TZOFFSETFROM:-0500
TZOFFSETTO:-0600
TZNAME:CST
DTSTART:20271107T070000
END:STANDARD
END:VTIMEZONE
BEGIN:VEVENT
DTSTART;TZID=America/Chicago:20260305T100000
DTEND;TZID=America/Chicago:20260305T120000
DTSTAMP:20260425T155801
CREATED:20260120T213432Z
LAST-MODIFIED:20260120T213432Z
UID:14387-1772704800-1772712000@www.mshumanities.org
SUMMARY:HTA Lecture: “When We See Ourselves: Representation\, Mentorship\, and Storytelling Across the Arts”
DESCRIPTION:Yolanda Williams will present the 2026 Humanities Teacher Award lecture for Jackson State University titled “When We See Ourselves: Representation\, Mentorship\, and Storytelling Across the Arts.” \n“When We See Ourselves: Representation\, Mentorship\, and Storytelling Across the Arts” explores the role of representation and mentorship in shaping storytelling across theatre\, film\, and the arts. Grounded in lived experiences\, this lecture reflects on visibility as a humanistic practice that expands possibility and affirms identity\, challenge narrow narratives\, and opens pathways for future artists. \nThe lecture will take place on the Jackson State University campus on March 5\, 2026\, at 10 a.m.
URL:https://www.mshumanities.org/event/hta-lecture-when-we-see-ourselves-representation-mentorship-and-storytelling-across-the-arts/
LOCATION:Jackson State University\, 1400 J.R. Lynch Street\, Jackson\, MS\, 39217
END:VEVENT
BEGIN:VEVENT
DTSTART;TZID=America/Chicago:20260305T130000
DTEND;TZID=America/Chicago:20260305T150000
DTSTAMP:20260425T155801
CREATED:20260120T220931Z
LAST-MODIFIED:20260120T220931Z
UID:14423-1772715600-1772722800@www.mshumanities.org
SUMMARY:HTA Lecture: “Freedom to Save the Body (of Christ): The Rhetorical Chemotherapy of Archbishop Salvatore Cardileone”
DESCRIPTION:Dr. Brandon Knight will present the 2026 Humanities Teacher Award lecture for William Carey University titled “Freedom to Save the Body (of Christ): The Rhetorical Chemotherapy of Archbishop Salvatore Cardileone.” \n“Freedom to Save the Body (of Christ): The Rhetorical Chemotherapy of Archbishop Salvatore Cardileone” is a rhetorical analysis of a homily presented by the archbishop of San Francisco\, Salvatore Cordileone\, at the Walk for Life West Coast a few months prior to the overturning of Roe v. Wade. From this research\, he argues that\, whereas Cordileone’s early discourse displays patient casuistic rhetoric with members of his diocese\, he transitions to the prophetic voice in his WLWC homily because of Catholic pro-choice adherents with political standing and influence\, like the-then Speaker Nancy Pelosi. Acting in the lineage of the prophets\, Cordileone uses a rhetorical chemotherapy to save the body of Christ and uphold the culture of life. \nThe lecture will take place on the  William Carey University campus on March 5\, 2026\, at 1 p.m.
URL:https://www.mshumanities.org/event/hta-lecture-freedom-to-save-the-body-of-christ-the-rhetorical-chemotherapy-of-archbishop-salvatore-cardileone/
LOCATION:William Carey University\, 710 William Carey Parkway\, Hattiesburg\, MS\, 39401
END:VEVENT
END:VCALENDAR