BEGIN:VCALENDAR
VERSION:2.0
PRODID:-//Mississippi Humanities Council - ECPv6.15.18//NONSGML v1.0//EN
CALSCALE:GREGORIAN
METHOD:PUBLISH
X-WR-CALNAME:Mississippi Humanities Council
X-ORIGINAL-URL:https://www.mshumanities.org
X-WR-CALDESC:Events for Mississippi Humanities Council
REFRESH-INTERVAL;VALUE=DURATION:PT1H
X-Robots-Tag:noindex
X-PUBLISHED-TTL:PT1H
BEGIN:VTIMEZONE
TZID:America/Chicago
BEGIN:DAYLIGHT
TZOFFSETFROM:-0600
TZOFFSETTO:-0500
TZNAME:CDT
DTSTART:20250309T080000
END:DAYLIGHT
BEGIN:STANDARD
TZOFFSETFROM:-0500
TZOFFSETTO:-0600
TZNAME:CST
DTSTART:20251102T070000
END:STANDARD
BEGIN:DAYLIGHT
TZOFFSETFROM:-0600
TZOFFSETTO:-0500
TZNAME:CDT
DTSTART:20260308T080000
END:DAYLIGHT
BEGIN:STANDARD
TZOFFSETFROM:-0500
TZOFFSETTO:-0600
TZNAME:CST
DTSTART:20261101T070000
END:STANDARD
BEGIN:DAYLIGHT
TZOFFSETFROM:-0600
TZOFFSETTO:-0500
TZNAME:CDT
DTSTART:20270314T080000
END:DAYLIGHT
BEGIN:STANDARD
TZOFFSETFROM:-0500
TZOFFSETTO:-0600
TZNAME:CST
DTSTART:20271107T070000
END:STANDARD
END:VTIMEZONE
BEGIN:VEVENT
DTSTART;TZID=America/Chicago:20260307T090000
DTEND;TZID=America/Chicago:20260307T120000
DTSTAMP:20260425T155637
CREATED:20260216T152157Z
LAST-MODIFIED:20260216T152254Z
UID:14624-1772874000-1772884800@www.mshumanities.org
SUMMARY:Read & Rise
DESCRIPTION:Read & Rise is a family literacy program that brings children and parents together through shared reading\, culturally relevant books\, including works by Mississippi authors\, parent workshops\, and creative activities. Each session features community reading circles\, guided literacy activities\, strategies for supporting reading at home\, and free book distribution to help families build home libraries. By engaging families in storytelling and reflection\, Read & Rise promotes both literacy skills and a deeper understanding of human experiences and community values. \n 
URL:https://www.mshumanities.org/event/read-rise/
LOCATION:Katrina’s Klassroom\, 1952 Simpson Hwy 149\, Mendenhall\, 39114\, United States
ORGANIZER;CN="Katina%E2%80%99s Klassroom":MAILTO:info@katinasklassroom.com
END:VEVENT
BEGIN:VEVENT
DTSTART;TZID=America/Chicago:20260307T110000
DTEND;TZID=America/Chicago:20260307T140000
DTSTAMP:20260425T155637
CREATED:20260227T164222Z
LAST-MODIFIED:20260227T164222Z
UID:14688-1772881200-1772892000@www.mshumanities.org
SUMMARY:America250 Mississippi - GRAMMY Museum Mississippi Celebrates 10 Years
DESCRIPTION:Saturday\, March 7: \n11 AM Opening Ceremony Celebrating the last 10 Years of Grammy Museum Mississippi \n12 PM Roots Music Festival that will feature performances by Bobby Rush\, Cedric Burnside\, Boo Mitchell\, Terrance and Marcella Simien\, Hi Rhythm\, Southern Avenue\, Carla Thomas\, and Ol’ Skool Revue along with original Grammy Museum Mississippi Summer Campers\, Abee Hudson and band members of Levee Side\, performing. \n12 pm – 2 pm Kids’ Zone activities and family-friendly programming \nAs the birthplace of America’s music\, Mississippi’s cultural legacy will be highlighted throughout the weekend\, aligning with the broader America250 commemoration. Grammy Museum Mississippi is thankful for the support of the Mississippi Humanities Council and the Mississippi Arts Commission\, whose partnership helps make this programming possible. \nFood Trucks will be on site with food for purchase.
URL:https://www.mshumanities.org/event/america250-mississippi-grammy-museum-mississippi-celebrates-10-years/
LOCATION:GRAMMY Museum Mississippi\, 800 West Sunflower Rd\, Cleveland \, MS\, 38732\, United States
END:VEVENT
BEGIN:VEVENT
DTSTART;TZID=America/Chicago:20260307T140000
DTEND;TZID=America/Chicago:20260307T150000
DTSTAMP:20260425T155637
CREATED:20260224T173419Z
LAST-MODIFIED:20260302T174528Z
UID:14541-1772892000-1772895600@www.mshumanities.org
SUMMARY:Turning Pages\, Changing Lives
DESCRIPTION:Big House Books\, Lemuria Books and the Mississippi Humanities Council are partnering with the Short Fuse Podcast to bring Turning Pages\, Changing Lives to Lemuria in Jackson on Saturday\, March 7\, from 2-3 p.m. \nElizabeth Howard will lead a discussion with local leaders on our history and mission\, and the importance of books and education in prison.
URL:https://www.mshumanities.org/event/turning-pages-changing-lives/
LOCATION:Lemuria Book Store\, 4465 I-55 STE 20\, Jackson\, MS\, 39206\, United States
ORGANIZER;CN="Big House Books":MAILTO:info@bighousebooksms.org
END:VEVENT
END:VCALENDAR