BEGIN:VCALENDAR
VERSION:2.0
PRODID:-//Mississippi Humanities Council - ECPv6.15.18//NONSGML v1.0//EN
CALSCALE:GREGORIAN
METHOD:PUBLISH
X-ORIGINAL-URL:https://www.mshumanities.org
X-WR-CALDESC:Events for Mississippi Humanities Council
REFRESH-INTERVAL;VALUE=DURATION:PT1H
X-Robots-Tag:noindex
X-PUBLISHED-TTL:PT1H
BEGIN:VTIMEZONE
TZID:America/Chicago
BEGIN:DAYLIGHT
TZOFFSETFROM:-0600
TZOFFSETTO:-0500
TZNAME:CDT
DTSTART:20250309T080000
END:DAYLIGHT
BEGIN:STANDARD
TZOFFSETFROM:-0500
TZOFFSETTO:-0600
TZNAME:CST
DTSTART:20251102T070000
END:STANDARD
BEGIN:DAYLIGHT
TZOFFSETFROM:-0600
TZOFFSETTO:-0500
TZNAME:CDT
DTSTART:20260308T080000
END:DAYLIGHT
BEGIN:STANDARD
TZOFFSETFROM:-0500
TZOFFSETTO:-0600
TZNAME:CST
DTSTART:20261101T070000
END:STANDARD
BEGIN:DAYLIGHT
TZOFFSETFROM:-0600
TZOFFSETTO:-0500
TZNAME:CDT
DTSTART:20270314T080000
END:DAYLIGHT
BEGIN:STANDARD
TZOFFSETFROM:-0500
TZOFFSETTO:-0600
TZNAME:CST
DTSTART:20271107T070000
END:STANDARD
END:VTIMEZONE
BEGIN:VEVENT
DTSTART;TZID=America/Chicago:20260317T140000
DTEND;TZID=America/Chicago:20260317T160000
DTSTAMP:20260425T155813
CREATED:20260120T212829Z
LAST-MODIFIED:20260120T212829Z
UID:14379-1773756000-1773763200@www.mshumanities.org
SUMMARY:HTA Lecture: “The Culture of Tone”
DESCRIPTION:Chandler Smith will present the 2026 Humanities Teacher Award lecture for East Central Community College titled “The Culture of Tone.” \nThe lecture will take place on the  East Central Community College campus on March 17\, 2026\, at 2 p.m.
URL:https://www.mshumanities.org/event/hta-lecture-the-culture-of-tone/
LOCATION:East Central Community College\, 275 W Broad Street\, Decatur\, MS\, 39327
END:VEVENT
BEGIN:VEVENT
DTSTART;TZID=America/Chicago:20260317T183000
DTEND;TZID=America/Chicago:20260317T203000
DTSTAMP:20260425T155813
CREATED:20260211T212503Z
LAST-MODIFIED:20260211T212503Z
UID:14605-1773772200-1773779400@www.mshumanities.org
SUMMARY:Speakers Bureau: "The Bride of Annandale\, A Love Story of the Old South"
DESCRIPTION:Grady Howell presents “The Bride of Annandale\, A Love Story of the Old South” \nThe Bride of Annandale is a fully researched  nonfiction narrative detailing the tragic romance of Henry Gray Vick\, a descendant of the founders of Vicksburg\, and Helen Johnstone of Annandale Plantation and Chapel of the Cross fame.  Henry was killed in a duel a week before their wedding.  This is their story.
URL:https://www.mshumanities.org/event/speakers-bureau-the-bride-of-annandale-a-love-story-of-the-old-south/
LOCATION:Anguilla Methodist Church\, 631 Front St\, Anguilla\, MS\, 38721\, United States
END:VEVENT
END:VCALENDAR