BEGIN:VCALENDAR
VERSION:2.0
PRODID:-//Mississippi Humanities Council - ECPv6.15.18//NONSGML v1.0//EN
CALSCALE:GREGORIAN
METHOD:PUBLISH
X-ORIGINAL-URL:https://www.mshumanities.org
X-WR-CALDESC:Events for Mississippi Humanities Council
REFRESH-INTERVAL;VALUE=DURATION:PT1H
X-Robots-Tag:noindex
X-PUBLISHED-TTL:PT1H
BEGIN:VTIMEZONE
TZID:America/Chicago
BEGIN:DAYLIGHT
TZOFFSETFROM:-0600
TZOFFSETTO:-0500
TZNAME:CDT
DTSTART:20250309T080000
END:DAYLIGHT
BEGIN:STANDARD
TZOFFSETFROM:-0500
TZOFFSETTO:-0600
TZNAME:CST
DTSTART:20251102T070000
END:STANDARD
BEGIN:DAYLIGHT
TZOFFSETFROM:-0600
TZOFFSETTO:-0500
TZNAME:CDT
DTSTART:20260308T080000
END:DAYLIGHT
BEGIN:STANDARD
TZOFFSETFROM:-0500
TZOFFSETTO:-0600
TZNAME:CST
DTSTART:20261101T070000
END:STANDARD
BEGIN:DAYLIGHT
TZOFFSETFROM:-0600
TZOFFSETTO:-0500
TZNAME:CDT
DTSTART:20270314T080000
END:DAYLIGHT
BEGIN:STANDARD
TZOFFSETFROM:-0500
TZOFFSETTO:-0600
TZNAME:CST
DTSTART:20271107T070000
END:STANDARD
END:VTIMEZONE
BEGIN:VEVENT
DTSTART;TZID=America/Chicago:20260318T120000
DTEND;TZID=America/Chicago:20260318T140000
DTSTAMP:20260425T155803
CREATED:20260224T200051Z
LAST-MODIFIED:20260224T201217Z
UID:14680-1773835200-1773842400@www.mshumanities.org
SUMMARY:HTA Lecture: “Why I Chose the Dark Side of Literature"
DESCRIPTION:Melissa Faulkner will present the 2026 Humanities Teacher Award lecture for Coahoma Community College titled “Why I Chose the Dark Side of Literature.” \nThe lecture will take place on the Coahoma Community College campus on March 18\, 2026\, at noon.
URL:https://www.mshumanities.org/event/hta-lecture-why-i-chose-the-dark-side-of-literature/
LOCATION:Coahoma Community College\, 3240 Friars Point Road\, Clarksdale\, MS\, 38614\, United States
END:VEVENT
BEGIN:VEVENT
DTSTART;TZID=America/Chicago:20260318T123000
DTEND;TZID=America/Chicago:20260318T143000
DTSTAMP:20260425T155803
CREATED:20260120T213103Z
LAST-MODIFIED:20260120T213103Z
UID:14381-1773837000-1773844200@www.mshumanities.org
SUMMARY:HTA Lecture:  “HaPPPiness\,: Pedagogy\, Pageantry\, and Prison”
DESCRIPTION:Virginia Miller-Durr will present the 2026 Humanities Teacher Award lecture for Hinds Community College titled “HaPPPiness\,: Pedagogy\, Pageantry\, and Prison.” \nFrom first-generation college learners and incarcerated students to communities and lives hungry for belonging and hope\, the humanities cannot simply be explained; they must be lived through action in every stage in life. At a time when humanities programs are questioned\, “HaPPPPPPiness” is a talk that exemplifies how they save\, steady\, and shape lives through Pedagogy\, Prison\, Place\, People\, Purpose\, Promise\, not PERFECTION. \nThe lecture will take place on Hinds Community College’s Raymond campus on March 18\, 2026\, at 12:45 p.m.
URL:https://www.mshumanities.org/event/hta-lecture-happpiness-pedagogy-pageantry-and-prison/
LOCATION:Hinds Community College – Raymond Campus\, 501 East Main Street\, Raymond\, 39154\, United States
END:VEVENT
BEGIN:VEVENT
DTSTART;TZID=America/Chicago:20260318T160000
DTEND;TZID=America/Chicago:20260318T180000
DTSTAMP:20260425T155803
CREATED:20260305T000454Z
LAST-MODIFIED:20260305T000619Z
UID:14743-1773849600-1773856800@www.mshumanities.org
SUMMARY:Speakers Bureau: ““Mississippi Telling”
DESCRIPTION:Rebecca Jernigan presents “Mississippi Telling” \nThe presenter provides an overview of the storytelling Renaissance in America with emphasis upon the oral tradition in Mississippi. The literary tradition of Mississippi owes much to the rich storytelling legacy that riddles the tales of our families and our communities as reflected in the works of many of our best authors: Welty\, Wright\, Faulkner\, Henley\, Williams. As part of the presentation\, Dr. Jernigan performs as a story teller calling upon on her rich repertoire of original tales and literary masterpieces gearing her choices of tales according to her audience and offers material for children and adults.
URL:https://www.mshumanities.org/event/speakers-bureau-mississippi-telling-14/
LOCATION:St Peter’s Episcopal Church\, 113 N 9th Street\, Oxford\, MS\, 38655\, United States
ORGANIZER;CN="Leap Frog Program":MAILTO:leapfrogdirector@gmail.com
END:VEVENT
END:VCALENDAR