BEGIN:VCALENDAR
VERSION:2.0
PRODID:-//Mississippi Humanities Council - ECPv6.15.18//NONSGML v1.0//EN
CALSCALE:GREGORIAN
METHOD:PUBLISH
X-ORIGINAL-URL:https://www.mshumanities.org
X-WR-CALDESC:Events for Mississippi Humanities Council
REFRESH-INTERVAL;VALUE=DURATION:PT1H
X-Robots-Tag:noindex
X-PUBLISHED-TTL:PT1H
BEGIN:VTIMEZONE
TZID:America/Chicago
BEGIN:DAYLIGHT
TZOFFSETFROM:-0600
TZOFFSETTO:-0500
TZNAME:CDT
DTSTART:20250309T080000
END:DAYLIGHT
BEGIN:STANDARD
TZOFFSETFROM:-0500
TZOFFSETTO:-0600
TZNAME:CST
DTSTART:20251102T070000
END:STANDARD
BEGIN:DAYLIGHT
TZOFFSETFROM:-0600
TZOFFSETTO:-0500
TZNAME:CDT
DTSTART:20260308T080000
END:DAYLIGHT
BEGIN:STANDARD
TZOFFSETFROM:-0500
TZOFFSETTO:-0600
TZNAME:CST
DTSTART:20261101T070000
END:STANDARD
BEGIN:DAYLIGHT
TZOFFSETFROM:-0600
TZOFFSETTO:-0500
TZNAME:CDT
DTSTART:20270314T080000
END:DAYLIGHT
BEGIN:STANDARD
TZOFFSETFROM:-0500
TZOFFSETTO:-0600
TZNAME:CST
DTSTART:20271107T070000
END:STANDARD
END:VTIMEZONE
BEGIN:VEVENT
DTSTART;VALUE=DATE:20260420
DTEND;VALUE=DATE:20260701
DTSTAMP:20260425T171337
CREATED:20260409T215604Z
LAST-MODIFIED:20260409T221651Z
UID:15024-1776643200-1782863999@www.mshumanities.org
SUMMARY:America250 Mississippi: Voices of Mid-Mississippi: A Community Time Capsule
DESCRIPTION:Be Part of History! Help Us Fill a Time Capsule! Our library is starting a fun new project called “Voices of Mid-Mississippi: A Community Time Capsule!” We want to save our thoughts and memories from today for people to open in the future—50 years from now\, during the America 300 birthday celebration! \nWhat is a Time Capsule? It is a special container that we will fill with notes and small items from people all across our 5-county area. We are putting the capsule at the Mid-Mississippi Regional Library HQ in Kosciusko\, MS. \nWhat will we put inside? We want to collect your handwritten notes! We will ask you questions like: “What does America mean to you in the context of our local history?” or “How has the library shaped your pursuit of knowledge and community connection?” We will also add things like library bookmarks\, photos of our towns\, and a special message from our local leaders. \nWhy is This Important? Your stories show how our area’s history\, from our towns to places like the library\, makes our community special. The library is a place where people of all ages meet\, and your stories are part of Mississippi’s bigger story! \nHow Can You Join In? We will kick off this exciting event on April 20\, 2026\, during National Library Week! From National Library Week until June 30\, 2026\, we will be collecting your notes and items. Everyone in our 5 counties can participate! Our mobile library will even visit nursing homes and other places to make sure everyone can share their voices. \nAfter we gather everything\, we will have a special ceremony Thursday\, July 2\, 2026\, to commemorate the closing of the time capsule. Stay tuned to midmisslib.com/america250 for further details. Come share your voice and help us celebrate our history and the library’s role in our community! This official America250 project was made possible by a grant from the Mississippi Humanities Council\, through support from the State of Mississippi.
URL:https://www.mshumanities.org/event/america250-mississippi-voices-of-mid-mississippi-a-community-time-capsule/
LOCATION:The Mid-Mississippi Regional Library System\, 201 S Huntington St\, Kosciusko\, MS\, 39090\, United States
END:VEVENT
BEGIN:VEVENT
DTSTART;VALUE=DATE:20260501
DTEND;VALUE=DATE:20260705
DTSTAMP:20260425T171337
CREATED:20260409T214957Z
LAST-MODIFIED:20260409T214957Z
UID:15020-1777593600-1783209599@www.mshumanities.org
SUMMARY:America250 Mississippi: Magee Chamber of Commerce America 250 Service Project
DESCRIPTION:The Chamber of Commerce in Magee along with all interested clubs\, organizations\, churches\, businesses and individuals will be collecting 250 items to donate to the Veterans Home to show appreciation for their part in our rich history.
URL:https://www.mshumanities.org/event/america250-mississippi-magee-chamber-of-commerce-america-250-service-project/
LOCATION:Magee Chamber of Commerce\, 117 1st Ave NW\, Magee\, MS\, 39111\, United States
END:VEVENT
BEGIN:VEVENT
DTSTART;VALUE=DATE:20260516
DTEND;VALUE=DATE:20260628
DTSTAMP:20260425T171337
CREATED:20260114T161616Z
LAST-MODIFIED:20260114T170117Z
UID:14300-1778889600-1782604799@www.mshumanities.org
SUMMARY:Spark! Places of Innovation exhibit in Utica 
DESCRIPTION:Spark! Places of Innovation exhibit in Utica\n \nJoin MHC in Utica for the Spark! Places of Innovation tour of Mississippi! \nMay 16-June 27\, 2026\nUtica Institute Museum at Hinds Community College Utica Campus \n601-885-7110 | uticainstitute.org\nExhibit hours: \nAcross 2026-2027\, the Mississippi Humanities Council presents Spark! Places of Innovation\, a Smithsonian traveling exhibit touring Utica\, Meridian\, Greenville\, Oxford\, Hattiesburg\, and Gulfport. Special thanks to our statewide sponsor\, Cadence Bank\, for making this possible! \nABOUT SPARK!:\nThe story of human history is written in inventions and innovations. Across our nation. And right here in Mississippi. Join us in 2026-2027 to catch a new Smithsonian traveling exhibit touring the state…and spark some new ideas of your own. \nSpark! uses photographs\, digital stories\, objects\, and interactive elements to explore the places\, people\, and circumstances that ignite innovation and invention in rural communities across our nation. The exhibit also offers a springboard for diverse local programming\, spotlighting the stories\, ideas\, and innovations of Mississippians — and a call to contribute to the future of the towns we call home.
URL:https://www.mshumanities.org/event/spark-places-of-innovation-exhibit-in-utica/
LOCATION:Utica Institute Museum\, 34175 MS-18\,\, Utica\, MS\, 39175\, United States
ORGANIZER;CN="Utica Institute Museum":MAILTO:info@uticainstitute.org
END:VEVENT
BEGIN:VEVENT
DTSTART;VALUE=DATE:20260627
DTEND;VALUE=DATE:20260628
DTSTAMP:20260425T171337
CREATED:20260205T230501Z
LAST-MODIFIED:20260205T230501Z
UID:14535-1782518400-1782604799@www.mshumanities.org
SUMMARY:America250 Mississippi - Long Beach 4th of July Jubilee
DESCRIPTION:The Long Beach 4th of July Jubilee will take place on Saturday\, June 27th in Downtown Long Beach\, offering a full day of family-friendly programming that celebrates community\, tradition\, and Mississippi culture. The celebration begins with an outdoor festival featuring local vendors\, artisans\, and food booths\, showcasing Gulf Coast crafts\, cuisine\, and small businesses. \n  \nThe event continues with a patriotic parade rolling through downtown\, honoring our community’s spirit and service. The parade includes local families\, civic groups\, youth organizations\, veterans\, military personnel\, and a selected Grand Marshal\, reflecting the values of pride\, unity\, and gratitude. \n  \nFollowing the parade\, the city will host a block party with live music\, highlighting Mississippi musicians and bringing residents together in a joyful\, shared experience. The evening culminates with a fireworks show on the beach\, where families and friends gather along the shoreline\, on boats\, and throughout downtown to watch the display over the Gulf\, a tradition that brings generations together and celebrates the place we call home. \n  \nThis full-day celebration strengthens community connections\, supports local vendors and artists\, and honors the cultural traditions that define Long Beach and Mississippi’s Gulf Coast. \n 
URL:https://www.mshumanities.org/event/america250-mississippi-long-beach-4th-of-july-jubilee/
LOCATION:The City of Long Beach\, 201 Jeff Davis Ave\, Long Beach\, MS\, 39560\, United States
END:VEVENT
BEGIN:VEVENT
DTSTART;TZID=America/Chicago:20260627T140000
DTEND;TZID=America/Chicago:20260627T220000
DTSTAMP:20260425T171337
CREATED:20260409T222446Z
LAST-MODIFIED:20260409T222446Z
UID:15034-1782568800-1782597600@www.mshumanities.org
SUMMARY:America250 Mississippi: Columbia Freedom Festival
DESCRIPTION:The Columbia Freedom Festival is a premier Fourth of July celebration designed to bring together families\, visitors\, and communities from across the Gulf South for a day of patriotism\, entertainment\, and connection. Hosted by the City of Columbia\, this annual event transforms downtown into a vibrant destination filled with live music\, local vendors\, family-friendly activities\, and a powerful celebration of American heritage. From the energy of the Liberty Stage to the charm of the Americana Market\, every detail is designed to create an experience that is both memorable and meaningful. More than just a festival\, this event reflects the spirit of Columbia—welcoming\, proud\, and rooted in tradition—while positioning the city as a regional destination for Independence Day celebrations. As an official partner event of Freedom250\, the Columbia Freedom Festival is part of a larger national movement honoring 250 years of American independence\, making it not only a celebration of today—but a tribute to the legacy that built it. Whether you’re here for the music\, the food\, the fireworks\, or the community\, the Columbia Freedom Festival is where tradition meets experience—and where freedom is celebrated together.
URL:https://www.mshumanities.org/event/america250-mississippi-columbia-freedom-festival/
LOCATION:622 Main St\, Columbia\, MS 39429\, USA\, 622 Main St\, Columbia\, MS\, 39429\, United States
END:VEVENT
END:VCALENDAR