BEGIN:VCALENDAR
VERSION:2.0
PRODID:-//Mississippi Humanities Council - ECPv6.15.18//NONSGML v1.0//EN
CALSCALE:GREGORIAN
METHOD:PUBLISH
X-WR-CALNAME:Mississippi Humanities Council
X-ORIGINAL-URL:https://www.mshumanities.org
X-WR-CALDESC:Events for Mississippi Humanities Council
REFRESH-INTERVAL;VALUE=DURATION:PT1H
X-Robots-Tag:noindex
X-PUBLISHED-TTL:PT1H
BEGIN:VTIMEZONE
TZID:America/Chicago
BEGIN:DAYLIGHT
TZOFFSETFROM:-0600
TZOFFSETTO:-0500
TZNAME:CDT
DTSTART:20180311T080000
END:DAYLIGHT
BEGIN:STANDARD
TZOFFSETFROM:-0500
TZOFFSETTO:-0600
TZNAME:CST
DTSTART:20181104T070000
END:STANDARD
BEGIN:DAYLIGHT
TZOFFSETFROM:-0600
TZOFFSETTO:-0500
TZNAME:CDT
DTSTART:20190310T080000
END:DAYLIGHT
BEGIN:STANDARD
TZOFFSETFROM:-0500
TZOFFSETTO:-0600
TZNAME:CST
DTSTART:20191103T070000
END:STANDARD
BEGIN:DAYLIGHT
TZOFFSETFROM:-0600
TZOFFSETTO:-0500
TZNAME:CDT
DTSTART:20200308T080000
END:DAYLIGHT
BEGIN:STANDARD
TZOFFSETFROM:-0500
TZOFFSETTO:-0600
TZNAME:CST
DTSTART:20201101T070000
END:STANDARD
END:VTIMEZONE
BEGIN:VEVENT
DTSTART;TZID=America/Chicago:20190601T083000
DTEND;TZID=America/Chicago:20190601T153000
DTSTAMP:20260421T123746
CREATED:20190502T203029Z
LAST-MODIFIED:20190502T203029Z
UID:11198-1559377800-1559403000@www.mshumanities.org
SUMMARY:One Forest\, Many Different Trees: E.O. Templeton Jr. Genealogy Fair 2019
DESCRIPTION:  \n \n  \nOne Forest\, Many Different Trees is the 13th annual genealogy fair sponsored by Mississippi State University Libraries. Participants will learn skills required to research their families and create family histories and family trees. Participants are asked to register here: https://www.eventbrite.com/e/eo-templeton-jr-history-genealogy-fair-2019-tickets-56044375235 \nA full schedule of events can also be found on the event website.
URL:https://www.mshumanities.org/event/one-forest-many-different-trees-e-o-templeton-jr-genealogy-fair-2019/
LOCATION:Mitchell Memorial Library\, 395 Hardy Road\, Mississippi State\, MS\, 39762
END:VEVENT
BEGIN:VEVENT
DTSTART;TZID=America/Chicago:20190606T170000
DTEND;TZID=America/Chicago:20190606T200000
DTSTAMP:20260421T123746
CREATED:20190514T160703Z
LAST-MODIFIED:20190514T160703Z
UID:11205-1559840400-1559851200@www.mshumanities.org
SUMMARY:SB: Developing an Oral History from Concept to Creation
DESCRIPTION:An oral history is a valuable tool in preserving the stories and memories of those who lived through interesting\, extraordinary\, and important times (for example\, World War II veterans or Civil Rights leaders and advocates.) An oral history can encompass a wide variety of groups and/or individuals who have a shared experience. G. Mark La Francis\, a long time professional oral historian\, demystifies the process\, breaking it down into manageable components\, from establishing a mission statement\, creating questions\, selecting interviewees\, achieving a quality recording\, time-coding and more. Oral history novices need not feel intimidated by a project; in fact\, they can feel exhilarated as they preserve forever an important piece of history. This workshop will last approximately two hours and include coaching on how to ask questions\, audio devices (and video\,) choosing an interview location\, and more. As a retired journalist\, college instructor and author\, LaFrancis has interviewed hundreds of individuals of all ages and histories. The workshop is casual\, interactive\, and fun. There will be plenty of time for questions. LaFrancis also offers follow-up advice. \nSpeakers Expertise: \nAs a veteran of 23 years (active duty during the Vietnam War era and Air National Guard) and as a writer for more than 30 years\, LaFrancis is professionally and personally qualified to offer what is a moving and unique presentation. LaFrancis has more than 25 years experience as a professional speaker and presenter\, particularly on the topics of creative writing and journalism. With the war ever-present in our lives\, his presentation of the experiences of the soldiers and their loved ones will enlighten and engage a wide range of audiences.
URL:https://www.mshumanities.org/event/3292/
LOCATION:Trinity Episcopal Church\, 305 S. Commerce St.\, Natchez\, MS\, 39120
END:VEVENT
BEGIN:VEVENT
DTSTART;TZID=America/Chicago:20190606T180000
DTEND;TZID=America/Chicago:20190606T180000
DTSTAMP:20260421T123746
CREATED:20190528T195036Z
LAST-MODIFIED:20190528T195036Z
UID:11207-1559844000-1559844000@www.mshumanities.org
SUMMARY:Everywhere with Roy Lewis
DESCRIPTION:  \n  \n  \nA conversation about the photography exhibition “Everywhere with Roy Lewis” at 6 p.m. on Thursday\, June 6\, in Johnson Hall with Dr. Redell Hearn\, Curator of Art and Civil Rights at Tougaloo College and the Mississippi Museum of Art\, and Mark Geil\, an Associate Professor of art and photography at Jackson State.
URL:https://www.mshumanities.org/event/everywhere-roy-lewis-2/
LOCATION:Jackson State University\, 1400 J.R. Lynch Street\, Jackson\, MS\, 39217
END:VEVENT
BEGIN:VEVENT
DTSTART;TZID=America/Chicago:20190608T090000
DTEND;TZID=America/Chicago:20190608T120000
DTSTAMP:20260421T123746
CREATED:20190515T152713Z
LAST-MODIFIED:20190515T152713Z
UID:11206-1559984400-1559995200@www.mshumanities.org
SUMMARY:Speakers Bureau: Mississippi Telling
DESCRIPTION:  \nDr. Rebecca Jernigan provides an overview of the storytelling Renaissance in America with emphasis upon the oral tradition in Mississippi. The literary tradition of Mississippi owes much to the rich storytelling legacy that riddles the tales of our families and our communities as reflected in the works of many of our best authors: Welty\, Wright\, Faulkner\, Henley\, Williams. As part of the presentation\, Dr. Jernigan performs as a story teller calling upon on her rich repertoire of original tales and literary masterpieces gearing her choices of tales according to her audience and offers material for children and adults. \nSpeakers Expertise: \nRebecca Moore Jernigan is an internationally recognized scholar and professional storyteller who resides in Oxford.
URL:https://www.mshumanities.org/event/speakers-bureau-mississippi-telling-5/
LOCATION:Downtown Poplarville\, 155 Springfield Road\, Poplarville\, MS\, 39470
END:VEVENT
BEGIN:VEVENT
DTSTART;TZID=America/Chicago:20190608T090000
DTEND;TZID=America/Chicago:20190608T170000
DTSTAMP:20260421T123746
CREATED:20190514T160252Z
LAST-MODIFIED:20190514T160252Z
UID:11203-1559984400-1560013200@www.mshumanities.org
SUMMARY:SB: "Chimneyville\," The Destruction of Jackson\, MS During the Civil War\, Fact or Myth!
DESCRIPTION:  \n  \n  \nThis presentation lays out the facts pertinent to what happened during the four occupations of the city by Federal forces during the Civil War. \nSpeakers Expertise: \nGrady Howell has worked for the Mississippi Department of Archives and History and has written extensively about Mississippi’s Civil War history.
URL:https://www.mshumanities.org/event/sb-chimneyville-destruction-jackson-ms-civil-war-fact-myth-2/
LOCATION:Brandon City Hall\, 1000 Municipal Drive \, Brandon \, MS \, 39042
END:VEVENT
BEGIN:VEVENT
DTSTART;TZID=America/Chicago:20190609T090000
DTEND;TZID=America/Chicago:20190609T160000
DTSTAMP:20260421T123746
CREATED:20190514T160414Z
LAST-MODIFIED:20190514T160414Z
UID:11204-1560070800-1560096000@www.mshumanities.org
SUMMARY:SB: "Chimneyville\," The Destruction of Jackson\, MS During the Civil War\, Fact or Myth!
DESCRIPTION:This presentation lays out the facts pertinent to what happened during the four occupations of the city by Federal forces during the Civil War. \nSpeakers Expertise:\nGrady Howell has worked for the Mississippi Department of Archives and History and has written extensively about Mississippi’s Civil War history.
URL:https://www.mshumanities.org/event/sb-chimneyville-destruction-jackson-ms-civil-war-fact-myth-3/
LOCATION:Brandon City Hall\, 1000 Municipal Drive \, Brandon \, MS \, 39042
END:VEVENT
BEGIN:VEVENT
DTSTART;TZID=America/Chicago:20190618T173000
DTEND;TZID=America/Chicago:20190618T190000
DTSTAMP:20260421T123746
CREATED:20190603T131854Z
LAST-MODIFIED:20190603T131854Z
UID:11208-1560879000-1560884400@www.mshumanities.org
SUMMARY:Ideas on Tap: Who Are You? Identity in America
DESCRIPTION:On June 18\, join the Mississippi Humanities Council and Millsaps College’s Visiting Writers Series at Coffee Prose Midtown for a conversation on identity construction. \nThe Ideas on Tap program\, “Who Are You? Identity in America\,” will explore how we define identity\, how identity can be constructed\, and how issues like race\, gender\, and technology can alter how we see identity. \nHear from panelists Katie Sorey (Inclusion and Involvement Specialist at Millsaps)\, Dr. Patrick Hopkins (Professor of Philosophy at Millsaps)\, and Natalie A. Collier (founder and director of The Lighthouse: Black Girl Projects). Dr. Michael Pickard\, Assistant Professor of English at Millsaps\, will moderate the conversation. \nAs always\, snacks and great conversation are on us\, and drinks are on you. \n 
URL:https://www.mshumanities.org/event/ideas-tap-identity-america/
LOCATION:Coffee Prose\, 1619 N West St\, Jackson\, MS\, 39202\, United States
END:VEVENT
BEGIN:VEVENT
DTSTART;TZID=America/Chicago:20190629T150000
DTEND;TZID=America/Chicago:20190629T190000
DTSTAMP:20260421T123746
CREATED:20181031T133253Z
LAST-MODIFIED:20181031T133253Z
UID:11078-1561820400-1561834800@www.mshumanities.org
SUMMARY:Wilkinson County Mound Sites: Field Facts and Artifacts
DESCRIPTION:  \n \n  \n  \nThe Wilkinson County Mound Exhibit opens June 29th\, 2019 in the Wilkinson County Museum in downtown Woodville\, Mississippi at 3pm\, in conjunction with a “Meet the Archaeologists” discussion and Artifact Roadshow event at the African American Museum. The exhibit is curated by Dr. Megan Kassabaum\, Assistant Professor of Anthropology at the University of Pennsylvania and Weingarten Assistant Curator at the Penn Museum\, and two studen curators\, Arielle Pierson and Erin Spicola. \n  \n  \nThe Mound Exhibit will feature Native American artifacts from Wilkinson County and will highlight the county’s two sites on the Mississippi Mound Trail–the Lessley and the Smith Creek sites–located along state highway 24\, west of Woodville.
URL:https://www.mshumanities.org/event/wilkinson-county-mound-sites-field-facts-artifacts/
LOCATION:Wilkinson County Museum\, 165 Boston Row\, Woodville\, MS
END:VEVENT
END:VCALENDAR