BEGIN:VCALENDAR
VERSION:2.0
PRODID:-//Mississippi Humanities Council - ECPv6.15.18//NONSGML v1.0//EN
CALSCALE:GREGORIAN
METHOD:PUBLISH
X-WR-CALNAME:Mississippi Humanities Council
X-ORIGINAL-URL:https://www.mshumanities.org
X-WR-CALDESC:Events for Mississippi Humanities Council
REFRESH-INTERVAL;VALUE=DURATION:PT1H
X-Robots-Tag:noindex
X-PUBLISHED-TTL:PT1H
BEGIN:VTIMEZONE
TZID:America/Chicago
BEGIN:DAYLIGHT
TZOFFSETFROM:-0600
TZOFFSETTO:-0500
TZNAME:CDT
DTSTART:20180311T080000
END:DAYLIGHT
BEGIN:STANDARD
TZOFFSETFROM:-0500
TZOFFSETTO:-0600
TZNAME:CST
DTSTART:20181104T070000
END:STANDARD
BEGIN:DAYLIGHT
TZOFFSETFROM:-0600
TZOFFSETTO:-0500
TZNAME:CDT
DTSTART:20190310T080000
END:DAYLIGHT
BEGIN:STANDARD
TZOFFSETFROM:-0500
TZOFFSETTO:-0600
TZNAME:CST
DTSTART:20191103T070000
END:STANDARD
BEGIN:DAYLIGHT
TZOFFSETFROM:-0600
TZOFFSETTO:-0500
TZNAME:CDT
DTSTART:20200308T080000
END:DAYLIGHT
BEGIN:STANDARD
TZOFFSETFROM:-0500
TZOFFSETTO:-0600
TZNAME:CST
DTSTART:20201101T070000
END:STANDARD
END:VTIMEZONE
BEGIN:VEVENT
DTSTART;VALUE=DATE:20190707
DTEND;VALUE=DATE:20190709
DTSTAMP:20260421T140915
CREATED:20190624T184305Z
LAST-MODIFIED:20190624T184305Z
UID:11212-1562457600-1562630399@www.mshumanities.org
SUMMARY:Re-Entry Mississippi: 50 Years of the Apollo Program
DESCRIPTION:  \n  \n  \n  \n  \nOur nation is celebrating 50 years of space exploration through the Apollo programs and projects this year and the Delta’s men and women were intrinsically involved in the explored\, discovery\, and successes of the new NASA programs. \nThe in-house curated exhibition provides a platform for understanding the breath and depth of the NASA program and its effect on today’s STEM initiatives while the public programming provides the audience an opportunity to hear from those who were involved in the ‘boots on the ground’ discovery and leadership of the Apollo programs. The exhibit and program will provide a greater understanding of NASA and Mississippi’s relationship then\, now\, and for the future. \n 
URL:https://www.mshumanities.org/event/re-entry-mississippi-50-years-apollo-program/
LOCATION:Delta State University Capps Archives Building\, 1003 W Sunflower Rd\, Cleveland\, MS\, 38733\, United States
END:VEVENT
BEGIN:VEVENT
DTSTART;TZID=America/Chicago:20190710T090000
DTEND;TZID=America/Chicago:20190710T120000
DTSTAMP:20260421T140915
CREATED:20190626T153715Z
LAST-MODIFIED:20190626T153715Z
UID:11215-1562749200-1562760000@www.mshumanities.org
SUMMARY:SB: Mississippi Telling
DESCRIPTION:The presenter provides an overview of the storytelling Renaissance in America with emphasis upon the oral tradition in Mississippi. The literary tradition of Mississippi owes much to the rich storytelling legacy that riddles the tales of our families and our communities as reflected in the works of many of our best authors: Welty\, Wright\, Faulkner\, Henley\, Williams. As part of the presentation\, Dr. Jernigan performs as a story teller calling upon on her rich repertoire of original tales and literary masterpieces gearing her choices of tales according to her audience and offers material for children and adults. \nSpeakers Expertise:\nRebecca Moore Jernigan is an internationally recognized scholar and professional storyteller who resides in Oxford.
URL:https://www.mshumanities.org/event/sb-mississippi-telling-5/
LOCATION:O.B. McClinton Foundation grounds\, 2106 Gravel Springs Rd.\, Senatobia\, MS\, 38668
END:VEVENT
BEGIN:VEVENT
DTSTART;TZID=America/Chicago:20190712T120000
DTEND;TZID=America/Chicago:20190712T140000
DTSTAMP:20260421T140915
CREATED:20190626T154031Z
LAST-MODIFIED:20190626T154031Z
UID:11216-1562932800-1562940000@www.mshumanities.org
SUMMARY:SB: A Look at Mande Culture through Traditional Music
DESCRIPTION:This presentation will give the listener a glimpse of the Mande Culture of West Africa. In the tradition of the Mande\, the history and culture is orally preserved in the minds and through the music of the Djeli (oral librarian/mandenka hereditary professional musicians). The establishment of the Mali Empire can be recalled and retold in the musical piece of the legendary Densoba (great warrior) Sunjata. This discussion explores the function of the Mande music and musical instruments\, Mande class system\, songs\, ceremonies and stories. The discussion also examines the influence of West Africa on American culture and why the djembe was outlawed during slavery. Participants will learn about the djembe\, its introduction by drummers like Babatunde Olatunji in 1950 and Ladji Camara from Guinea\, and how it spread throughout America. \nSpeakers Expertise:\nJerry Jenkins is a musician and educator trained in the music of West Africa.
URL:https://www.mshumanities.org/event/sb-look-mande-culture-traditional-music/
LOCATION:Kemetic Institute of Mound Bayou\, 205 N. Edwards Ave.\, Mound Bayou\, MS\, 38762
END:VEVENT
BEGIN:VEVENT
DTSTART;TZID=America/Chicago:20190716T173000
DTEND;TZID=America/Chicago:20190716T190000
DTSTAMP:20260421T140915
CREATED:20190703T141515Z
LAST-MODIFIED:20190703T141515Z
UID:11219-1563298200-1563303600@www.mshumanities.org
SUMMARY:Ideas on Tap: Look At Me: Image and Identity in the Digital Age
DESCRIPTION:On July 16\, join the Mississippi Humanities Council and Millsaps College Visiting Writers Series at Coffee Prose Midtown for a conversation on identity in the digital age. \nThe Ideas on Tap program\, “Look At Me: Image and Identity in the Digital Age\,” will explore how we define identity and how photography and technology have changed the way we define and present ourselves. \nHear from comedian and social media influencer Rita Brent\,  photographer Imani Khayyam\, and Mississippi Museum of Art Center for Art & Public Exchange director Monique Davis. As always\, snacks and great conversation are on us\, and drinks are on you. \n 
URL:https://www.mshumanities.org/event/look-image-identity-digital-age/
LOCATION:Coffee Prose\, 1619 N West St\, Jackson\, MS\, 39202\, United States
END:VEVENT
BEGIN:VEVENT
DTSTART;VALUE=DATE:20190719
DTEND;VALUE=DATE:20190721
DTSTAMP:20260421T140915
CREATED:20190627T154853Z
LAST-MODIFIED:20190627T154853Z
UID:11218-1563494400-1563667199@www.mshumanities.org
SUMMARY:Old Asylum History Days
DESCRIPTION:Are you the descendant of someone who was a patient or employee at the Mississippi State Insane Hospital between 1855 and 1935? You are invited to tell your story! \nThis free event is open to the public and will include the following activities for attendees: \n\n Have your stories about the Old Asylum recorded to video.\n Enjoy presentations about the history of the Old Asylum and plans for the Asylum Hill Project.\n Learn how to archivally preserve your own family photos\, documents and memorabilia.\n Receive free high-resolution scanning of your photos and documents.\n Receive a free archival sleeve for your photos and documents.\n**Sign up ahead of time or just drop in!**
URL:https://www.mshumanities.org/event/old-asylum-history-days/
LOCATION:School of Health Related Professions Building\, University of Mississippi Medical Center\, Jackson\, MS\, United States
END:VEVENT
BEGIN:VEVENT
DTSTART;TZID=America/Chicago:20190719T150000
DTEND;TZID=America/Chicago:20190719T170000
DTSTAMP:20260421T140915
CREATED:20190715T150647Z
LAST-MODIFIED:20190715T150647Z
UID:11220-1563548400-1563555600@www.mshumanities.org
SUMMARY:SB: A Look at Mande Culture Through Traditional Music
DESCRIPTION:This presentation will give the listener a glimpse of the Mande Culture of West Africa. In the tradition of the Mande\, the history and culture is orally preserved in the minds and through the music of the Djeli (oral librarian/mandenka hereditary professional musicians). The establishment of the Mali Empire can be recalled and retold in the musical piece of the legendary Densoba (great warrior) Sunjata. This discussion explores the function of the Mande music and musical instruments\, Mande class system\, songs\, ceremonies and stories. The discussion also examines the influence of West Africa on American culture and why the djembe was outlawed during slavery. Participants will learn about the djembe\, its introduction by drummers like Babatunde Olatunji in 1950 and Ladji Camara from Guinea\, and how it spread throughout America. \nSpeakers Expertise:\nJerry Jenkins is a musician and educator trained in the music of West Africa.
URL:https://www.mshumanities.org/event/sb-look-mande-culture-traditional-music-2/
LOCATION:Clinton YMCA\, 400 Lindale Street\, Clinton\, MS\, 39056
END:VEVENT
BEGIN:VEVENT
DTSTART;TZID=America/Chicago:20190726T090000
DTEND;TZID=America/Chicago:20190726T120000
DTSTAMP:20260421T140915
CREATED:20190725T185206Z
LAST-MODIFIED:20190725T185206Z
UID:11230-1564131600-1564142400@www.mshumanities.org
SUMMARY:SB: A Look at Mande Culture through Traditional Music
DESCRIPTION:This presentation will give the listener a glimpse of the Mande Culture of West Africa. In the tradition of the Mande\, the history and culture is orally preserved in the minds and through the music of the Djeli (oral librarian/mandenka hereditary professional musicians). The establishment of the Mali Empire can be recalled and retold in the musical piece of the legendary Densoba (great warrior) Sunjata. This discussion explores the function of the Mande music and musical instruments\, Mande class system\, songs\, ceremonies and stories. The discussion also examines the influence of West Africa on American culture and why the djembe was outlawed during slavery. Participants will learn about the djembe\, its introduction by drummers like Babatunde Olatunji in 1950 and Ladji Camara from Guinea\, and how it spread throughout America. \nSpeakers Expertise:\nJerry Jenkins is a musician and educator trained in the music of West Africa.
URL:https://www.mshumanities.org/event/sb-look-mande-culture-traditional-music-4/
LOCATION:O.B. McClinton Foundation grounds\, 2106 Gravel Springs Rd.\, Senatobia\, MS\, 38668
END:VEVENT
BEGIN:VEVENT
DTSTART;TZID=America/Chicago:20190727T170000
DTEND;TZID=America/Chicago:20190727T183000
DTSTAMP:20260421T140915
CREATED:20190725T185123Z
LAST-MODIFIED:20190725T185123Z
UID:11229-1564246800-1564252200@www.mshumanities.org
SUMMARY:SB: A Look at Mande Culture through Traditional Music
DESCRIPTION:This presentation will give the listener a glimpse of the Mande Culture of West Africa. In the tradition of the Mande\, the history and culture is orally preserved in the minds and through the music of the Djeli (oral librarian/mandenka hereditary professional musicians). The establishment of the Mali Empire can be recalled and retold in the musical piece of the legendary Densoba (great warrior) Sunjata. This discussion explores the function of the Mande music and musical instruments\, Mande class system\, songs\, ceremonies and stories. The discussion also examines the influence of West Africa on American culture and why the djembe was outlawed during slavery. Participants will learn about the djembe\, its introduction by drummers like Babatunde Olatunji in 1950 and Ladji Camara from Guinea\, and how it spread throughout America. \nSpeakers Expertise:\nJerry Jenkins is a musician and educator trained in the music of West Africa.
URL:https://www.mshumanities.org/event/sb-look-mande-culture-traditional-music-3/
LOCATION:China Grove AME Church\, 1060 Mannsdale Road\, Madison\, MS\, 39130
END:VEVENT
BEGIN:VEVENT
DTSTART;TZID=America/Chicago:20190731T180000
DTEND;TZID=America/Chicago:20190731T190000
DTSTAMP:20260421T140915
CREATED:20190722T183225Z
LAST-MODIFIED:20190722T183225Z
UID:11226-1564596000-1564599600@www.mshumanities.org
SUMMARY:SB: The Asylum Hill Cemetery Project
DESCRIPTION:The Mississippi Insane Asylum was established in Jackson in 1855 and operated in this location until 1935. During this period\, a cemetery was maintained on the asylum grounds in which several thousand deceased patients were interred. This site is now occupied by the University of Mississippi Medical Center\, for which mission-critical needs have raised numerous administrative\, ethical\, cultural and practical challenges in the long-term management of these burial sites. This presentation provides an overview of the history of the asylum and describes a proposal to memorialize those buried in the Asylum Hill Cemetery in a manner that also creates a research and education resource. \nSpeakers Expertise:\nDr. Ralph H. Didlake is associate vice chancellor for academic affairs and chief academic officer for the University of Mississippi Medical Center. He is also a professor of surgery and director of UMMC’s Center for Bioethics and Medical Humanities. Dr. Didlake’s focus is on the integration of biomedical ethics and professionalism across Mississippi clinical\, educational and research efforts.
URL:https://www.mshumanities.org/event/sb-asylum-hill-cemetery-project-2/
LOCATION:Library of Hattiesburg\, Petal\, and Forrest County\, 329 Hardy Street\, Hattiesburg\, MS\, 39401
END:VEVENT
END:VCALENDAR