BEGIN:VCALENDAR
VERSION:2.0
PRODID:-//Mississippi Humanities Council - ECPv6.15.18//NONSGML v1.0//EN
CALSCALE:GREGORIAN
METHOD:PUBLISH
X-WR-CALNAME:Mississippi Humanities Council
X-ORIGINAL-URL:https://www.mshumanities.org
X-WR-CALDESC:Events for Mississippi Humanities Council
REFRESH-INTERVAL;VALUE=DURATION:PT1H
X-Robots-Tag:noindex
X-PUBLISHED-TTL:PT1H
BEGIN:VTIMEZONE
TZID:America/Chicago
BEGIN:DAYLIGHT
TZOFFSETFROM:-0600
TZOFFSETTO:-0500
TZNAME:CDT
DTSTART:20190310T080000
END:DAYLIGHT
BEGIN:STANDARD
TZOFFSETFROM:-0500
TZOFFSETTO:-0600
TZNAME:CST
DTSTART:20191103T070000
END:STANDARD
BEGIN:DAYLIGHT
TZOFFSETFROM:-0600
TZOFFSETTO:-0500
TZNAME:CDT
DTSTART:20200308T080000
END:DAYLIGHT
BEGIN:STANDARD
TZOFFSETFROM:-0500
TZOFFSETTO:-0600
TZNAME:CST
DTSTART:20201101T070000
END:STANDARD
BEGIN:DAYLIGHT
TZOFFSETFROM:-0600
TZOFFSETTO:-0500
TZNAME:CDT
DTSTART:20210314T080000
END:DAYLIGHT
BEGIN:STANDARD
TZOFFSETFROM:-0500
TZOFFSETTO:-0600
TZNAME:CST
DTSTART:20211107T070000
END:STANDARD
END:VTIMEZONE
BEGIN:VEVENT
DTSTART;TZID=America/Chicago:20200109T080000
DTEND;TZID=America/Chicago:20200109T170000
DTSTAMP:20260422T002445
CREATED:20191113T161431Z
LAST-MODIFIED:20191113T161431Z
UID:11253-1578556800-1578589200@www.mshumanities.org
SUMMARY:Bridging Cultures: Working for Equity Across Race\, Class\, Religion\, and Ethnicity
DESCRIPTION:Through its “Bridging Cultures” Program\, the International Museum of Muslin Cultures utilizes its two signature exhibitions: “Muslims with Christians and Jews: An Exhibition of Covenants and Coexistence\,” and “The Legacy of Timbuktu: Wonders of the Written Word” to develop a series of programs and educational opportunities.  IMMC’s Islamic Thought Institute engages local and national partners to host a series of conversations and/or panel discussions around the various themes of the two exhibitions. \nThe topic for January’s event is “Two Americas: The Aspirational and the Real\,” A conversation about America’s history of slavery and remedies for equity and healing.
URL:https://www.mshumanities.org/event/bridging-cultures-working-equity-across-race-class-religion-ethnicity-2/
LOCATION:International Museum of Muslim Cultures\, 201 East Pascagoula Street\, Jackson\, MS\, 39201
END:VEVENT
BEGIN:VEVENT
DTSTART;TZID=America/Chicago:20200117T100000
DTEND;TZID=America/Chicago:20200117T120000
DTSTAMP:20260422T002445
CREATED:20191112T160820Z
LAST-MODIFIED:20191112T160820Z
UID:11249-1579255200-1579262400@www.mshumanities.org
SUMMARY:50th Recollection of Gibbs-Green: MLK Convocation
DESCRIPTION:In the spring of 1970\, college and university students across the country protested against the Vietnam War\, racism\, gender oppression\, and a host of other issues\, at times leading to violent and deadly confrontations with police and national guard troops. On May 14th\, 1970\, students at Jackson State College staged a demonstration condemning racial discrimination in Mississippi and the killing of four students at Kent State University by the Ohio National Guard on May 4th. The demonstration continued into the night. Shortly after midnight on May 15th\, police\, who claimed they had been shot at\, opened fire on students gathered outside Alexander Hall\, a campus dormitory. When the shooting stopped\, 21-year-old Phillip Gibbs and 17-year-old James Green lay dead. twelve other students were injured. \nThe 50th anniversary commemoration of the shooting on what is now the campus of Jackson State University will include five major programs. The Student Government Association\, Gibbs-Green Commission\, and Gibbs-Green  Oral History Project developed the programs which will coordinate with Kent State University to link the events on both campuses. \nJanuary 17 Event: \nThe first event is the Martin Luther King\, Jr. birthday convocation and For My People awards ceremony scheduled Friday\, January 17th in the Rose McCoy auditorium and JSU Student Center Ballroom\, respectively\, where Phillip Gibbs and James Green will be remembered and honored.
URL:https://www.mshumanities.org/event/52nd-annual-dr-martin-luther-king-jr-birthday-convention/
LOCATION:MS
END:VEVENT
BEGIN:VEVENT
DTSTART;TZID=America/Chicago:20200121T113000
DTEND;TZID=America/Chicago:20200121T123000
DTSTAMP:20260422T002445
CREATED:20200123T170433Z
LAST-MODIFIED:20200123T170433Z
UID:11268-1579606200-1579609800@www.mshumanities.org
SUMMARY:SB: The Mississippi Plan and the Rise of Jim Crow
DESCRIPTION:After the Civil War\, African Americans in the South\, newly freed\, expressed a tangible optimism that led to the reuniting of families\, the development of social institutions like the black church\, the rise of cultural expressions like the Blues and jazz\, the establishment of black-owned businesses and other economic endeavors\, and the wielding of significant political power. On the other hand\, as Dr. Luckett explains in this talk\, most white southerners\, especially in Mississippi\, saw this rise of black social\, economic and political power as a direct threat to their hegemony\, which had been so well established during the era of slavery\, and whites sought to “redeem” their place in the southern hierarchy through violent extra-legal measures like lynching and through the realm of law. The invention of Jim Crow and what became known as the “Mississippi Plan” became the models for the rest of the South. The Mississippi Plan and Jim Crow stood on the shoulders of black disfranchisement\, segregation and sharecropping to guarantee white power as well as second-class citizenship for African Americans throughout the South\, a status black southerners have fought ever since. \nSpeakers Expertise:\nAs a Civil Rights historian\, Dr. Luckett’s expertise is on the modern Civil Rights Movement and the African-American experience. As director of the Margaret Walker Center at Jackson State University\, Dr. Luckett has become an expert on Walker’s life and her experiences\, especially as they related to the Black Arts Movement of the 20th century. \n  \n*Presentation will take place in the Pope Banquet Room of the Hogarth Building
URL:https://www.mshumanities.org/event/sb-mississippi-plan-rise-jim-crow/
LOCATION:Mississippi University for Women\, 1100 College Street\, Columbus\, MS\, 39701
END:VEVENT
BEGIN:VEVENT
DTSTART;TZID=America/Chicago:20200130T180000
DTEND;TZID=America/Chicago:20200130T190000
DTSTAMP:20260422T002445
CREATED:20200123T170704Z
LAST-MODIFIED:20200123T170704Z
UID:11269-1580407200-1580410800@www.mshumanities.org
SUMMARY:SB: Black Women and the Suffrage Movement in Mississippi\, 1863-1965
DESCRIPTION:Black women in Mississippi actively participated in the suffrage movement after the Civil War. They fought actively for women’s suffrage even as they supported Black men and passage of the 15th Amendment. With passage of the 19th Amendment in 1920\, Black women could not claim victory. It would take another 40  years before they could exercise the right to vote. White supremacy robbed Black women of the right to vote. White women\, who should have been allies in the fight for women’s suffrage\, turned their backs on Black women. Black women\, then\, fought both racism and sexism in the struggle for the right to vote. They created a vibrant\, active political culture that began during the Civil War. They attended political rallies\, campaigned and raised money for candidates\, monitored polling places\, and counted ballots. They participated actively in political clubs\, first in Loyal Leagues and later in Republican Clubs. Black women built a vibrant political culture in the church\, secret societies\, clubs\, and even their independent enterprises. They did so despite being shunned by White women suffragists; subjected to extralegal racial sexual violence and economic repression by Whites; and  undermined by the sexism of Black men. This presentation provides an overview of the 100-year-fight by Black women in Mississippi to maintain their place in public political discourse\, from the Civil War to passage of the Voting Rights Act in 1965. \nSpeakers Expertise:\nA scholar of black women’s history\, Dr. Garrett-Scott teaches courses at the University of Mississippi in the Departments of History and African American Studies. She is a specialist in the history of gender\, race and the political economy in the United States with a particular emphasis on black women in business in the early twentieth-century South. In addition to teaching a course about Mississippi daughter Oprah Winfrey\, she teaches a course on Black Mississippi History. She published an article in an international business history journal on Minnie Cox of Indianola\, who\, after being the target of extralegal violence during the Indianola Affair (1902-1903)\, co-founded one of the earliest black-owned banks in Mississippi and the first black-owned insurance company in the country to offer whole life insurance\, the Mississippi Life Insurance Company. \n*Presentation will take place in the Nissan Auditorium in Perkinson Hall
URL:https://www.mshumanities.org/event/sb-black-women-suffrage-movement-mississippi-1863-1965/
LOCATION:Mississippi University for Women\, 1100 College Street\, Columbus\, MS\, 39701
END:VEVENT
END:VCALENDAR