BEGIN:VCALENDAR
VERSION:2.0
PRODID:-//Mississippi Humanities Council - ECPv6.15.18//NONSGML v1.0//EN
CALSCALE:GREGORIAN
METHOD:PUBLISH
X-ORIGINAL-URL:https://www.mshumanities.org
X-WR-CALDESC:Events for Mississippi Humanities Council
REFRESH-INTERVAL;VALUE=DURATION:PT1H
X-Robots-Tag:noindex
X-PUBLISHED-TTL:PT1H
BEGIN:VTIMEZONE
TZID:America/Chicago
BEGIN:DAYLIGHT
TZOFFSETFROM:-0600
TZOFFSETTO:-0500
TZNAME:CDT
DTSTART:20190310T080000
END:DAYLIGHT
BEGIN:STANDARD
TZOFFSETFROM:-0500
TZOFFSETTO:-0600
TZNAME:CST
DTSTART:20191103T070000
END:STANDARD
BEGIN:DAYLIGHT
TZOFFSETFROM:-0600
TZOFFSETTO:-0500
TZNAME:CDT
DTSTART:20200308T080000
END:DAYLIGHT
BEGIN:STANDARD
TZOFFSETFROM:-0500
TZOFFSETTO:-0600
TZNAME:CST
DTSTART:20201101T070000
END:STANDARD
BEGIN:DAYLIGHT
TZOFFSETFROM:-0600
TZOFFSETTO:-0500
TZNAME:CDT
DTSTART:20210314T080000
END:DAYLIGHT
BEGIN:STANDARD
TZOFFSETFROM:-0500
TZOFFSETTO:-0600
TZNAME:CST
DTSTART:20211107T070000
END:STANDARD
END:VTIMEZONE
BEGIN:VEVENT
DTSTART;TZID=America/Chicago:20200304T180000
DTEND;TZID=America/Chicago:20200304T190000
DTSTAMP:20260422T032541
CREATED:20200121T180704Z
LAST-MODIFIED:20200121T180704Z
UID:11262-1583344800-1583348400@www.mshumanities.org
SUMMARY:The Global South and the Black Diaspora--From Mississippi to the Caribbean
DESCRIPTION:A two-day event with keynote presentations by Dr. Jarvis McInnis\, the Cordelia and William Laverack Assistant Professor of English at Duke University. A graduate of Tougaloo College\, Dr. McInnis’s upcoming book\, The Afterlives of the Plantation: Aesthetics\, Labor\, and Diaspora in the Global Black South\, examines black transnational identity through African American and Caribbean culture and literature during the early twentieth century. McInnis’s recognition that black identities overlapped as much as they diverged\, offers a unique insight into this period of history where the consolidation of white power–through imperialist growth and systematic black disempowerment–tend to dominate the historical narrative. \n \nMcInnis offers two lectures\, both free and open to the public: \nWednesday\, March 4th @ 6pm\, at Millsaps College (focused on the book project with an eye toward the meaning of the “Global South” and racial identity \nThursday\, March 5th @ 12PM\, at the 2020 Mississippi Historical Society’s annual meeting in Cleveland\, MS (focused on his archival journey and the process of developing his recently published article\, “A Corporate Plantation Reading Public: Labor\, Literacy\, and Diaspora in the Global South\,”–Which focuses on Cotton Farmer\, an African American newspaper published by black tenant farmers in the Mississippi Delta.)
URL:https://www.mshumanities.org/event/global-south-black-diaspora-mississippi-carribbean/
LOCATION:Millsaps College\, 1701 N. State Street\, Jackson\, Mississippi\, 39202
END:VEVENT
BEGIN:VEVENT
DTSTART;TZID=America/Chicago:20200305T120000
DTEND;TZID=America/Chicago:20200305T140000
DTSTAMP:20260422T032541
CREATED:20200121T180853Z
LAST-MODIFIED:20200121T180853Z
UID:11263-1583409600-1583416800@www.mshumanities.org
SUMMARY:The Global South and the Black Diaspora–From Mississippi to the Caribbean
DESCRIPTION:A two-day event with keynote presentations by Dr. Jarvis McInnis\, the Cordelia and William Laverack Assistant Professor of English at Duke University. A graduate of Tougaloo College\, Dr. McInnis’s upcoming book\, The Afterlives of the Plantation: Aesthetics\, Labor\, and Diaspora in the Global Black South\, examines black transnational identity through African American and Caribbean culture and literature during the early twentieth century. McInnis’s recognition that black identities overlapped as much as they diverged\, offers a unique insight into this period of history where the consolidation of white power–through imperialist growth and systematic black disempowerment–tend to dominate the historical narrative. \n \nMcInnis offers two lectures\, both free and open to the public: \nWednesday\, March 4th @ 6pm\, at Millsaps College (focused on the book project with an eye toward the meaning of the “Global South” and racial identity \nThursday\, March 5th @ 12PM\, at the 2020 Mississippi Historical Society’s annual meeting in Cleveland\, MS (focused on his archival journey and the process of developing his recently published article\, “A Corporate Plantation Reading Public: Labor\, Literacy\, and Diaspora in the Global South\,”–Which focuses on Cotton Farmer\, an African American newspaper published by black tenant farmers in the Mississippi Delta.)
URL:https://www.mshumanities.org/event/global-south-black-diaspora-mississippi-caribbean/
LOCATION:Delta State University\, 1003 W Sunflower Rd\, Cleveland\, MS\, 38733\, United States
END:VEVENT
BEGIN:VEVENT
DTSTART;TZID=America/Chicago:20200307T180000
DTEND;TZID=America/Chicago:20200307T190000
DTSTAMP:20260422T032541
CREATED:20200211T162012Z
LAST-MODIFIED:20200211T162012Z
UID:11280-1583604000-1583607600@www.mshumanities.org
SUMMARY:Margaret's Grocery: The Oral History of a Southern Vernacular Place
DESCRIPTION:  \n  \n  \n  \n  \nLocated north of downtown Vicksburg on old Highway 61\, Margaret’s Grocery is a unique vernacular art environment created by Reverend H.D. Dennis. Margaret Rogers Dennis ran the former country store for years. When she met and married Reverend Dennis in the early 1980s\, he promised her that he would transform her simple store into a place that the world would come to see. Although the site is no longer open as a store\, the Grocery has attracted visitors from around the world to experience Reverend Dennis’ creation. \n  \n 
URL:https://www.mshumanities.org/event/margarets-grocery-oral-history-southern-vernacular-place/
LOCATION:Strand Theatre\, 717 Clay Street\, Vicksburg\, MS\, 39183
END:VEVENT
BEGIN:VEVENT
DTSTART;TZID=America/Chicago:20200312T080000
DTEND;TZID=America/Chicago:20200312T170000
DTSTAMP:20260422T032541
CREATED:20191113T162246Z
LAST-MODIFIED:20191113T162246Z
UID:11255-1584000000-1584032400@www.mshumanities.org
SUMMARY:Bridging Cultures: Working for Equity Across Race\, Class\, Religion\, and Ethnicity
DESCRIPTION:Through its “Bridging Cultures” Program\, the International Museum of Muslin Cultures utilizes its two signature exhibitions: “Muslims with Christians and Jews: An Exhibition of Covenants and Coexistence\,” and “The Legacy of Timbuktu: Wonders of the Written Word” to develop a series of programs and educational opportunities.  IMMC’s Islamic Thought Institute engages local and national partners to host a series of conversations and/or panel discussions around the various themes of the two exhibitions. \nThe topic for March’s event is “Religion and the Freedom Movement: The Historical and Current Role of Women\,” A conversation exploring religion’s connection with the Freedom Movement through the role of women.
URL:https://www.mshumanities.org/event/bridging-cultures-working-equity-across-race-class-religion-ethnicity-4/
LOCATION:International Museum of Muslim Cultures\, 201 East Pascagoula Street\, Jackson\, MS\, 39201
END:VEVENT
BEGIN:VEVENT
DTSTART;TZID=America/Chicago:20200313T180000
DTEND;TZID=America/Chicago:20200313T190000
DTSTAMP:20260422T032541
CREATED:20200123T164234Z
LAST-MODIFIED:20200123T164234Z
UID:11264-1584122400-1584126000@www.mshumanities.org
SUMMARY:Voice and Vision: Tunica-Biloxi Living History
DESCRIPTION:These programs are part of the Museum’s Voice and Vision initiative that stages dialogues between the works of Walter Anderson and artifacts from other collections\, along with voices across time and place. Voice and Vision includes four in-gallery installations composed of artworks\, objects\, scholarship\, and documentary fieldwork\, representing a diversity of stories and experiences rooted in the Southern land. \nWalter Anderson’s art and life were the products of wide-ranging and multicultural influences\, encompassing transcendentalism\, folktale\, and indigenous ways of understanding the world. In partnership with the Tunica-Biloxi Tribe of Louisiana\, this interdisciplinary public program connects Anderson’s art to the history and traditions of First Nations Americans who called the Gulf Coast home prior to European arrival. Special guests include John D. Barbry\, Donna M. Pierite and Elisabeth Pierite-Mora\, co-authors of The Tunica-Biloxi Tribe: Its Culture and People\, and leaders of the Language & Cultural Revitalization Program of the Tunica-Biloxi Tribe of Louisiana. Cost: Free to the public.
URL:https://www.mshumanities.org/event/voice-and-vision/
LOCATION:Walter Anderson Museum of Art\, 510 Washington Ave\, Ocean Springs\, MS\, 39564
END:VEVENT
END:VCALENDAR