BEGIN:VCALENDAR
VERSION:2.0
PRODID:-//Mississippi Humanities Council - ECPv6.15.18//NONSGML v1.0//EN
CALSCALE:GREGORIAN
METHOD:PUBLISH
X-ORIGINAL-URL:https://www.mshumanities.org
X-WR-CALDESC:Events for Mississippi Humanities Council
REFRESH-INTERVAL;VALUE=DURATION:PT1H
X-Robots-Tag:noindex
X-PUBLISHED-TTL:PT1H
BEGIN:VTIMEZONE
TZID:America/Chicago
BEGIN:DAYLIGHT
TZOFFSETFROM:-0600
TZOFFSETTO:-0500
TZNAME:CDT
DTSTART:20190310T080000
END:DAYLIGHT
BEGIN:STANDARD
TZOFFSETFROM:-0500
TZOFFSETTO:-0600
TZNAME:CST
DTSTART:20191103T070000
END:STANDARD
BEGIN:DAYLIGHT
TZOFFSETFROM:-0600
TZOFFSETTO:-0500
TZNAME:CDT
DTSTART:20200308T080000
END:DAYLIGHT
BEGIN:STANDARD
TZOFFSETFROM:-0500
TZOFFSETTO:-0600
TZNAME:CST
DTSTART:20201101T070000
END:STANDARD
BEGIN:DAYLIGHT
TZOFFSETFROM:-0600
TZOFFSETTO:-0500
TZNAME:CDT
DTSTART:20210314T080000
END:DAYLIGHT
BEGIN:STANDARD
TZOFFSETFROM:-0500
TZOFFSETTO:-0600
TZNAME:CST
DTSTART:20211107T070000
END:STANDARD
END:VTIMEZONE
BEGIN:VEVENT
DTSTART;TZID=America/Chicago:20200806T100000
DTEND;TZID=America/Chicago:20200806T110000
DTSTAMP:20260422T105436
CREATED:20200730T155803Z
LAST-MODIFIED:20200730T155803Z
UID:11309-1596708000-1596711600@www.mshumanities.org
SUMMARY:MHC Virtual Grantwriting Workshop-Registration Required
DESCRIPTION:Join the Mississippi Humanities Council program staff Thursday\, August 6 from 10-11am for a Zoom webinar exploring grant opportunities with the Council. The webinar will include basic guidelines for planning public humanities programs and events\, grant application procedures\, and a special session on planning virtual programs  in this time of social-distancing.\n\nThe workshop is free and open to all. Community organizations such as nonprofits\, libraries\, museums\, tribal entities\, community colleges\, universities\, and professors are encouraged to attend.\n\nAt the conclusion of the webinar\, participants may request one-on-one consultation about specific programs or events they may be planning.\n\nTo register for this webinar\, email Molly McMillan at mmcmillan@mhc.state.ms.us
URL:https://www.mshumanities.org/event/mhc-virtual-grantwriting-workshop-registration-required/
LOCATION:MS
END:VEVENT
BEGIN:VEVENT
DTSTART;TZID=America/Chicago:20200811T173000
DTEND;TZID=America/Chicago:20200811T190000
DTSTAMP:20260422T105436
CREATED:20200724T153440Z
LAST-MODIFIED:20200724T153440Z
UID:11308-1597167000-1597172400@www.mshumanities.org
SUMMARY:Ideas on Tap: Systemic Racism in America\, Part II--Education and Housing
DESCRIPTION:On August 11\, join the Mississippi Humanities Council for the second program in a multi-part series on systemic racism in America.\n\nThe August program will address how racism exists at the systemic level in education and housing in the U.S. Panelists include Dr. Corey Wiggins (Mississippi State Conference NAACP)\, Rebecca Sibilia (EdBuild)\, and Travis Crabtree (City of Jackson Planning Department). Dr. Temika Simmons\, MHC boardmember and director of the Local Government Leadership Institute at Delta State University\, will moderate.\n\nThe August 11 program will be livestreamed to the MHC’s Facebook page.
URL:https://www.mshumanities.org/event/ideas-tap-systemic-racism-america-part-ii-education-housing/
LOCATION:Virtual
END:VEVENT
END:VCALENDAR