BEGIN:VCALENDAR
VERSION:2.0
PRODID:-//Mississippi Humanities Council - ECPv6.15.18//NONSGML v1.0//EN
CALSCALE:GREGORIAN
METHOD:PUBLISH
X-ORIGINAL-URL:https://www.mshumanities.org
X-WR-CALDESC:Events for Mississippi Humanities Council
REFRESH-INTERVAL;VALUE=DURATION:PT1H
X-Robots-Tag:noindex
X-PUBLISHED-TTL:PT1H
BEGIN:VTIMEZONE
TZID:America/Chicago
BEGIN:DAYLIGHT
TZOFFSETFROM:-0600
TZOFFSETTO:-0500
TZNAME:CDT
DTSTART:20190310T080000
END:DAYLIGHT
BEGIN:STANDARD
TZOFFSETFROM:-0500
TZOFFSETTO:-0600
TZNAME:CST
DTSTART:20191103T070000
END:STANDARD
BEGIN:DAYLIGHT
TZOFFSETFROM:-0600
TZOFFSETTO:-0500
TZNAME:CDT
DTSTART:20200308T080000
END:DAYLIGHT
BEGIN:STANDARD
TZOFFSETFROM:-0500
TZOFFSETTO:-0600
TZNAME:CST
DTSTART:20201101T070000
END:STANDARD
BEGIN:DAYLIGHT
TZOFFSETFROM:-0600
TZOFFSETTO:-0500
TZNAME:CDT
DTSTART:20210314T080000
END:DAYLIGHT
BEGIN:STANDARD
TZOFFSETFROM:-0500
TZOFFSETTO:-0600
TZNAME:CST
DTSTART:20211107T070000
END:STANDARD
END:VTIMEZONE
BEGIN:VEVENT
DTSTART;VALUE=DATE:20200914
DTEND;VALUE=DATE:20201023
DTSTAMP:20260422T121013
CREATED:20200916T012143Z
LAST-MODIFIED:20200916T012143Z
UID:11311-1600041600-1603411199@www.mshumanities.org
SUMMARY:"Crossroads" Exhibit in Senatobia
DESCRIPTION:Northwest Mississippi Community College will host Crossroads: Change in Rural America\, a Smithsonian traveling exhibition\, from September 14 through October 22. The exhibit is open to the public Mondays-Thursdays from 8am to 9pm\, Fridays from 8am-3:30pm\, and Sundays 2-7pm. \nCrossroads is a traveling exhibit offered by the Museum on Main Street division of the Smithsonian Institution. It consists of six free-standing display units incorporating photographs\, text\, and numerous interactive elements. Requiring a minimum of 750 sq. ft.\, the exhibit is designed for smaller venues to achieve Museum on Main Street’s goal of bringing the Smithsonian to small town America. The exhibit is free and open to the public to visit. The Mississippi tour of Crossroads is sponsored by a generous grant from Entergy Mississippi. \nCrossroads: Change in Rural America offers small towns a chance to look at their own paths to highlight the changes that affected their fortunes over the past century. The exhibition will prompt discussions about what happened when America’s rural population became a minority of the country’s population and the ripple effects that occurred. \nIn addition to hosting the exhibit\, Northwest will also host a series of programs that are free and open to the public. \nCrossroads events in Senatobia:\nSeptember 25\, 11am: “Exploring Rural Mississippi Through Population Studies” lecture\nSeptember 29\, 6pm: “Mississippi Foodways” Speakers Bureau program\nOctober 6\, 2pm: Virtual book discussion\, Crooked Letter\, Crooked Letter\nOctober 16\, 11am: “Cultural Appropriation at the Crossroads” lecture\nOctober 20\, 7pm: Bluegrass concert featuring local musician Andy Ratliff
URL:https://www.mshumanities.org/event/crossroads-exhibit-senatobia/
LOCATION:Northwest Mississippi Community College Learning Resource Center\, 4975 Highway 51 N\, Senatobia\, MS\, 38668\, United States
END:VEVENT
BEGIN:VEVENT
DTSTART;VALUE=DATE:20200915
DTEND;VALUE=DATE:20200916
DTSTAMP:20260422T121014
CREATED:20200706T173748Z
LAST-MODIFIED:20200706T173748Z
UID:11303-1600128000-1600214399@www.mshumanities.org
SUMMARY:Oxford to the Ballot Box: The 2020 U.S. Presidential Elections
DESCRIPTION:A series of online\, public programs focused on voter engagement in Mississippi. Public programs TBA.
URL:https://www.mshumanities.org/event/oxford-ballot-box-2020-u-s-presidential-elections/
LOCATION:MS
ORGANIZER;CN="Yoknapatawpha Arts Council":MAILTO:yacdirector@gmail.com
END:VEVENT
BEGIN:VEVENT
DTSTART;TZID=America/Chicago:20200925T110000
DTEND;TZID=America/Chicago:20200925T123000
DTSTAMP:20260422T121014
CREATED:20200917T133709Z
LAST-MODIFIED:20200917T133709Z
UID:11312-1601031600-1601037000@www.mshumanities.org
SUMMARY:Crossroads @ Senatobia: Exploring Rural Mississippi Through Population Studies
DESCRIPTION:On September 25\, the Learning Resource Center at Northwest Mississippi Community College in Senatobia will host Dr. John Green\, state scholar for the Crossroads exhibit\, to present his free program\, “From Snapshots to a Collage: Exploring Rural Mississippi through Population Studies.” The virtual program will take place in conjunction with the Smithsonian traveling exhibit Crossroads: Change in Rural America\, on display in Senatobia through October 22. The event will be conducted on Zoom. \nZoom meeting info:\nhttps://zoom.us/j/98626395139\nMeeting ID: 986 2639 5139 \nMany popular images of rural people and places present them as homogeneous in terms of demographic\, social\, and economic characteristics and trends. This may lead to oversimplification of rural areas and limited efforts to meet the needs and priorities of people living in these places. Achieving a better understanding of rural communities requires defining our concepts and identifying indicators of rural life in terms of continuity and change. Following an exploration of the terms “rural” and “non-metropolitan\,” Dr. Green will share a series of graphical images and narratives about Mississippi’s rural people and places using population-level information\, emphasizing what these “snapshots” of rural life tell us about Mississippi and how we might use them to form a “collage” that captures both the similarity and diversity. \nCrossroads: Change in Rural America offers small towns a chance to look at their own paths to highlight the changes that affected their fortunes over the past century. The exhibition will prompt discussions about what happened when America’s rural population became a minority of the country’s population and the ripple effects that occurred. \nThe exhibit is open to the public Mondays-Thursdays from 8am to 9pm\, Fridays from 8am-3:30pm\, and Sundays 2-7pm. \nFuture Crossroads events in Senatobia:\nSeptember 29\, 6pm: “Mississippi Foodways” Speakers Bureau program\nOctober 6\, 2pm: Virtual book discussion\, Crooked Letter\, Crooked Letter\nOctober 16\, 11am: “Cultural Appropriation at the Crossroads” lecture\nOctober 20\, 7pm: Bluegrass concert featuring local musician Andy Ratliff
URL:https://www.mshumanities.org/event/crossroads-senatobia-exploring-rural-mississippi-population-studies/
LOCATION:Virtual
END:VEVENT
BEGIN:VEVENT
DTSTART;TZID=America/Chicago:20200929T173000
DTEND;TZID=America/Chicago:20200929T184500
DTSTAMP:20260422T121014
CREATED:20200909T113804Z
LAST-MODIFIED:20200909T113804Z
UID:11310-1601400600-1601405100@www.mshumanities.org
SUMMARY:Ideas on Tap: Don't Tread On...Us? Individual Rights and the Common Good
DESCRIPTION:On September 29\, join the Mississippi Humanities Council for a conversation on individual rights and the common good in the COVID-19 era. \nThe program will address how individual rights and the common good can–or can’t–co-exist during a global pandemic\, and how COVID might further divide private and public interests. Panelists include Cassandra Welchlin\, lead organizer of the Mississippi Black Women’s Roundtable; Dr. Patrick Hopkins\, professor of philosophy at Millsaps College and faculty member at the Center for Bioethics and Medical Humanities at UMMC; and Russ Latino\, Senior Vice President for Empower Mississippi. MHC program officer Caroline Gillespie will moderate. \nThe event will be livestreamed to the MHC’s Facebook page.
URL:https://www.mshumanities.org/event/ideas-tap-dont-tread-us-individual-rights-common-good/
LOCATION:MS
END:VEVENT
BEGIN:VEVENT
DTSTART;TZID=America/Chicago:20200929T180000
DTEND;TZID=America/Chicago:20200929T193000
DTSTAMP:20260422T121014
CREATED:20200917T134731Z
LAST-MODIFIED:20200917T134731Z
UID:11313-1601402400-1601407800@www.mshumanities.org
SUMMARY:Crossroads @ Senatobia: Mississippi Foodways
DESCRIPTION:On September 29\, the Learning Resource Center at Northwest Mississippi Community College in Senatobia will host MHC Speakers Bureau member Malcolm White to present his free program “Mississippi Foodways.” The program will take place in conjunction with the Smithsonian traveling exhibit Crossroads: Change in Rural America\, on display in Senatobia through October 22. \nThis presentation offers observations by a longtime connoisseur of Southern food and culture on topics ranging from the history of Comeback Dressing to how the tamale came to Mississippi to the evolution of dining out in Mississippi. \nCrossroads: Change in Rural America offers small towns a chance to look at their own paths to highlight the changes that affected their fortunes over the past century. The exhibition will prompt discussions about what happened when America’s rural population became a minority of the country’s population and the ripple effects that occurred. \nThe exhibit is open to the public Mondays-Thursdays from 8am to 9pm\, Fridays from 8am-3:30pm\, and Sundays 2-7pm. \nFuture Crossroads events in Senatobia:\nOctober 6\, 2pm: Virtual book discussion\, Crooked Letter\, Crooked Letter\nOctober 16\, 11am: “Cultural Appropriation at the Crossroads” lecture\nOctober 20\, 7pm: Bluegrass concert featuring local musician Andy Ratliff
URL:https://www.mshumanities.org/event/crossroads-senatobia-mississippi-foodways/
LOCATION:Northwest Mississippi Community College Learning Resource Center\, 4975 Highway 51 N\, Senatobia\, MS\, 38668\, United States
END:VEVENT
END:VCALENDAR