BEGIN:VCALENDAR
VERSION:2.0
PRODID:-//Mississippi Humanities Council - ECPv6.15.18//NONSGML v1.0//EN
CALSCALE:GREGORIAN
METHOD:PUBLISH
X-WR-CALNAME:Mississippi Humanities Council
X-ORIGINAL-URL:https://www.mshumanities.org
X-WR-CALDESC:Events for Mississippi Humanities Council
REFRESH-INTERVAL;VALUE=DURATION:PT1H
X-Robots-Tag:noindex
X-PUBLISHED-TTL:PT1H
BEGIN:VTIMEZONE
TZID:America/Chicago
BEGIN:DAYLIGHT
TZOFFSETFROM:-0600
TZOFFSETTO:-0500
TZNAME:CDT
DTSTART:20200308T080000
END:DAYLIGHT
BEGIN:STANDARD
TZOFFSETFROM:-0500
TZOFFSETTO:-0600
TZNAME:CST
DTSTART:20201101T070000
END:STANDARD
BEGIN:DAYLIGHT
TZOFFSETFROM:-0600
TZOFFSETTO:-0500
TZNAME:CDT
DTSTART:20210314T080000
END:DAYLIGHT
BEGIN:STANDARD
TZOFFSETFROM:-0500
TZOFFSETTO:-0600
TZNAME:CST
DTSTART:20211107T070000
END:STANDARD
BEGIN:DAYLIGHT
TZOFFSETFROM:-0600
TZOFFSETTO:-0500
TZNAME:CDT
DTSTART:20220313T080000
END:DAYLIGHT
BEGIN:STANDARD
TZOFFSETFROM:-0500
TZOFFSETTO:-0600
TZNAME:CST
DTSTART:20221106T070000
END:STANDARD
END:VTIMEZONE
BEGIN:VEVENT
DTSTART;TZID=America/Chicago:20210114T190000
DTEND;TZID=America/Chicago:20210114T203000
DTSTAMP:20260422T190857
CREATED:20201215T195918Z
LAST-MODIFIED:20201215T195918Z
UID:11338-1610650800-1610656200@www.mshumanities.org
SUMMARY:MS+MA: Inside/Out--The Lessons of Freedom Summer
DESCRIPTION:The second “MS + MA: Crossing Borders/Connecting Stories” dialogue will take place Jan. 14\, 2021\, and will be entitled\, “Inside/Out—The Lessons of Freedom Summer\,” where we will explore the connections between our two states during the Civil Rights Movement. \nThe January dialogue will feature veterans of the Civil Rights Movement\, both from Mississippi and from Massachusetts\, who will examine social justice activism as a grassroots movement and the impact outside activists have on local efforts. The agenda will include a facilitated conversation among the speakers\, with small-group breakout sessions for audience participants from both Mississippi and Massachusetts to engage further. The MS+MA dialogues are interactive\, take place on Zoom\, and are free and open to the public.\n\nRegister Here: https://www.eventbrite.com/e/133022691451
URL:https://www.mshumanities.org/event/msma-inside-out-the-lessons-of-freedom-summer/
LOCATION:MS
END:VEVENT
END:VCALENDAR