BEGIN:VCALENDAR
VERSION:2.0
PRODID:-//Mississippi Humanities Council - ECPv6.15.18//NONSGML v1.0//EN
CALSCALE:GREGORIAN
METHOD:PUBLISH
X-ORIGINAL-URL:https://www.mshumanities.org
X-WR-CALDESC:Events for Mississippi Humanities Council
REFRESH-INTERVAL;VALUE=DURATION:PT1H
X-Robots-Tag:noindex
X-PUBLISHED-TTL:PT1H
BEGIN:VTIMEZONE
TZID:America/Chicago
BEGIN:DAYLIGHT
TZOFFSETFROM:-0600
TZOFFSETTO:-0500
TZNAME:CDT
DTSTART:20200308T080000
END:DAYLIGHT
BEGIN:STANDARD
TZOFFSETFROM:-0500
TZOFFSETTO:-0600
TZNAME:CST
DTSTART:20201101T070000
END:STANDARD
BEGIN:DAYLIGHT
TZOFFSETFROM:-0600
TZOFFSETTO:-0500
TZNAME:CDT
DTSTART:20210314T080000
END:DAYLIGHT
BEGIN:STANDARD
TZOFFSETFROM:-0500
TZOFFSETTO:-0600
TZNAME:CST
DTSTART:20211107T070000
END:STANDARD
BEGIN:DAYLIGHT
TZOFFSETFROM:-0600
TZOFFSETTO:-0500
TZNAME:CDT
DTSTART:20220313T080000
END:DAYLIGHT
BEGIN:STANDARD
TZOFFSETFROM:-0500
TZOFFSETTO:-0600
TZNAME:CST
DTSTART:20221106T070000
END:STANDARD
END:VTIMEZONE
BEGIN:VEVENT
DTSTART;TZID=America/Chicago:20210201T180000
DTEND;TZID=America/Chicago:20210201T200000
DTSTAMP:20260422T202715
CREATED:20201124T151718Z
LAST-MODIFIED:20201124T151718Z
UID:11333-1612202400-1612209600@www.mshumanities.org
SUMMARY:Oxford Film Festival: "I'm Not a Racist\, Am I?" Screening and Community Talk
DESCRIPTION:Free screening of “I’m Not a Racist\, Am I?” followed by a 60-90 minute workshop to further examine the context of the film and our own role in deconstructing race and confronting racism. For more information\, visit https://www.oxfordfilmfest.com/
URL:https://www.mshumanities.org/event/oxford-film-festival-im-not-a-racist-am-i-screening-and-community-talk/
LOCATION:MS
END:VEVENT
BEGIN:VEVENT
DTSTART;TZID=America/Chicago:20210208T080000
DTEND;TZID=America/Chicago:20210312T170000
DTSTAMP:20260422T202715
CREATED:20210119T220455Z
LAST-MODIFIED:20210119T220455Z
UID:11339-1612771200-1615568400@www.mshumanities.org
SUMMARY:"Crossroads" Exhibit in Scooba
DESCRIPTION:East Mississippi Community College will host Crossroads: Change in Rural America\, a Smithsonian traveling exhibition\, from February 8 through March 12. The exhibit will be on display in the Tubb-May Library on EMCC’s Scooba campus and is open to the public Mondays to Thursdays 10am-7pm\, Fridays 10am-2pm\, and Sundays 3pm-6pm. \nCrossroads is a traveling exhibit offered by the Museum on Main Street division of the Smithsonian Institution. It consists of six free-standing display units incorporating photographs\, text\, and numerous interactive elements. Requiring a minimum of 750 sq. ft.\, the exhibit is designed for smaller venues to achieve Museum on Main Street’s goal of bringing the Smithsonian to small town America. The exhibit is free and open to the public to visit. The Mississippi tour of Crossroads is sponsored by a generous grant from Entergy Mississippi. \nCrossroads: Change in Rural America offers small towns a chance to look at their own paths to highlight the changes that affected their fortunes over the past century. The exhibition will prompt discussions about what happened when America’s rural population became a minority of the country’s population and the ripple effects that occurred. \nIn addition to hosting the exhibition\, East Mississippi Community College will also host a series of programs that are free and open to the public. \nCrossroads events in Scooba:\nFebruary 15\, 6pm: “From Snapshots to a Collage: Exploring Rural Mississippi Through Population Studies” presentation\, Dr. John Green\nFebruary 20\, 6pm: “Rural Economic Development” presentation\, Dr. Rachael Carter\nMarch 15\, 4pm: “From the Fields to the Factory: The Great Migration of African Americans From the Fields of Mississippi to the Cities and Factories in the North” presentation\, Dr. Brinda Willis
URL:https://www.mshumanities.org/event/crossroads-exhibit-in-scooba/
LOCATION:Tubb-May Memorial Library\, 1512 Kemper Street\, Scooba\, MS\, 39358\, United States
END:VEVENT
BEGIN:VEVENT
DTSTART;TZID=America/Chicago:20210211T080000
DTEND;TZID=America/Chicago:20210211T170000
DTSTAMP:20260422T202715
CREATED:20201120T141719Z
LAST-MODIFIED:20201120T141719Z
UID:11328-1613030400-1613062800@www.mshumanities.org
SUMMARY:Music: A Universal Language
DESCRIPTION:New Hope Baptist Church’s annual Black history celebration. The 2021 event celebrates music as an instrument to connect people through all social\, economic\, and cultural barriers. More details TBA.
URL:https://www.mshumanities.org/event/music-a-universal-language/
LOCATION:MS
END:VEVENT
BEGIN:VEVENT
DTSTART;TZID=America/Chicago:20210215T180000
DTEND;TZID=America/Chicago:20210215T190000
DTSTAMP:20260422T202715
CREATED:20210119T235351Z
LAST-MODIFIED:20210119T235351Z
UID:11340-1613412000-1613415600@www.mshumanities.org
SUMMARY:Crossroads @ Scooba: Exploring Rural Mississippi Through Population Studies
DESCRIPTION:On February 15\, East Mississippi Community College in Scooba will host Dr. John Green\, state scholar for the Crossroads exhibit\, to present his free program\, “From Snapshots to a Collage: Exploring Rural Mississippi through Population Studies.” The program will take place in conjunction with the Smithsonian traveling exhibit Crossroads: Change in Rural America\, on display in Scooba through March 12. \nMany popular images of rural people and places present them as homogeneous in terms of demographic\, social\, and economic characteristics and trends. This may lead to oversimplification of rural areas and limited efforts to meet the needs and priorities of people living in these places. Achieving a better understanding of rural communities requires defining our concepts and identifying indicators of rural life in terms of continuity and change. Following an exploration of the terms “rural” and “non-metropolitan\,” Dr. Green will share a series of graphical images and narratives about Mississippi’s rural people and places using population-level information\, emphasizing what these “snapshots” of rural life tell us about Mississippi and how we might use them to form a “collage” that captures both the similarity and diversity. \nCrossroads: Change in Rural America offers small towns a chance to look at their own paths to highlight the changes that affected their fortunes over the past century. The exhibition will prompt discussions about what happened when America’s rural population became a minority of the country’s population and the ripple effects that occurred. \nThe exhibit will be on display in the Tubb-May Memorial Library on EMCC’s Scooba campus and is open to the public Mondays to Thursdays 10am-7pm\, Fridays 10am-2pm\, and Sundays 3pm-6pm. Crossroads is free to visit. \nUpcoming Crossroads events in Scooba:\nFebruary 20\, 6pm: “Rural Economic Development” presentation\, Dr. Rachael Carter\nMarch 15\, 4pm: “From the Fields to the Factory: The Great Migration of African Americans From the Fields of Mississippi to the Cities and Factories in the North” presentation\, Dr. Brinda Willis
URL:https://www.mshumanities.org/event/crossroads-scooba-exploring-rural-mississippi-through-population-studies/
LOCATION:Virtual Event
END:VEVENT
BEGIN:VEVENT
DTSTART;TZID=America/Chicago:20210218T180000
DTEND;TZID=America/Chicago:20210218T193000
DTSTAMP:20260422T202715
CREATED:20210120T223500Z
LAST-MODIFIED:20210120T223500Z
UID:11343-1613671200-1613676600@www.mshumanities.org
SUMMARY:MS+MA 3: Coast to Coast
DESCRIPTION:On February 18\, the third “MS + MA: Crossing Borders/Connecting Stories” dialogue will take place in partnership with Mass Humanities. \nMS+MA: Coast to Coast will explore our two state’s coastal connections from the perspectives of cultural institutions and local individuals from the fishing industry in both states. Panelists will reflect on how coastal areas are both literal and metaphorical connecting points for culture\, language\, economies\, art\, and more. The program will also share firsthand stories of members from local fishing communities in both states. MS + MA attendees will have the opportunity to take part in small group discussions about their own connections to the ocean and how our states’ coastal areas help us understand the environment around us.\n\nSpeakers will include Julian Rankin\, executive director of the Walter Anderson Museum of Art in Ocean Springs\, MS\, and individuals from fishing communities in both states. The program will be moderated by Laura Orleans\, executive director of the New Bedford Fishing Heritage Center in New Bedford\, MA.\n\nFollowing the February 18 program\, three additional programs will take place throughout Spring 2021.\n\nRegistration is required for the program and can be found here.
URL:https://www.mshumanities.org/event/msma-3/
LOCATION:Virtual Event
END:VEVENT
BEGIN:VEVENT
DTSTART;TZID=America/Chicago:20210222T080000
DTEND;TZID=America/Chicago:20210227T170000
DTSTAMP:20260422T202715
CREATED:20201124T151322Z
LAST-MODIFIED:20201124T151322Z
UID:11332-1613980800-1614445200@www.mshumanities.org
SUMMARY:Natchez Literary and Cinema Celebration: Southern Environments
DESCRIPTION:Virtual conference exploring ecocriticism in southern studies and the influence our environments have on us through a humanities perspective. The week-long program will feature presentations and interactive workshops focused on nature writing\, environmental justice\, and nature as a character in fiction\, film\, and art.
URL:https://www.mshumanities.org/event/natchez-literary-and-cinema-celebration-southern-environments/
LOCATION:MS
END:VEVENT
BEGIN:VEVENT
DTSTART;TZID=America/Chicago:20210222T180000
DTEND;TZID=America/Chicago:20210222T190000
DTSTAMP:20260422T202715
CREATED:20210120T212909Z
LAST-MODIFIED:20210120T212909Z
UID:11341-1614016800-1614020400@www.mshumanities.org
SUMMARY:Crossroads @ Scooba: Rural Economic Development in Mississippi
DESCRIPTION:On February 22\, East Mississippi Community College in Scooba will host Dr. Rachael Carter of the Mississippi State University Extension Services to present a free program on economic development in rural Mississippi. The program will take place in conjunction with the Smithsonian traveling exhibit Crossroads: Change in Rural America\, on display in Scooba through March 12. \nThe program will take place on Zoom. Details for how to log onto the free Zoom program can be found on the EMCC website. \nCrossroads: Change in Rural America offers small towns a chance to look at their own paths to highlight the changes that affected their fortunes over the past century. The exhibition will prompt discussions about what happened when America’s rural population became a minority of the country’s population and the ripple effects that occurred. \nThe exhibit will be on display in the Tubb-May Memorial Library on EMCC’s Scooba campus and is open to the public Mondays to Thursdays 10am-7pm\, Fridays 10am-2pm\, and Sundays 3pm-6pm. Crossroads is free to visit. \nUpcoming Crossroads events in Scooba:\nMarch 15\, 4pm: “From the Fields to the Factory: The Great Migration of African Americans From the Fields of Mississippi to the Cities and Factories in the North” presentation\, Dr. Brinda Willis
URL:https://www.mshumanities.org/event/crossroads-scooba-rural-economic-development-in-mississippi/
LOCATION:Virtual Event
END:VEVENT
BEGIN:VEVENT
DTSTART;TZID=America/Chicago:20210228T080000
DTEND;TZID=America/Chicago:20210301T170000
DTSTAMP:20260422T202715
CREATED:20201124T151056Z
LAST-MODIFIED:20201124T151056Z
UID:11331-1614499200-1614618000@www.mshumanities.org
SUMMARY:From Delta Blues to Opera News: A Mississippi Musical Exposition
DESCRIPTION:Two-day symposium demonstrating the historical contributions of select Mississippi artists and arts organizations to American music and opera from the past and present.
URL:https://www.mshumanities.org/event/from-delta-blues-to-opera-news-a-mississippi-musical-exposition/
LOCATION:MS
END:VEVENT
END:VCALENDAR