BEGIN:VCALENDAR
VERSION:2.0
PRODID:-//Mississippi Humanities Council - ECPv6.15.18//NONSGML v1.0//EN
CALSCALE:GREGORIAN
METHOD:PUBLISH
X-WR-CALNAME:Mississippi Humanities Council
X-ORIGINAL-URL:https://www.mshumanities.org
X-WR-CALDESC:Events for Mississippi Humanities Council
REFRESH-INTERVAL;VALUE=DURATION:PT1H
X-Robots-Tag:noindex
X-PUBLISHED-TTL:PT1H
BEGIN:VTIMEZONE
TZID:America/Chicago
BEGIN:DAYLIGHT
TZOFFSETFROM:-0600
TZOFFSETTO:-0500
TZNAME:CDT
DTSTART:20200308T080000
END:DAYLIGHT
BEGIN:STANDARD
TZOFFSETFROM:-0500
TZOFFSETTO:-0600
TZNAME:CST
DTSTART:20201101T070000
END:STANDARD
BEGIN:DAYLIGHT
TZOFFSETFROM:-0600
TZOFFSETTO:-0500
TZNAME:CDT
DTSTART:20210314T080000
END:DAYLIGHT
BEGIN:STANDARD
TZOFFSETFROM:-0500
TZOFFSETTO:-0600
TZNAME:CST
DTSTART:20211107T070000
END:STANDARD
BEGIN:DAYLIGHT
TZOFFSETFROM:-0600
TZOFFSETTO:-0500
TZNAME:CDT
DTSTART:20220313T080000
END:DAYLIGHT
BEGIN:STANDARD
TZOFFSETFROM:-0500
TZOFFSETTO:-0600
TZNAME:CST
DTSTART:20221106T070000
END:STANDARD
END:VTIMEZONE
BEGIN:VEVENT
DTSTART;TZID=America/Chicago:20210327T080000
DTEND;TZID=America/Chicago:20210508T170000
DTSTAMP:20260423T004412
CREATED:20210312T204607Z
LAST-MODIFIED:20210312T204607Z
UID:11348-1616832000-1620493200@www.mshumanities.org
SUMMARY:"Crossroads" Exhibit in Columbia
DESCRIPTION:The Marion County Museum will host Crossroads: Change in Rural America\, a Smithsonian traveling exhibition\, from March 27 through May 8. \nCrossroads is a traveling exhibit offered by the Museum on Main Street division of the Smithsonian Institution. It consists of six free-standing display units incorporating photographs\, text\, and numerous interactive elements. Requiring a minimum of 750 sq. ft.\, the exhibit is designed for smaller venues to achieve Museum on Main Street’s goal of bringing the Smithsonian to small town America. The exhibit is free and open to the public to visit. The Mississippi tour of Crossroads is sponsored by a generous grant from Entergy Mississippi. \nCrossroads: Change in Rural America offers small towns a chance to look at their own paths to highlight the changes that affected their fortunes over the past century. The exhibition will prompt discussions about what happened when America’s rural population became a minority of the country’s population and the ripple effects that occurred. \nIn addition to hosting the exhibition\, the Marion County Museum will also host a series of programs that are free and open to the public. \nCrossroads events in Columbia:\nApril 3\, 3pm: Columbia Main Street Historic Tour\nApril 3\, 5pm: City Cemetery Historic Tour\nApril 17\, 3pm: Lampton Rural Center Tour\nApril 30\, 8am:“From Snapshots to a Collage: Exploring Rural Mississippi Through Population Studies” presentation\, Dr. John Green
URL:https://www.mshumanities.org/event/crossroads-exhibit-in-columbia/
LOCATION:Marion County Museum\, 200 Second Street\, Columbia\, MS\, 39429\, United States
END:VEVENT
BEGIN:VEVENT
DTSTART;TZID=America/Chicago:20210507T120000
DTEND;TZID=America/Chicago:20210507T130000
DTSTAMP:20260423T004412
CREATED:20210416T165929Z
LAST-MODIFIED:20210416T165929Z
UID:11365-1620388800-1620392400@www.mshumanities.org
SUMMARY:SB: Behind Every Good Man is a Civil Rights Heroine
DESCRIPTION:Who were the people who became most involved in the Civil Rights Movement? Who were its leaders and footsoldiers? How do we even define such roles? Who are the people who have become immortalized as heroes in our memory of the movement? Why? This presentation by Dr. Rebecca Tuuri will explore the multitude of ways that women became involved in the pursuit of racial equality in the 1950s\, 60s\, and 70s. It will also explore the great odds that they faced\, not only as African Americans but also as women. I will focus espcially on women’s role in providing the informal leadership\, infrastructure\, and commitment necessary to maintain the stamina of the postwar civil rights struggle. Finally\, we will consider the ways in which the memory of the Civil Rights Movement has erased or misrepresented women’s historic contributions in the struggle and the implications of this for future scholarship on the movement. \n  \nDr. Rebecca Tuuri is an assistant professor of African American and American history at the University of Southern Mississippi. She received a Ph.D. in United States History from Rutgers University in 2012\, with a concentration in Women’s and Gender and African American history. Her current manuscript\, Careful Crusader: The History of the National Council of Negro Women in Black Freedom Struggle investigates the history of the civil war rights work of the largest black women’s organization in the 1960s and 1970s.
URL:https://www.mshumanities.org/event/sb-behind-every-good-man-is-a-civil-rights-heroine/
LOCATION:MS
END:VEVENT
BEGIN:VEVENT
DTSTART;TZID=America/Chicago:20210514T080000
DTEND;TZID=America/Chicago:20210625T170000
DTSTAMP:20260423T004412
CREATED:20210421T203015Z
LAST-MODIFIED:20210421T203015Z
UID:11371-1620979200-1624640400@www.mshumanities.org
SUMMARY:"Crossroads" Exhibit in Greenwood
DESCRIPTION:The Museum of the Mississippi Delta in Greenwood will host Crossroads: Change in Rural America\, a Smithsonian traveling exhibition\, from May 14 through June 25. \nCrossroads is a traveling exhibit offered by the Museum on Main Street division of the Smithsonian Institution. It consists of six free-standing display units incorporating photographs\, text\, and numerous interactive elements. Requiring a minimum of 750 sq. ft.\, the exhibit is designed for smaller venues to achieve Museum on Main Street’s goal of bringing the Smithsonian to small town America. The exhibit is free and open to the public to visit. The Mississippi tour of Crossroads is sponsored by a generous grant from Entergy Mississippi. \nCrossroads: Change in Rural America offers small towns a chance to look at their own paths to highlight the changes that affected their fortunes over the past century. The exhibition will prompt discussions about what happened when America’s rural population became a minority of the country’s population and the ripple effects that occurred. \nIn addition to hosting the exhibition\, the Museum of the Mississippi Delta will also host a series of programs that are free and open to the public. \nCrossroads events in Greenwood: \nMay 20\, 11:30am: “Why We Call It Soul Food” presentation\, Dr. Brinda Willis\nJune 5\, 10am: Trials of the Earth community book discussion\nJune 12\, 10am: “Rural Roots: What Did I Learn?” presentation\, Rev. Herron Wilson and Gene Dattel\nJune 17\, 6pm: A Place Like Mississippi reading and signing\, Ralph Eubanks\nJune 24\, 6pm: Trials of the Earth reading and signing\, Kerry Hamilton \n“Crossroads Children” events:\nMy Growing Delta workshop (rising 3rd-6th grades)\nMay 25\, 8:45am\nMay 26\, 12:45pm\nMy Growing Delta workshop (rising 7th grade)\n June 10\, 8:45am\nJune 11\, 12:45pm\nMy Musical Delta workshop (rising 5K-rising 2nd grades)\nJune 15\, 10:30am\nJune 22\, 10:30am
URL:https://www.mshumanities.org/event/crossroads-exhibit-in-greenwood/
LOCATION:Museum of the Mississippi Delta\, 1608 Hwy 82 West\, Greenwood\, MS\, 38930
END:VEVENT
BEGIN:VEVENT
DTSTART;TZID=America/Chicago:20210514T100000
DTEND;TZID=America/Chicago:20210514T170000
DTSTAMP:20260423T004412
CREATED:20210507T123800Z
LAST-MODIFIED:20210507T123800Z
UID:11373-1620986400-1621011600@www.mshumanities.org
SUMMARY:MTV Museum Day
DESCRIPTION:GRAMMY Museum® Mississippi is celebrating the Grand Opening of MTV Turns Forty: I Still Want My MTV exhibit with free admission all day! \nMTV Turns Forty: I Still Want My MTV marks the 40th anniversary since the launch of the iconic brand on Aug. 1\, 1981. The first major exhibition to be curated by the GRAMMY Museum Mississippi\, MTV Turns Forty will explore the history of the iconic music brand—from the role of native Mississippian\, Bob Pittman\, in the concept and execution of an idea that revolutionized the music industry\, to why\, nearly four decades later\, people across the world still scream\, “I want my MTV.” The exhibit will be on display at GRAMMY Museum Mississippi through summer 2022. Read more about the new exhibit here.
URL:https://www.mshumanities.org/event/4443/
LOCATION:GRAMMY Museum Mississippi\, 800 West Sunflower Rd\, Cleveland \, MS\, 38732\, United States
END:VEVENT
BEGIN:VEVENT
DTSTART;TZID=America/Chicago:20210514T170000
DTEND;TZID=America/Chicago:20210514T183000
DTSTAMP:20260423T004412
CREATED:20210512T140215Z
LAST-MODIFIED:20210512T140215Z
UID:11385-1621011600-1621017000@www.mshumanities.org
SUMMARY:May 1970: The Gibbs-Green Tragedy at Jackson State College Conversation
DESCRIPTION:  \n  \n  \n  \n  \nJoin the Margaret Walker Alexander National Research Center at 5 p.m. CT on Friday\, May 14\, 2021\, ontheir Facebook for the 51st commemoration of the Gibbs-Green tragedy at Jackson State. JSU will host a virtual gallery talk with civil rights veteran and photographer Dr. Doris Derby\, whose photographs chronicle the events that took place during those days and weeks of the Gibbs-Green Tragedy. They will also have James Lap Baker\, an eyewitness of the Gibbs-Green Tragedy; civil rights attorney Constance Slaughter-Harvey who represented the families in their civil lawsuit against the City and State. John Spann will moderate the conversation.
URL:https://www.mshumanities.org/event/may-1970-the-gibbs-green-tragedy-at-jackson-state-college-conversation/
LOCATION:Online Event
END:VEVENT
BEGIN:VEVENT
DTSTART;TZID=America/Chicago:20210518T180000
DTEND;TZID=America/Chicago:20210518T190000
DTSTAMP:20260423T004412
CREATED:20210513T152105Z
LAST-MODIFIED:20210513T152105Z
UID:11386-1621360800-1621364400@www.mshumanities.org
SUMMARY:Ideas on Tap: Too Much or Not Enough? Bootstraps vs. Bailouts
DESCRIPTION:On May 18\, join the MHC for the second in a two part series about the changing role of government in American society.\n\nThe May 18 program will explore the social safety net and how much direct financial support government should provide its citizens. Panelists include Sarah Stripp (Springboard to Opportunities)\, Douglas Carswell (Mississippi Center for Public Policy)\, and Brandon Jones (Southern Poverty Law Center). Dr. Temika Simmons\, MHC boardmember and director of the Local Government Leadership Institute at Delta State University\, will moderate.\n\nThe program will be livestreamed directly to the MHC Facebook page\, so come prepared to watch\, listen\, and ask questions in the chat.
URL:https://www.mshumanities.org/event/ideas-on-tap-too-much-or-not-enough-bootstraps-vs-bailouts/
LOCATION:Virtual
END:VEVENT
BEGIN:VEVENT
DTSTART;TZID=America/Chicago:20210520T113000
DTEND;TZID=America/Chicago:20210520T130000
DTSTAMP:20260423T004412
CREATED:20210415T191806Z
LAST-MODIFIED:20210415T191806Z
UID:11364-1621510200-1621515600@www.mshumanities.org
SUMMARY:Crossroads @ Greenwood: Why We Call It Soul Food
DESCRIPTION:On May 20\, the Museum of the Mississippi Delta will host Dr. Brinda Willis of the MHC Speakers Bureau to present her free and open to the public program “Why We Call It Soul Food.” The program will take place in conjunction with the Smithsonian traveling exhibition Crossroads: Change in Rural America\, on display in Greenwood through June 26. \n“Why We Call It Soul Food” tells the story of why southerners\, especially African American southerners\, call the foods we eat “soul food.” Dr. Brinda Willis discusses the emotional and physical aspects of soul food as it relates to our culture and history. She also discusses the bonds attached to the growing\, nurturing and preparation of these foods as it relates to our culture and way of life in the South. \nThe Speakers Bureau program will take place at the Viking Cooking School in Greenwood. During the program\, Viking Cooking School chefs will prepare classic soul food staples like fried chicken\, turnip greens\, and cornbread. Guests will learn how to prepare these dishes as well as taste them as Dr. Willis guides the audience through the emotional and physical aspects of soul food as it relates to our culture and history and the bonds attached to the growing\, nurturing\, and preparing of these foods. \nCrossroads: Change in Rural America offers small towns a chance to look at their own paths to highlight the changes that affected their fortunes over the past century. The exhibition will prompt discussions about what happened when America’s rural population became a minority of the country’s population and the ripple effects that occurred. \nThe exhibit will be on display at the Museum of the Mississippi Delta through June 26 and is open to the public Tuesdays-Saturdays 10am-3pm. Crossroads is free to visit. \nUpcoming Crossroads events in Greenwood:\nJune 5\, 10am: Trials of the Earth community book discussion\nJune 12\, 10am: “Rural Roots: What Did I Learn?” presentation\, Rev. Herron Wilson and Gene Dattel\nJune 17\, 6pm: A Place Like Mississippi reading and signing\, Ralph Eubanks\nJune 24\, 6pm: Trials of the Earth reading and signing\, Kerry Hamilton \nUpcoming “Crossroads Children” events:\nMy Growing Delta workshop (rising 3rd-6th grades)\nMay 25\, 8:45am\nMay 26\, 12:45pm\nMy Growing Delta workshop (rising 7th grade)\n June 10\, 8:45am\nJune 11\, 12:45pm\nMy Musical Delta workshop (rising 5K-rising 2nd grades)\nJune 15\, 10:30am\nJune 22\, 10:30am \n 
URL:https://www.mshumanities.org/event/sb-why-we-call-it-soul-food/
LOCATION:MS
END:VEVENT
BEGIN:VEVENT
DTSTART;TZID=America/Chicago:20210525T084500
DTEND;TZID=America/Chicago:20210525T110000
DTSTAMP:20260423T004412
CREATED:20210511T141631Z
LAST-MODIFIED:20210511T141631Z
UID:11379-1621932300-1621940400@www.mshumanities.org
SUMMARY:Crossroads @ Greenwood: My Growing Delta Youth Workshop (3rd-6th grades)
DESCRIPTION:On May 25\, the Museum of the Mississippi Delta will host a free workshop for rising 3rd graders-rising 6th graders called “My Growing Delta.” The event will take place in conjunction with the Smithsonian traveling exhibition Crossroads: Change in Rural America\, on display in Greenwood through June 26. \n“My Growing Delta” is an interactive workshop presented in collaboration with the Mississippi State Extension Service. Youth will learn about how food is grown and the many crops that are raised right here in their very own community. Registered dietician Anne Marie Gregory will teach youth about healthy eating. Youth will taste something delicious and get to plant a seed to take home. \nThe “My Growing Delta” workshop series is part of Crossroads Children\, a series hosted in conjunction with the Smithsonian Crossroads exhibition\, to help children understand their own community and its contributions to the world. \nThere is no cost to attend the youth workshop programs\, but space is limited and registration is required. Email education@museumofthemississippidelta.com or call 662-453-0925 to register. \nCrossroads: Change in Rural America offers small towns a chance to look at their own paths to highlight the changes that affected their fortunes over the past century. The exhibition will prompt discussions about what happened when America’s rural population became a minority of the country’s population and the ripple effects that occurred. \nThe exhibit will be on display at the Museum of the Mississippi Delta through June 26 and is open to the public Tuesdays-Saturdays 10am-3pm. Crossroads is free to visit. \nUpcoming Crossroads events in Greenwood:\nJune 5\, 10am: Trials of the Earth community book discussion\nJune 12\, 10am: “Rural Roots: What Did I Learn?” presentation\, Rev. Herron Wilson and Gene Dattel\nJune 17\, 6pm: A Place Like Mississippi reading and signing\, Ralph Eubanks\nJune 24\, 6pm: Trials of the Earth reading and signing\, Kerry Hamilton \nUpcoming “Crossroads Children” events:\nMy Growing Delta workshop (rising 3rd-6th grades)\nMay 26\, 12:45pm\nMy Growing Delta workshop (rising 7th grade)\n June 10\, 8:45am\nJune 11\, 12:45pm\nMy Musical Delta workshop (rising 5K-rising 2nd grades)\nJune 15\, 10:30am\nJune 22\, 10:30am \n \n 
URL:https://www.mshumanities.org/event/crossroads-greenwood-my-growing-delta-youth-workshop-3rd-6th-grades/
LOCATION:Museum of the Mississippi Delta\, 1608 Hwy 82 West\, Greenwood\, MS\, 38930
END:VEVENT
BEGIN:VEVENT
DTSTART;TZID=America/Chicago:20210526T124500
DTEND;TZID=America/Chicago:20210526T150000
DTSTAMP:20260423T004412
CREATED:20210511T141800Z
LAST-MODIFIED:20210511T141800Z
UID:11380-1622033100-1622041200@www.mshumanities.org
SUMMARY:Crossroads @ Greenwood: My Growing Delta Youth Workshop (3rd-6th grades)
DESCRIPTION:On May 26\, the Museum of the Mississippi Delta will host a free workshop for rising 3rd graders-rising 6th graders called “My Growing Delta.” The event will take place in conjunction with the Smithsonian traveling exhibition Crossroads: Change in Rural America\, on display in Greenwood through June 26. \n“My Growing Delta” is an interactive workshop presented in collaboration with the Mississippi State Extension Service. Youth will learn about how food is grown and the many crops that are raised right here in their very own community. Registered dietician Anne Marie Gregory will teach youth about healthy eating. Youth will taste something delicious and get to plant a seed to take home. \nThe “My Growing Delta” workshop series is part of Crossroads Children\, a series hosted in conjunction with the Smithsonian Crossroads exhibition\, to help children understand their own community and its contributions to the world. \nThere is no cost to attend the youth workshop programs\, but space is limited and registration is required. Email education@museumofthemississippidelta.com or call 662-453-0925 to register. \nCrossroads: Change in Rural America offers small towns a chance to look at their own paths to highlight the changes that affected their fortunes over the past century. The exhibition will prompt discussions about what happened when America’s rural population became a minority of the country’s population and the ripple effects that occurred. \nThe exhibit will be on display at the Museum of the Mississippi Delta through June 26 and is open to the public Tuesdays-Saturdays 10am-3pm. Crossroads is free to visit. \nUpcoming Crossroads events in Greenwood:\nJune 5\, 10am: Trials of the Earth community book discussion\nJune 12\, 10am: “Rural Roots: What Did I Learn?” presentation\, Rev. Herron Wilson and Gene Dattel\nJune 17\, 6pm: A Place Like Mississippi reading and signing\, Ralph Eubanks\nJune 24\, 6pm: Trials of the Earth reading and signing\, Kerry Hamilton \nUpcoming “Crossroads Children” events:\nMy Growing Delta workshop (rising 7th grade)\n June 10\, 8:45am\nJune 11\, 12:45pm\nMy Musical Delta workshop (rising 5K-rising 2nd grades)\nJune 15\, 10:30am\nJune 22\, 10:30am \n \n 
URL:https://www.mshumanities.org/event/crossroads-greenwood-my-growing-delta-youth-workshop-3rd-6th-grades-2/
LOCATION:Museum of the Mississippi Delta\, 1608 Hwy 82 West\, Greenwood\, MS\, 38930
END:VEVENT
BEGIN:VEVENT
DTSTART;TZID=America/Chicago:20210529T100000
DTEND;TZID=America/Chicago:20210529T160000
DTSTAMP:20260423T004412
CREATED:20210419T182310Z
LAST-MODIFIED:20210419T182310Z
UID:11366-1622282400-1622304000@www.mshumanities.org
SUMMARY:Mississippi Archaeology Expo "Preserving Our Past: Mississippi's Landmark Archaeology"
DESCRIPTION:Archaeology Expo provides a public educational event which showcases preservation and archaeology in Mississippi and includes numerous educational activities for all ages.
URL:https://www.mshumanities.org/event/mississippi-archaeology-expo-preserving-our-past-mississippis-landmark-archaeology/
LOCATION:Old Capitol Museum\, 100 South State Street\, Jackson \, MS\, 39201
END:VEVENT
END:VCALENDAR