BEGIN:VCALENDAR
VERSION:2.0
PRODID:-//Mississippi Humanities Council - ECPv6.15.18//NONSGML v1.0//EN
CALSCALE:GREGORIAN
METHOD:PUBLISH
X-ORIGINAL-URL:https://www.mshumanities.org
X-WR-CALDESC:Events for Mississippi Humanities Council
REFRESH-INTERVAL;VALUE=DURATION:PT1H
X-Robots-Tag:noindex
X-PUBLISHED-TTL:PT1H
BEGIN:VTIMEZONE
TZID:America/Chicago
BEGIN:DAYLIGHT
TZOFFSETFROM:-0600
TZOFFSETTO:-0500
TZNAME:CDT
DTSTART:20200308T080000
END:DAYLIGHT
BEGIN:STANDARD
TZOFFSETFROM:-0500
TZOFFSETTO:-0600
TZNAME:CST
DTSTART:20201101T070000
END:STANDARD
BEGIN:DAYLIGHT
TZOFFSETFROM:-0600
TZOFFSETTO:-0500
TZNAME:CDT
DTSTART:20210314T080000
END:DAYLIGHT
BEGIN:STANDARD
TZOFFSETFROM:-0500
TZOFFSETTO:-0600
TZNAME:CST
DTSTART:20211107T070000
END:STANDARD
BEGIN:DAYLIGHT
TZOFFSETFROM:-0600
TZOFFSETTO:-0500
TZNAME:CDT
DTSTART:20220313T080000
END:DAYLIGHT
BEGIN:STANDARD
TZOFFSETFROM:-0500
TZOFFSETTO:-0600
TZNAME:CST
DTSTART:20221106T070000
END:STANDARD
END:VTIMEZONE
BEGIN:VEVENT
DTSTART;TZID=America/Chicago:20210628T080000
DTEND;TZID=America/Chicago:20211003T170000
DTSTAMP:20260423T061325
CREATED:20201120T141901Z
LAST-MODIFIED:20201120T141901Z
UID:11329-1624867200-1633280400@www.mshumanities.org
SUMMARY:Evicted: An Exhibition of the National Building Museum
DESCRIPTION:  \n  \n  \nIn 2018\, the National Building Museum opened an exhibition exploring the causes and impacts of eviction\, based on Matthew Desmond’s award‐winning book Evicted. Since then\, the exhibit has taught thousands about the national eviction crisis. A stable place to call home is one of the best predictors of success. Yet\, each year more than 2.3 million Americans\, mostly low‐income renters\, face eviction. In the context of the COVID‐19 pandemic\, the eviction crisis has further exploded. According to Mississippi Today\, nearly 50% of renters in the state face eviction this year. The traveling version of Evicted offers the opportunity to introduce audiences here to the eviction crisis so that they can learn how it affects their communities. Visitors will build empathy as they learn about housing instability through a local conversation about eviction that has national implications. The exhibition\, which runs June 28 to October 3\, 2021\,  presents sobering statistics and personal stories\, challenging adults and youth to face the enormity of a difficult subject\, while providing context and a call to action.
URL:https://www.mshumanities.org/event/evicted-an-exhibition-of-the-national-building-museum/
LOCATION:Johnson Hall Art Gallery\, 1400 John R. Lynch Street\, Jackson\, 39217
END:VEVENT
BEGIN:VEVENT
DTSTART;VALUE=DATE:20210913
DTEND;VALUE=DATE:20210914
DTSTAMP:20260423T061325
CREATED:20210617T193418Z
LAST-MODIFIED:20210617T193418Z
UID:11401-1631491200-1631577599@www.mshumanities.org
SUMMARY:Mississippi Elegy: Southern Depictions of Life and Death
DESCRIPTION:An exhibition and related components exploring concepts of grief and mourning\nthrough the lens of nature and the Southern land. Included in the exhibition are memento mori artworks by Walter Inglis Anderson (1903-1965) and contemporary artist Jason Bouldin (b. 1966)\, alongside objects from the University of Mississippi Museum’s collections.
URL:https://www.mshumanities.org/event/mississippi-elegy-southern-depictions-of-life-and-death/
LOCATION:Walter Anderson Museum of Art\, 510 Washington Ave\, Ocean Springs\, MS\, 39564
END:VEVENT
BEGIN:VEVENT
DTSTART;VALUE=DATE:20210917
DTEND;VALUE=DATE:20210920
DTSTAMP:20260423T061325
CREATED:20210420T160816Z
LAST-MODIFIED:20210420T160816Z
UID:11368-1631836800-1632095999@www.mshumanities.org
SUMMARY:Behind the Big House 2021 (Virtual)
DESCRIPTION:These are filming dates\, this listing will be updated with presentation dates when available. \n  \nThe Behind the Big House program in Holly Springs\, Mississippi interprets the lives of enslaved persons through the structures in which they lived and worked. The program began in 2012 after Chelius Carter and Jenifer Eggleston\, antebellum historic property owners\, discovered that one of the structures on their property was a former slave dwelling. To them\, it was clear that the personal lives and experiences of those enslaved in Holly Springs was missing from the larger narratives of the city’s Annual Pilgrimage Tour of Historic Homes and Churches. Since 1938\, this tour has been an annual event allowing visitors to tour historic homes\, cemeteries\, churches\, and museums in Holly Springs. To help remedy the exclusion\, Carter and Eggleston\, along with other community persons\, started Behind the Big House. It is run through Preserve Marshall County and Holly Springs\, Inc.\, a local historic preservation institution.  The program’s major components are preservation\, interpretation\, and education. 
URL:https://www.mshumanities.org/event/behind-the-big-house-2021-virtual/
LOCATION:Hugh Craft House\, 184 S. Memphis St.\, Holly Springs\, MS\, 38635
END:VEVENT
BEGIN:VEVENT
DTSTART;VALUE=DATE:20210917
DTEND;VALUE=DATE:20210920
DTSTAMP:20260423T061325
CREATED:20210809T173358Z
LAST-MODIFIED:20210809T173358Z
UID:11410-1631836800-1632095999@www.mshumanities.org
SUMMARY:Behind the Big House Virtual Program
DESCRIPTION:Since 2012\, the Behind the Big House Tour has interpreted the legacy of slavery and presented it to school groups and the general public.  This year\, Behind the Big House will take place virtually and will feature five professional interpreters who will discuss architecture\, cuisine\, laundry\, and brick-making.  Their demonstrations will be presented for all to enjoy as well as being broken up into sections to be used by students and teachers.
URL:https://www.mshumanities.org/event/behind-the-big-house-virtual-program/
LOCATION:Online Event
END:VEVENT
BEGIN:VEVENT
DTSTART;TZID=America/Chicago:20210928T180000
DTEND;TZID=America/Chicago:20210928T200000
DTSTAMP:20260423T061325
CREATED:20210920T132921Z
LAST-MODIFIED:20210920T132921Z
UID:11411-1632852000-1632859200@www.mshumanities.org
SUMMARY:Evicted: The Intersection of Policy\, Activism\, and Economic Well-Being
DESCRIPTION:Hope Policy Institute\, Mississippi NAACP\,\nSouthern Rural Black Women’s Initiative\, Children’s Defense Fund\,\nMississippi Chapter of the National Association of Social Workers\nMargaret Walker Center Facebook and YouTube\n6:00 p.m.\, Tuesday\, September 28\, 2021
URL:https://www.mshumanities.org/event/the-intersection-of-policy-activism-and-economic-well-being/
LOCATION:Online Event
END:VEVENT
END:VCALENDAR