BEGIN:VCALENDAR
VERSION:2.0
PRODID:-//Mississippi Humanities Council - ECPv6.15.18//NONSGML v1.0//EN
CALSCALE:GREGORIAN
METHOD:PUBLISH
X-WR-CALNAME:Mississippi Humanities Council
X-ORIGINAL-URL:https://www.mshumanities.org
X-WR-CALDESC:Events for Mississippi Humanities Council
REFRESH-INTERVAL;VALUE=DURATION:PT1H
X-Robots-Tag:noindex
X-PUBLISHED-TTL:PT1H
BEGIN:VTIMEZONE
TZID:America/Chicago
BEGIN:DAYLIGHT
TZOFFSETFROM:-0600
TZOFFSETTO:-0500
TZNAME:CDT
DTSTART:20200308T080000
END:DAYLIGHT
BEGIN:STANDARD
TZOFFSETFROM:-0500
TZOFFSETTO:-0600
TZNAME:CST
DTSTART:20201101T070000
END:STANDARD
BEGIN:DAYLIGHT
TZOFFSETFROM:-0600
TZOFFSETTO:-0500
TZNAME:CDT
DTSTART:20210314T080000
END:DAYLIGHT
BEGIN:STANDARD
TZOFFSETFROM:-0500
TZOFFSETTO:-0600
TZNAME:CST
DTSTART:20211107T070000
END:STANDARD
BEGIN:DAYLIGHT
TZOFFSETFROM:-0600
TZOFFSETTO:-0500
TZNAME:CDT
DTSTART:20220313T080000
END:DAYLIGHT
BEGIN:STANDARD
TZOFFSETFROM:-0500
TZOFFSETTO:-0600
TZNAME:CST
DTSTART:20221106T070000
END:STANDARD
END:VTIMEZONE
BEGIN:VEVENT
DTSTART;TZID=America/Chicago:20211208T114500
DTEND;TZID=America/Chicago:20211208T130000
DTSTAMP:20260423T105148
CREATED:20211102T144752Z
LAST-MODIFIED:20211102T144752Z
UID:11423-1638963900-1638968400@www.mshumanities.org
SUMMARY:Topophilia Book Club Meeting - Providence
DESCRIPTION:The Museum of the Mississippi Delta announces the creation of the Topophilia Book Club\, whose purpose is to connect readers to this region through a thoughtfully curated selection of books with a connection to this land. Six books have been chosen for the upcoming year and the discussions will be led by local physician\, author and historian\, Dr. Mary Carol Miller.The book club will meet bi-monthly to discuss fiction and non-fiction books connected to the Mississippi Delta. In addition to book discussions\, other programs related to the book selections will be hosted by the Museum. The books are selected in advance and planned for the entire year\, often coordinating with the Museum’s exhibition schedule. A list of the 2021-2022 selections is attached. \nDecember: Providence by Will D. Campbell\nFebruary: When Evil Lived in Laurel by Curtis Wilke\nApril: Goat Castle by Karen L. Cox\nJune: TBD\nAugust: Delta Epiphany by Ellen Meacham\nOctober: TBD
URL:https://www.mshumanities.org/event/topophilia-book-club-meeting-providence/
LOCATION:Museum of the Mississippi Delta\, 1608 Hwy 82 West\, Greenwood\, MS\, 38930
END:VEVENT
BEGIN:VEVENT
DTSTART;TZID=America/Chicago:20211209T173000
DTEND;TZID=America/Chicago:20211209T190000
DTSTAMP:20260423T105148
CREATED:20211122T223044Z
LAST-MODIFIED:20211122T223044Z
UID:11426-1639071000-1639076400@www.mshumanities.org
SUMMARY:Ideas On Tap: What Does Critical Race Theory Mean in Mississippi?
DESCRIPTION:The national debate over “critical race theory” has come to Mississippi. Join us for an interactive\, civil conversation at the @ecoshedjxn on December 9th at 5:30\, on how we should teach about our state’s history of racism. How do we provide\, as former Governor Phil Bryant recently advocated\, “an education where students can openly and honestly acknowledge the continuing remnants of racism in our society and make sure all children are grounded in the basic principles of civics and democracy needed to address them fully and finally.” Our panelists for this discussion will include Vidhi Bamzai\, Deidre Alexander\, and Chauncey Spears. Kaleigh Skinner of Mississippi Today will moderate this important discussion. This program will be in person and masks are highly suggested.
URL:https://www.mshumanities.org/event/ideas-on-tap-what-does-critical-race-theory-mean-in-mississippi/
LOCATION:Ecoshed\, 133 Commerce Park Drive\, Jackson\, MS\, 39213\, United States
END:VEVENT
BEGIN:VEVENT
DTSTART;TZID=America/Chicago:20211209T180000
DTEND;TZID=America/Chicago:20211209T193000
DTSTAMP:20260423T105148
CREATED:20211102T145016Z
LAST-MODIFIED:20211102T145016Z
UID:11424-1639072800-1639078200@www.mshumanities.org
SUMMARY:Topophilia Book Club Meeting - Providence
DESCRIPTION:The Museum of the Mississippi Delta announces the creation of the Topophilia Book Club\, whose purpose is to connect readers to this region through a thoughtfully curated selection of books with a connection to this land. Six books have been chosen for the upcoming year and the discussions will be led by local physician\, author and historian\, Dr. Mary Carol Miller.The book club will meet bi-monthly to discuss fiction and non-fiction books connected to the Mississippi Delta. In addition to book discussions\, other programs related to the book selections will be hosted by the Museum. The books are selected in advance and planned for the entire year\, often coordinating with the Museum’s exhibition schedule. A list of the 2021-2022 selections is attached. \nDecember: Providence by Will D. Campbell\nFebruary: When Evil Lived in Laurel by Curtis Wilke\nApril: Goat Castle by Karen L. Cox\nJune: TBD\nAugust: Delta Epiphany by Ellen Meacham\nOctober: TBD
URL:https://www.mshumanities.org/event/topophilia-book-club-meeting-providence-2/
LOCATION:Museum of the Mississippi Delta\, 1608 Hwy 82 West\, Greenwood\, MS\, 38930
END:VEVENT
END:VCALENDAR