BEGIN:VCALENDAR
VERSION:2.0
PRODID:-//Mississippi Humanities Council - ECPv6.15.18//NONSGML v1.0//EN
CALSCALE:GREGORIAN
METHOD:PUBLISH
X-WR-CALNAME:Mississippi Humanities Council
X-ORIGINAL-URL:https://www.mshumanities.org
X-WR-CALDESC:Events for Mississippi Humanities Council
REFRESH-INTERVAL;VALUE=DURATION:PT1H
X-Robots-Tag:noindex
X-PUBLISHED-TTL:PT1H
BEGIN:VTIMEZONE
TZID:America/Chicago
BEGIN:DAYLIGHT
TZOFFSETFROM:-0600
TZOFFSETTO:-0500
TZNAME:CDT
DTSTART:20210314T080000
END:DAYLIGHT
BEGIN:STANDARD
TZOFFSETFROM:-0500
TZOFFSETTO:-0600
TZNAME:CST
DTSTART:20211107T070000
END:STANDARD
BEGIN:DAYLIGHT
TZOFFSETFROM:-0600
TZOFFSETTO:-0500
TZNAME:CDT
DTSTART:20220313T080000
END:DAYLIGHT
BEGIN:STANDARD
TZOFFSETFROM:-0500
TZOFFSETTO:-0600
TZNAME:CST
DTSTART:20221106T070000
END:STANDARD
BEGIN:DAYLIGHT
TZOFFSETFROM:-0600
TZOFFSETTO:-0500
TZNAME:CDT
DTSTART:20230312T080000
END:DAYLIGHT
BEGIN:STANDARD
TZOFFSETFROM:-0500
TZOFFSETTO:-0600
TZNAME:CST
DTSTART:20231105T070000
END:STANDARD
END:VTIMEZONE
BEGIN:VEVENT
DTSTART;TZID=America/Chicago:20220409T100000
DTEND;TZID=America/Chicago:20220911T180000
DTSTAMP:20260423T223616
CREATED:20220414T151440Z
LAST-MODIFIED:20220414T151440Z
UID:11483-1649498400-1662919200@www.mshumanities.org
SUMMARY:A Movement in Every Direction: Legacies of the Great Migration
DESCRIPTION:A Movement in Every Direction: Legacies of the Great Migration explores the profound impact of the Great Migration on the social and cultural life of the United States from historical and personal perspectives. Co-organized with the Baltimore Museum of Art\, the exhibition features newly commissioned works by 12 acclaimed Black artists across a variety of media. The Great Migration (1915-1970) saw more than six million Black Americans leave the South for cities across the United States. Informed by research\, explorations\, and conversations\, the artists’ works explore themes of perseverance\, self-determination\, and self-reliance\, along with the impacts this historical phenomenon continues to have today.
URL:https://www.mshumanities.org/event/a-movement-in-every-direction-legacies-of-the-great-migration/
LOCATION:MS
END:VEVENT
BEGIN:VEVENT
DTSTART;TZID=America/Chicago:20220608T113000
DTEND;TZID=America/Chicago:20220608T130000
DTSTAMP:20260423T223616
CREATED:20220523T133645Z
LAST-MODIFIED:20220523T133645Z
UID:11490-1654687800-1654693200@www.mshumanities.org
SUMMARY:SB - Luckett - The Mississippi Plan and the Rise of Jim Crow
DESCRIPTION:After the Civil War\, African Americans in the South\, newly freed\, expressed a tangible optimism that led to the reuniting of families\, the development of social institutions like the black church\, the rise of cultural expressions like the Blues and jazz\, the establishment of black-owned businesses and other economic endeavors\, and the wielding of significant political power. On the other hand\, as Dr. Luckett explains in this talk\, most white southerners\, especially in Mississippi\, saw this rise of black social\, economic and political power as a direct threat to their hegemony\, which had been so well established during the era of slavery\, and whites sought to “redeem” their place in the southern hierarchy through violent extra-legal measures like lynching and through the realm of law. The invention of Jim Crow and what became known as the “Mississippi Plan” became the models for the rest of the South. The Mississippi Plan and Jim Crow stood on the shoulders of black disfranchisement\, segregation and sharecropping to guarantee white power as well as second-class citizenship for African Americans throughout the South\, a status black southerners have fought ever since.
URL:https://www.mshumanities.org/event/sb-luckett-the-mississippi-plan-and-the-rise-of-jim-crow/
LOCATION:Canopy Children’s Solutions\, 1465 Lakeland Dr\, Jackson\, 39216\, United States
END:VEVENT
BEGIN:VEVENT
DTSTART;TZID=America/Chicago:20220617T110000
DTEND;TZID=America/Chicago:20220617T120000
DTSTAMP:20260423T223616
CREATED:20220523T132752Z
LAST-MODIFIED:20220523T132752Z
UID:11487-1655463600-1655467200@www.mshumanities.org
SUMMARY:Muddy: The Story of Blues Legend Muddy Waters
DESCRIPTION:Celebrity Reader:  Muddy’s grand-nephew\, Keith Johnson \nA picture book celebration of the indomitable Muddy Waters\, a blues musician whose fierce and electric sound laid the groundwork for what would become rock and roll. Michael Mahin (Author)\, Evan Turk (Illustrator) 
URL:https://www.mshumanities.org/event/muddy-the-story-of-blues-legend-muddy-waters/
LOCATION:Museum of the Mississippi Delta\, 1608 Hwy 82 West\, Greenwood\, MS\, 38930
END:VEVENT
BEGIN:VEVENT
DTSTART;TZID=America/Chicago:20220618T180000
DTEND;TZID=America/Chicago:20220618T193000
DTSTAMP:20260423T223616
CREATED:20220523T133828Z
LAST-MODIFIED:20220523T133828Z
UID:11491-1655575200-1655580600@www.mshumanities.org
SUMMARY:SB - Jenkins - A Look at Mande (West African) Culture Through Traditional Music
DESCRIPTION:This presentation will give the listener a glimpse of the Mande Culture of West Africa. In the tradition of the Mande\, the history and culture is orally preserved in the minds and through the music of the Djeli (oral librarian/mandenka hereditary professional musicians). The establishment of the Mali Empire can be recalled and retold in the musical piece of the legendary Densoba (great warrior) Sunjata. This discussion explores the function of the Mande music and musical instruments\, Mande class system\, songs\, ceremonies and stories. The discussion also examines the influence of West Africa on American culture and why the djembe was outlawed during slavery. Participants will learn about the djembe\, its introduction by drummers like Babatunde Olatunji in 1950 and Ladji Camara from Guinea\, and how it spread throughout America.
URL:https://www.mshumanities.org/event/sb-jenkins-a-look-at-mande-west-african-culture-through-traditional-music-2/
LOCATION:A-1 Event Center\, 1415 Country Club Dr\, Jackson\, MS\, 39209\, United States
END:VEVENT
BEGIN:VEVENT
DTSTART;TZID=America/Chicago:20220621T110000
DTEND;TZID=America/Chicago:20220621T123000
DTSTAMP:20260423T223616
CREATED:20220617T174338Z
LAST-MODIFIED:20220617T174338Z
UID:11496-1655809200-1655814600@www.mshumanities.org
SUMMARY:SB - Garrison - Robert Johnson at the Crossroads
DESCRIPTION:In colorful costume\,storytellers Rebecca Jernigan and Wendy Garrison retell the tale of legendary bluesman Robert Johnson. With music\, drama and sign language\, they recount his fateful encounter with the Prince of Darkness at the crossroads in the Delta. In educational venues they stress that the audience is integral to any live performance. They discuss the historical person Robert Johnson\, and they share the role of the blues as an indigenous musical genre that grew out of the challenges of life in the Mississippi delta.
URL:https://www.mshumanities.org/event/sb-garrison-robert-johnson-at-the-crossroads/
LOCATION:Emily Jones Pointer Public Library\, 104 Main Street\, Como\, MS\, 38619
END:VEVENT
BEGIN:VEVENT
DTSTART;TZID=America/Chicago:20220623T160000
DTEND;TZID=America/Chicago:20220623T160000
DTSTAMP:20260423T223616
CREATED:20220523T132206Z
LAST-MODIFIED:20220523T132206Z
UID:11486-1656000000-1656000000@www.mshumanities.org
SUMMARY:Liberty House Online Photo Exhibit Launch
DESCRIPTION:In the fall of 1965\, Jesse Morris\, Doris Derby and other members of the Poor Peoples Campaign formed the Liberty House. Over the years\, they trained hundreds of poor African Americans in different communities across Mississippi in crafts that were collected and sold to Liberty Houses across the nation. Each Liberty House was a store that sold items from Mississippi Cooperatives plus items made from each store location. The Mississippi cooperatives\, were small in size and often led by women\, included Aberdeen (sewing)\, Athens (sewing)\, Canton (sewing)\, Cleveland (leather)\, Macomb (leather/sewing)\, Mount Olive (sewing)\, Mount Nebo (puppets/dolls)\, Prairie\, Shaw\, Rose Hill\, Shelby (sewing/belts)\, Tchula\, West Point (woodwork)\, and White Station (candles). Often\, the cooperative members were worked either as domestics in white homes\, chopping cotton\, and other low-paying\, difficult jobs. At its height in 1967-1968\, the co-operatives were producing thousands of products for sale in upscale markets such as Bleeker Street in New York City. The objects made were clothes\, leatherworks\, dolls\, candles\, wood crafts\, and many other things.
URL:https://www.mshumanities.org/event/liberty-house-online-photo-exhibit-launch/
LOCATION:Online Event
END:VEVENT
BEGIN:VEVENT
DTSTART;TZID=America/Chicago:20220629T100000
DTEND;TZID=America/Chicago:20220629T110000
DTSTAMP:20260423T223616
CREATED:20220523T132952Z
LAST-MODIFIED:20220523T132952Z
UID:11488-1656496800-1656500400@www.mshumanities.org
SUMMARY:Stitchin' and Pullin'
DESCRIPTION:Celebrity Reader:  Textile Artist Yolande van Heerden \nFor generations\, the women of Gee’s Bend\, Alabama have made quilts\, many of which now hang in museums as modern masterpieces.  This lyrical narrative weaves together the familial\, cultural\, spiritual and historical strands of life in this community.   Patricia McKissack (Author)\, Cozbi A. Cabera (Illustrator) 
URL:https://www.mshumanities.org/event/stitchin-and-pullin/
LOCATION:Museum of the Mississippi Delta\, 1608 Hwy 82 West\, Greenwood\, MS\, 38930
END:VEVENT
BEGIN:VEVENT
DTSTART;TZID=America/Chicago:20220630T100000
DTEND;TZID=America/Chicago:20220630T113000
DTSTAMP:20260423T223616
CREATED:20220617T174631Z
LAST-MODIFIED:20220617T174631Z
UID:11497-1656583200-1656588600@www.mshumanities.org
SUMMARY:SB - Jenkins - A Look at Mande (West African) Culture Through Traditional Music
DESCRIPTION:This presentation will give the listener a glimpse of the Mande Culture of West Africa. In the tradition of the Mande\, the history and culture is orally preserved in the minds and through the music of the Djeli (oral librarian/mandenka hereditary professional musicians). The establishment of the Mali Empire can be recalled and retold in the musical piece of the legendary Densoba (great warrior) Sunjata. This discussion explores the function of the Mande music and musical instruments\, Mande class system\, songs\, ceremonies and stories. The discussion also examines the influence of West Africa on American culture and why the djembe was outlawed during slavery. Participants will learn about the djembe\, its introduction by drummers like Babatunde Olatunji in 1950 and Ladji Camara from Guinea\, and how it spread throughout America.
URL:https://www.mshumanities.org/event/sb-jenkins-a-look-at-mande-west-african-culture-through-traditional-music-3/
LOCATION:Lee County Library\, 219 N. Madison Street\, Tupelo\, MS\, 38804
END:VEVENT
BEGIN:VEVENT
DTSTART;TZID=America/Chicago:20220630T140000
DTEND;TZID=America/Chicago:20220630T153000
DTSTAMP:20260423T223616
CREATED:20220617T174913Z
LAST-MODIFIED:20220617T174913Z
UID:11498-1656597600-1656603000@www.mshumanities.org
SUMMARY:SB - Jenkins - A Look at Mande (West African) Culture Through Traditional Music
DESCRIPTION:This presentation will give the listener a glimpse of the Mande Culture of West Africa. In the tradition of the Mande\, the history and culture is orally preserved in the minds and through the music of the Djeli (oral librarian/mandenka hereditary professional musicians). The establishment of the Mali Empire can be recalled and retold in the musical piece of the legendary Densoba (great warrior) Sunjata. This discussion explores the function of the Mande music and musical instruments\, Mande class system\, songs\, ceremonies and stories. The discussion also examines the influence of West Africa on American culture and why the djembe was outlawed during slavery. Participants will learn about the djembe\, its introduction by drummers like Babatunde Olatunji in 1950 and Ladji Camara from Guinea\, and how it spread throughout America.
URL:https://www.mshumanities.org/event/sb-jenkins-a-look-at-mande-west-african-culture-through-traditional-music-4/
LOCATION:Historic Fulton Grammar School\, 603 S Cummings St\, Fulton\, MS\, 38843\, United States
END:VEVENT
END:VCALENDAR