BEGIN:VCALENDAR
VERSION:2.0
PRODID:-//Mississippi Humanities Council - ECPv6.15.18//NONSGML v1.0//EN
CALSCALE:GREGORIAN
METHOD:PUBLISH
X-ORIGINAL-URL:https://www.mshumanities.org
X-WR-CALDESC:Events for Mississippi Humanities Council
REFRESH-INTERVAL;VALUE=DURATION:PT1H
X-Robots-Tag:noindex
X-PUBLISHED-TTL:PT1H
BEGIN:VTIMEZONE
TZID:America/Chicago
BEGIN:DAYLIGHT
TZOFFSETFROM:-0600
TZOFFSETTO:-0500
TZNAME:CDT
DTSTART:20210314T080000
END:DAYLIGHT
BEGIN:STANDARD
TZOFFSETFROM:-0500
TZOFFSETTO:-0600
TZNAME:CST
DTSTART:20211107T070000
END:STANDARD
BEGIN:DAYLIGHT
TZOFFSETFROM:-0600
TZOFFSETTO:-0500
TZNAME:CDT
DTSTART:20220313T080000
END:DAYLIGHT
BEGIN:STANDARD
TZOFFSETFROM:-0500
TZOFFSETTO:-0600
TZNAME:CST
DTSTART:20221106T070000
END:STANDARD
BEGIN:DAYLIGHT
TZOFFSETFROM:-0600
TZOFFSETTO:-0500
TZNAME:CDT
DTSTART:20230312T080000
END:DAYLIGHT
BEGIN:STANDARD
TZOFFSETFROM:-0500
TZOFFSETTO:-0600
TZNAME:CST
DTSTART:20231105T070000
END:STANDARD
END:VTIMEZONE
BEGIN:VEVENT
DTSTART;TZID=America/Chicago:20220409T100000
DTEND;TZID=America/Chicago:20220911T180000
DTSTAMP:20260423T234542
CREATED:20220414T151440Z
LAST-MODIFIED:20220414T151440Z
UID:11483-1649498400-1662919200@www.mshumanities.org
SUMMARY:A Movement in Every Direction: Legacies of the Great Migration
DESCRIPTION:A Movement in Every Direction: Legacies of the Great Migration explores the profound impact of the Great Migration on the social and cultural life of the United States from historical and personal perspectives. Co-organized with the Baltimore Museum of Art\, the exhibition features newly commissioned works by 12 acclaimed Black artists across a variety of media. The Great Migration (1915-1970) saw more than six million Black Americans leave the South for cities across the United States. Informed by research\, explorations\, and conversations\, the artists’ works explore themes of perseverance\, self-determination\, and self-reliance\, along with the impacts this historical phenomenon continues to have today.
URL:https://www.mshumanities.org/event/a-movement-in-every-direction-legacies-of-the-great-migration/
LOCATION:MS
END:VEVENT
BEGIN:VEVENT
DTSTART;TZID=America/Chicago:20220718T180000
DTEND;TZID=America/Chicago:20220718T200000
DTSTAMP:20260423T234542
CREATED:20220617T173243Z
LAST-MODIFIED:20220617T173243Z
UID:11492-1658167200-1658174400@www.mshumanities.org
SUMMARY:Dr. Carl Rollyson Visit - Speech
DESCRIPTION:Dr. Carl Rollyson will speak to the Pontotoc County Historical Society on Monday\, July 18\, at 6:00pm at the Pontotoc Community House on North Main Street. He will discuss the life of William Faulkner and present new materials that he discovered while researching his two-volume biography of Faulkner. He will focus on events that occurred in the North Mississippi area and how they impacted his life and his work. Dr. Rollyson will sign copies of his books after his presentation. \nDuring Dr. Rollyson’s Pontotoc visit\, Jack Elliott\, author of a new biography of W. C. Falkner\, William’s great grandfather\, will conduct a tour of William Faulkner sites in and around the City of Pontotoc. Most residents are unaware of the Faulkner events that took place in this area\, but they are fascinating and significant. Before William was born\, his father\, Murry\, was shot twice in a drugstore in Pontotoc and probably should not have survived. The story behind the shooting is amazing and involves one of the most prominent Pontotoc families of the era. The location of the drugstore is known and is on the Town Square. Also\, the boarding house where Murry lived is still partially extant. At the time\, Murray was serving as the conductor of the railroad founded by his grandfather\, William’s literary great grandfather\, W. C. Falkner. Additionally\, Faulkner’s youngest brother\, Dean\, was killed in an airplane crash in Pontotoc County. Faulkner had given the plane to Dean and agonized over his death. Faulkner visited the crash site\, identified the body\, and later drove Maud\, his mother\, to the funeral parlor (located in the back of a furniture store) in Pontotoc where she insisted on seeing the body. The sites of the crash\, the building where the body was taken\, along with others will be included in the tour. \nDr. Rollyson will visit New Albany on Tuesday and plans to speak and sign books there. On Thursday he will sign books at Square Books during the closing event of the Yoknapatawpha Conference. On Friday he is planning to speak and perhaps sign books at Ripley. During the week\, when he’s not at Pontotoc\, New Albany\, or Ripley\, he will be attending the Yoknapatawpha Conference in Oxford.
URL:https://www.mshumanities.org/event/dr-carl-rollyson-visit-speech/
LOCATION:Pontotoc Community House\, 114 N Main St\, Pontotoc\, MS\, 38863\, United States
END:VEVENT
BEGIN:VEVENT
DTSTART;VALUE=DATE:20220719
DTEND;VALUE=DATE:20220720
DTSTAMP:20260423T234542
CREATED:20220617T173449Z
LAST-MODIFIED:20220617T173449Z
UID:11493-1658188800-1658275199@www.mshumanities.org
SUMMARY:Dr. Carl Rollyson Visit - New Albany Book Signing
DESCRIPTION:Dr. Rollyson will visit New Albany on Tuesday and plans to speak and sign books there. On Thursday he will sign books at Square Books during the closing event of the Yoknapatawpha Conference. On Friday he is planning to speak and perhaps sign books at Ripley. During the week\, when he’s not at Pontotoc\, New Albany\, or Ripley\, he will be attending the Yoknapatawpha Conference in Oxford.
URL:https://www.mshumanities.org/event/dr-carl-rollyson-visit-new-albany-book-signing/
LOCATION:MS
END:VEVENT
BEGIN:VEVENT
DTSTART;VALUE=DATE:20220721
DTEND;VALUE=DATE:20220722
DTSTAMP:20260423T234542
CREATED:20220617T173711Z
LAST-MODIFIED:20220617T173711Z
UID:11494-1658361600-1658447999@www.mshumanities.org
SUMMARY:Dr. Carly Rollyson Visit - Square Books Signing
DESCRIPTION:Dr. Rollyson will visit New Albany on Tuesday and plans to speak and sign books there. On Thursday he will sign books at Square Books during the closing event of the Yoknapatawpha Conference. On Friday he is planning to speak and perhaps sign books at Ripley. During the week\, when he’s not at Pontotoc\, New Albany\, or Ripley\, he will be attending the Yoknapatawpha Conference in Oxford.
URL:https://www.mshumanities.org/event/dr-carly-rollyson-visit-square-books-signing/
LOCATION:Square Books\, 160 Courthouse Square\, Oxford\, MS\, 38655\, United States
END:VEVENT
BEGIN:VEVENT
DTSTART;VALUE=DATE:20220722
DTEND;VALUE=DATE:20220723
DTSTAMP:20260423T234542
CREATED:20220617T173801Z
LAST-MODIFIED:20220617T173801Z
UID:11495-1658448000-1658534399@www.mshumanities.org
SUMMARY:Dr. Carl Rollyson Visit - Ripley Speech
DESCRIPTION:Dr. Rollyson will visit New Albany on Tuesday and plans to speak and sign books there. On Thursday he will sign books at Square Books during the closing event of the Yoknapatawpha Conference. On Friday he is planning to speak and perhaps sign books at Ripley. During the week\, when he’s not at Pontotoc\, New Albany\, or Ripley\, he will be attending the Yoknapatawpha Conference in Oxford.
URL:https://www.mshumanities.org/event/dr-carl-rollyson-visit-ripley-speech/
LOCATION:MS
END:VEVENT
BEGIN:VEVENT
DTSTART;TZID=America/Chicago:20220724T140000
DTEND;TZID=America/Chicago:20220724T153000
DTSTAMP:20260423T234542
CREATED:20220715T170858Z
LAST-MODIFIED:20220715T170858Z
UID:11499-1658671200-1658676600@www.mshumanities.org
SUMMARY:SB - LaFrancis - In Their Boots: Poetry Inspired by Soldiers and Their Loved Ones
DESCRIPTION:“In Our Boots: Poems Inspired by Soldiers and Their Loved Ones\,” is a multi-media poetry performance inspired by Mark LaFrancis’s seven years of interviews with soldiers who served in Iraq and their loved ones. The presentation includes readings from the collection\, music and a PowerPoint presentation.
URL:https://www.mshumanities.org/event/sb-lafrancis-in-their-boots-poetry-inspired-by-soldiers-and-their-loved-ones/
LOCATION:Family Life Center\, 619 Main St\, Natchez\, MS\, 39120\, United States
END:VEVENT
BEGIN:VEVENT
DTSTART;TZID=America/Chicago:20220725T173000
DTEND;TZID=America/Chicago:20220725T190000
DTSTAMP:20260423T234542
CREATED:20220721T140936Z
LAST-MODIFIED:20220721T140936Z
UID:11502-1658770200-1658775600@www.mshumanities.org
SUMMARY:What Does Freedom Mean to You? - Natchez
DESCRIPTION:After celebrating Juneteenth and our nation’s independence this year\, it’s clear that freedom is unique to all of us. Is there any common ground on the meaning of the term? The MHC wants to know\, so we are asking the question\, “what does freedom mean to you?” in a three-part Ideas on Tap series\, we fondly call the “Freedom Tour”. We are taking the program to Natchez\, Columbus\, and Jackson. We have created a panel for each conversation to address what freedom means through various lenses\, like immigration\, African Americans\, LGBTQ\, and women. We encourage our guests to share their perspectives of freedom and how they understand freedom differently. This series of conversations is a part of our More Perfect Union initiative\, which seeks to honor the Mississippians that challenged America and this state to provide freedom and justice for all.  The first stop of the tour will be in Natchez at the Natchez Brewing Company\, July 25th from 5:30-7pm. The second stop will be in Columbus at the Columbus Arts Council\, July 26th from 5:30-7pm. The final stop will be in Jackson at the Cultivation Food Hall\, August 1st at 5:30-7pm. Each program is free to all and hors d’oeuvres will be provided. For more details contact John Spann\, program and outreach officer.
URL:https://www.mshumanities.org/event/what-does-freedom-mean-to-you-natchez/
LOCATION:Natchez Brewing Company\, 207 High St\, Natchez\, MS\, 39120\, United States
END:VEVENT
BEGIN:VEVENT
DTSTART;TZID=America/Chicago:20220726T173000
DTEND;TZID=America/Chicago:20220726T190000
DTSTAMP:20260423T234542
CREATED:20220721T140654Z
LAST-MODIFIED:20220721T140654Z
UID:11501-1658856600-1658862000@www.mshumanities.org
SUMMARY:What Does Freedom Mean to You? - Columbus
DESCRIPTION:After celebrating Juneteenth and our nation’s independence this year\, it’s clear that freedom is unique to all of us. Is there any common ground on the meaning of the term? The MHC wants to know\, so we are asking the question\, “what does freedom mean to you?” in a three-part Ideas on Tap series\, we fondly call the “Freedom Tour”. We are taking the program to Natchez\, Columbus\, and Jackson. We have created a panel for each conversation to address what freedom means through various lenses\, like immigration\, African Americans\, LGBTQ\, and women. We encourage our guests to share their perspectives of freedom and how they understand freedom differently. This series of conversations is a part of our More Perfect Union initiative\, which seeks to honor the Mississippians that challenged America and this state to provide freedom and justice for all.  The first stop of the tour will be in Natchez at the Natchez Brewing Company\, July 25th from 5:30-7pm. The second stop will be in Columbus at the Columbus Arts Council\, July 26th from 5:30-7pm. The final stop will be in Jackson at the Cultivation Food Hall\, August 1st at 5:30-7pm. Each program is free to all and hors d’oeuvres will be provided. For more details contact John Spann\, program and outreach officer.
URL:https://www.mshumanities.org/event/what-does-freedom-mean-to-you-columbus/
LOCATION:Columbus Arts Council\, Columbus \, MS 
END:VEVENT
END:VCALENDAR