BEGIN:VCALENDAR
VERSION:2.0
PRODID:-//Mississippi Humanities Council - ECPv6.15.18//NONSGML v1.0//EN
CALSCALE:GREGORIAN
METHOD:PUBLISH
X-WR-CALNAME:Mississippi Humanities Council
X-ORIGINAL-URL:https://www.mshumanities.org
X-WR-CALDESC:Events for Mississippi Humanities Council
REFRESH-INTERVAL;VALUE=DURATION:PT1H
X-Robots-Tag:noindex
X-PUBLISHED-TTL:PT1H
BEGIN:VTIMEZONE
TZID:America/Chicago
BEGIN:DAYLIGHT
TZOFFSETFROM:-0600
TZOFFSETTO:-0500
TZNAME:CDT
DTSTART:20210314T080000
END:DAYLIGHT
BEGIN:STANDARD
TZOFFSETFROM:-0500
TZOFFSETTO:-0600
TZNAME:CST
DTSTART:20211107T070000
END:STANDARD
BEGIN:DAYLIGHT
TZOFFSETFROM:-0600
TZOFFSETTO:-0500
TZNAME:CDT
DTSTART:20220313T080000
END:DAYLIGHT
BEGIN:STANDARD
TZOFFSETFROM:-0500
TZOFFSETTO:-0600
TZNAME:CST
DTSTART:20221106T070000
END:STANDARD
BEGIN:DAYLIGHT
TZOFFSETFROM:-0600
TZOFFSETTO:-0500
TZNAME:CDT
DTSTART:20230312T080000
END:DAYLIGHT
BEGIN:STANDARD
TZOFFSETFROM:-0500
TZOFFSETTO:-0600
TZNAME:CST
DTSTART:20231105T070000
END:STANDARD
END:VTIMEZONE
BEGIN:VEVENT
DTSTART;TZID=America/Chicago:20220409T100000
DTEND;TZID=America/Chicago:20220911T180000
DTSTAMP:20260424T042209
CREATED:20220414T151440Z
LAST-MODIFIED:20220414T151440Z
UID:11483-1649498400-1662919200@www.mshumanities.org
SUMMARY:A Movement in Every Direction: Legacies of the Great Migration
DESCRIPTION:A Movement in Every Direction: Legacies of the Great Migration explores the profound impact of the Great Migration on the social and cultural life of the United States from historical and personal perspectives. Co-organized with the Baltimore Museum of Art\, the exhibition features newly commissioned works by 12 acclaimed Black artists across a variety of media. The Great Migration (1915-1970) saw more than six million Black Americans leave the South for cities across the United States. Informed by research\, explorations\, and conversations\, the artists’ works explore themes of perseverance\, self-determination\, and self-reliance\, along with the impacts this historical phenomenon continues to have today.
URL:https://www.mshumanities.org/event/a-movement-in-every-direction-legacies-of-the-great-migration/
LOCATION:MS
END:VEVENT
BEGIN:VEVENT
DTSTART;VALUE=DATE:20220823
DTEND;VALUE=DATE:20220921
DTSTAMP:20260424T042209
CREATED:20220819T020658Z
LAST-MODIFIED:20220819T020658Z
UID:11512-1661212800-1663718399@www.mshumanities.org
SUMMARY:"Voices and Votes" in Pascagoula
DESCRIPTION:The Pascagoula High School Performing Arts Center will host Voices and Votes: Democracy in America\, a Smithsonian traveling exhibition\, from August 23 until September 20. \nVoices and Votes is a traveling exhibit offered by the Museum on Main Street division of the Smithsonian Institution. It consists of six free-standing display units incorporating photographs\, text\, and numerous interactive elements. Requiring a minimum of 650 sq. ft.\, the exhibit is designed for smaller venues to achieve Museum on Main Street’s goal of bringing the Smithsonian to small town America. The exhibit is free and open to the public to visit. \nVoices and Votes: Democracy in America traces the bold American experiment of a government run by and for the people. The exhibit examines the influences that shaped the early days of American democracy and the changes that have occurred in the nearly 250 years since. \nDemocracy is a form of government that requires civic engagement and participation. It is formed by citizens’ responses to ongoing questions: What are the rights and responsibilities of citizens? What is the role of the government in American life? How do citizens participate in democracy? Beginning with the American Revolution\, this exhibition explores these questions and more. \nIn addition to hosting the exhibit\, the Performing Arts Center will also host a series of programs that are free and open to the public. \nVoices and Votes events in Pascagoula: \n\nAugust 23rd\, 6:00pm – Grand Opening\, sponsored by Jackson County Chamber of CommerceGuest Speaker:  Representative Jeremey Anderson\, Mississippi House District 110 \nAugust 30th\, 6:00pm – Poetry Night\, featuring poets and poetry focused on voting rights in America \n\n\nSeptember 6th\, 6:00pm – Pascagoula Negro/Carver High and Magnolia Monarchs Alumni Night: A panel of alumni from Pascagoula Negro/Carver High School and Magnolia High School\, discussing their past voting experiences. \n\n\nSeptember 20th\, 6:00pm – Student Night: Featuring essay and art contest award winners\, as well as the Pascagoula High School and Gautier High School Choirs and Theatre Departments performances \n\n\nSeptember 21st\, 9:30am – Presentation from Voices and Votes state scholar Dr. Rebecca Tuuri\, “Democracy in Mississippi: Race\, Violence and Power in the Struggle for the Vote”
URL:https://www.mshumanities.org/event/voices-and-votes-in-pascagoula/
LOCATION:MS
END:VEVENT
BEGIN:VEVENT
DTSTART;TZID=America/Chicago:20220912T000000
DTEND;TZID=America/Chicago:20220917T000000
DTSTAMP:20260424T042209
CREATED:20220727T182533Z
LAST-MODIFIED:20220727T182533Z
UID:11505-1662940800-1663372800@www.mshumanities.org
SUMMARY:Blues in Schools
DESCRIPTION:As part of a week long program on the historical significance of blues music\, presenters will travel to nine Washington County middle and high schools to introduce blues music\, artists\, and live music using various original and recreated instruments such as jugs\, washboards in tin tubs.
URL:https://www.mshumanities.org/event/blues-in-schools/
LOCATION:MS
END:VEVENT
BEGIN:VEVENT
DTSTART;VALUE=DATE:20220914
DTEND;VALUE=DATE:20221023
DTSTAMP:20260424T042209
CREATED:20221010T145256Z
LAST-MODIFIED:20221010T145256Z
UID:11518-1663113600-1666483199@www.mshumanities.org
SUMMARY:Will Eisner & The History of the Graphic Novel
DESCRIPTION:Drop by the library between September 14th and October 22nd to participate in this comic book/graphic novel celebration. The Will Eisner and the History of the Graphic Novel exhibit will\nexplore the format through art\, literature\, film and conversation. Comic books and graphic novels assemble words and art into a dual language unlike anything else in the publishing world. Despite this unique form of dialogue\, the genre has not always been embraced by the literary and art worlds as a medium worthy of prestige. The exhibit will showcase the rich history of this format and dispel that notion. On Monday\, September 26th\, Dr. Stacy Creel will further discuss that history and give context to the exhibit. She earned her Ph.D. in Information Science from the University of North Texas at Denton and is currently the Director of the School of Library and Information Science at The University of Southern Mississippi.
URL:https://www.mshumanities.org/event/will-eisner-the-history-of-the-graphic-novel/
LOCATION:Library of Hattiesburg\, Petal\, and Forrest County\, 329 Hardy Street\, Hattiesburg\, MS\, 39401
END:VEVENT
BEGIN:VEVENT
DTSTART;TZID=America/Chicago:20220920T183000
DTEND;TZID=America/Chicago:20220920T200000
DTSTAMP:20260424T042209
CREATED:20220727T182759Z
LAST-MODIFIED:20220727T182759Z
UID:11506-1663698600-1663704000@www.mshumanities.org
SUMMARY:SB - Miller - Lost Mississippi
DESCRIPTION:This presentation will highlight mansions\, churches\, college buildings\, schools\, courthouses and other historically significant structures which Mississippi has “lost” to war\, fire\, neglect and demolition. It will draw extensively from my two books\, Lost Mansions of Mississippi and Lost Landmarks of Mississippi. The talk can be configured to emphasize certain geographic areas of the state (i.e. Natchez and the southwest\, the Delta\, Jakson area\, etc.) or to present an architectural history of Mississippi.
URL:https://www.mshumanities.org/event/sb-miller-lost-mississippi/
LOCATION:Sharkey Issaquena County Library\, 116 Robert Morganfield Way\, Rolling Fork\, MS\, 39159
END:VEVENT
BEGIN:VEVENT
DTSTART;VALUE=DATE:20220922
DTEND;VALUE=DATE:20220924
DTSTAMP:20260424T042209
CREATED:20220908T135938Z
LAST-MODIFIED:20220908T135938Z
UID:11513-1663804800-1663977599@www.mshumanities.org
SUMMARY:MCHEP Conference
DESCRIPTION:Hotel Recommendations: \nHilton Garden Inn “King Edward” – $94 est. \n235 W Capitol St \nOld Capitol Inn (Limited Vacancy) – $155 est. \n226 N State St \nHampton Inn – $96 est. \n320 Greymont Ave. \nBest Western Plus (Flowood) – $89 est. \n1004 Top St. \nStaybridge Inn & Suites (Flowood) – $111 est. \n2620 Lakeland Dr. \n 
URL:https://www.mshumanities.org/event/mchep-conference/
LOCATION:Galloway United Methodist Church\, 305 North Congress Street\, Jackson\, MS
END:VEVENT
BEGIN:VEVENT
DTSTART;VALUE=DATE:20220927
DTEND;VALUE=DATE:20221116
DTSTAMP:20260424T042209
CREATED:20220815T191853Z
LAST-MODIFIED:20220815T191853Z
UID:11511-1664236800-1668556799@www.mshumanities.org
SUMMARY:Voices and Votes: Democracy in America
DESCRIPTION:Details TBA
URL:https://www.mshumanities.org/event/voices-and-votes-democracy-in-america/
LOCATION:Copiah-Lincoln Comunity College\, Natchez\, 11 Co-Lin Cir\, Natchez\, MS\, 39120\, United States
END:VEVENT
BEGIN:VEVENT
DTSTART;TZID=America/Chicago:20220929T173000
DTEND;TZID=America/Chicago:20220929T190000
DTSTAMP:20260424T042209
CREATED:20220928T190639Z
LAST-MODIFIED:20220928T190639Z
UID:11514-1664472600-1664478000@www.mshumanities.org
SUMMARY:Ideas on Tap: Addressing the Digital Divide
DESCRIPTION:Join us for Ideas On Tap: Addressing the Digital Divide on September 29\, where we will discuss technological disparities in Mississippi. Panelists include Sally Doty (Broadband Expansion and Accessibility of Mississippi)\, Dr. Creston Burse (Mississippi Economic Council)\, and Tracy Carr (Mississippi Library Commission). They will explore the issues and challenges that have created a digital divide\, and how their respective institutions are working to bridge the gaps in technology. The program will take place at the Bean Path Makerspace in Jackson on September 29 at 5:30 p.m. For more information contact our Program and Outreach Officer John Spann at 601-432-6752 and jspann@mhc.state.ms.us
URL:https://www.mshumanities.org/event/ideas-on-tap-addressing-the-digital-divide/
LOCATION:Bean Path Makerspace\, 451 N Gallatin St\, Jackson\, MS\, 39203\, United States
END:VEVENT
END:VCALENDAR