BEGIN:VCALENDAR
VERSION:2.0
PRODID:-//Mississippi Humanities Council - ECPv6.15.18//NONSGML v1.0//EN
CALSCALE:GREGORIAN
METHOD:PUBLISH
X-WR-CALNAME:Mississippi Humanities Council
X-ORIGINAL-URL:https://www.mshumanities.org
X-WR-CALDESC:Events for Mississippi Humanities Council
REFRESH-INTERVAL;VALUE=DURATION:PT1H
X-Robots-Tag:noindex
X-PUBLISHED-TTL:PT1H
BEGIN:VTIMEZONE
TZID:America/Chicago
BEGIN:DAYLIGHT
TZOFFSETFROM:-0600
TZOFFSETTO:-0500
TZNAME:CDT
DTSTART:20220313T080000
END:DAYLIGHT
BEGIN:STANDARD
TZOFFSETFROM:-0500
TZOFFSETTO:-0600
TZNAME:CST
DTSTART:20221106T070000
END:STANDARD
BEGIN:DAYLIGHT
TZOFFSETFROM:-0600
TZOFFSETTO:-0500
TZNAME:CDT
DTSTART:20230312T080000
END:DAYLIGHT
BEGIN:STANDARD
TZOFFSETFROM:-0500
TZOFFSETTO:-0600
TZNAME:CST
DTSTART:20231105T070000
END:STANDARD
BEGIN:DAYLIGHT
TZOFFSETFROM:-0600
TZOFFSETTO:-0500
TZNAME:CDT
DTSTART:20240310T080000
END:DAYLIGHT
BEGIN:STANDARD
TZOFFSETFROM:-0500
TZOFFSETTO:-0600
TZNAME:CST
DTSTART:20241103T070000
END:STANDARD
END:VTIMEZONE
BEGIN:VEVENT
DTSTART;TZID=America/Chicago:20230322T090000
DTEND;TZID=America/Chicago:20230322T160000
DTSTAMP:20260424T154422
CREATED:20230306T150248Z
LAST-MODIFIED:20230306T150248Z
UID:11546-1679475600-1679500800@www.mshumanities.org
SUMMARY:Oral History Workshop
DESCRIPTION:Tell Your Story \nStories guide our work and are the threads that bring communities together and connect people to the things they’re passionate about. \nWe’re proud to partner with the Mississippi Humanities Council to present this full-day introductory workshop designed for anyone interested in documenting advocacy\, family history\, or community stories by recording oral history interviews. \nThis workshop is FREE and open to the public. Just bring a notebook and a pen or pencil and get ready to share your story. Seats are limited and registration is required.
URL:https://www.mshumanities.org/event/oral-history-workshop/
LOCATION:MS
END:VEVENT
BEGIN:VEVENT
DTSTART;TZID=America/Chicago:20230322T160000
DTEND;TZID=America/Chicago:20230322T170000
DTSTAMP:20260424T154422
CREATED:20230306T152308Z
LAST-MODIFIED:20230306T152308Z
UID:11548-1679500800-1679504400@www.mshumanities.org
SUMMARY:Grants Workshop
DESCRIPTION:Register today! Join representatives from the National Endowment for the Arts and the National Endowment for Humanities virtually to learn more about funding opportunities through grants other resources. Questions or registration: christopher_miller@hydesimth.senate.gov
URL:https://www.mshumanities.org/event/grants-workshop/
LOCATION:MS
ATTACH;FMTTYPE=image/png:https://www.mshumanities.org/wp-content/uploads/2023/03/NEA-Grants-Workshop-1.png
END:VEVENT
BEGIN:VEVENT
DTSTART;TZID=America/Chicago:20230324T173000
DTEND;TZID=America/Chicago:20230324T193000
DTSTAMP:20260424T154422
CREATED:20230306T150859Z
LAST-MODIFIED:20230306T150859Z
UID:11547-1679679000-1679686200@www.mshumanities.org
SUMMARY:Public Humanities Awards
DESCRIPTION:The Mississippi Humanities Council announced the winners of its 2023 Public Humanities Awards recognizing outstanding work in preserving and sharing Mississippi’s unique history and culture. The awards ceremony will be held March 24\, 2023 at the Two Mississippi Museums in Jackson. Tickets can be purchased at mshumanities.org. \nAlso\, the MHC will recognize 30 recipients of the 2023 Humanities Teacher Awards\, which pay tribute to outstanding faculty in traditional humanities fields at each of our state’s institutions of higher learning. \nThe Council invites everyone to join them at their 2023 Public Humanities Awards ceremony and reception March 24\, 2022\, at 5:30 p.m. at the Two Mississippi Museums. \nTickets for the Mississippi Humanities Council Public Humanities Awards ceremony and reception are $50 each and may be purchased through the MHC website or by sending a check to the Mississippi Humanities Council\, 3825 Ridgewood Road\, Room 317\, Jackson\, MS 39211.
URL:https://www.mshumanities.org/event/public-humanities-awards/
LOCATION:TWO MISSISSIPPI MUSEUMS\, 222 NORTH STREET \, JACKSON\, MS\, United States
END:VEVENT
BEGIN:VEVENT
DTSTART;TZID=America/Chicago:20230325T090000
DTEND;TZID=America/Chicago:20230325T170000
DTSTAMP:20260424T154422
CREATED:20230306T170844Z
LAST-MODIFIED:20230306T170844Z
UID:11549-1679734800-1679763600@www.mshumanities.org
SUMMARY:Banned Book Festival
DESCRIPTION:Millsaps College will host its very first Banned Books Festival on March 25\, 2023. Increasingly\, multitudes of books have been banned from public school libraries for their subject matter—for example\, exploring racial justice and injustice\, documenting investigative reporting and navigating difficult experiences through memoir. In reaction to these rising bans\, the Medgar and Myrlie Evers Institute\, the Mississippi Center for Investigative Reporting\, the Mississippi Humanities Council\, the Millsaps College Truth\, Racial Healing and Transformation Campus Center (TRHT)\, and the ACLU are collaborating to sponsor a festival with authors of banned books sharing their stories. Join authors Angie Thomas\, Julie K. Brown and Rick Bragg\, and other to hear them discuss authorship\, publication and banning. This event will begin at 9:00 a.m. and take place in various locations on the Millsaps campus.
URL:https://www.mshumanities.org/event/banned-book-festival/
LOCATION:Millsaps College\, 1701 N. State Street\, Jackson\, Mississippi\, 39202
END:VEVENT
BEGIN:VEVENT
DTSTART;TZID=America/Chicago:20230329T090000
DTEND;TZID=America/Chicago:20230331T180000
DTSTAMP:20260424T154422
CREATED:20230126T213028Z
LAST-MODIFIED:20230126T213028Z
UID:11537-1680080400-1680285600@www.mshumanities.org
SUMMARY:The Twenty-Ninth Oxford Conference for the Book
DESCRIPTION:Founded by the Center for the Study of Southern Culture and Square Books\, the Oxford Conference  for the Book brings together fiction and nonfiction writers\, journalists\, artists\, poets\, publishers\, teachers\, students\, and literacy advocates for three days of conversation in the literary town of Oxford\, Mississippi. This is the longest-running event put on by the Center and is always free and open to the public\, and takes place in the spring. \nThe twenty-ninth Oxford Conference for the Book is set for March 29-31\, 2023. Go here for more details.
URL:https://www.mshumanities.org/event/the-twenty-ninth-oxford-conference-for-the-book/
LOCATION:The Overby Center\, 555 Grove Loop\, University\, MS\, 386777\, United States
END:VEVENT
BEGIN:VEVENT
DTSTART;TZID=America/Chicago:20230329T173000
DTEND;TZID=America/Chicago:20230329T190000
DTSTAMP:20260424T154422
CREATED:20230322T150418Z
LAST-MODIFIED:20230322T150418Z
UID:11550-1680111000-1680116400@www.mshumanities.org
SUMMARY:Ideas on Tap - The Women who Run our State
DESCRIPTION:According to the 2016 Clarion Ledger article\, “The Women who Run our State”\, “Of 172 legislative seats at the state Capitol\, only 25 are filled by women.” Now in 2023\, that number has decreased to 23. The article also states that in 2016\, “Only five of our 19 higher court judges and justices are women”. In 2023\, the number of women in Mississippi’s high courts have decreased to 4. As the number of female college and law school graduates increase nationally\, why hasn’t women’s political representation of in our state grown?  Join us Wednesday March 29th at Cultivation Food Hall as we address that question and others in our next Ideas on Tap conversation: Addressing the gender divide in Mississippi Politics. Among our panel guests will be Rep. Zakiya Summers (District 68) and Sen. Nicole Akins Boyd (District 9). The program is brought to you in partnership with the Mississippi Women’s Foundation and will last from 5:30 to 7pm. The address to cultivation Food Hall is 1200 Eastover Dr #125\, Jackson\, MS 39211. For more information\, please contact program and outreach officer John Spann Jspann@mhc.state.ms.us
URL:https://www.mshumanities.org/event/ideas-on-tap-the-women-who-run-our-state/
LOCATION:Cultivation Food Hall\, 1200 Eastover Drive #125\, Jackson\, MS\, 39211\, United States
END:VEVENT
BEGIN:VEVENT
DTSTART;TZID=America/Chicago:20230331T080000
DTEND;TZID=America/Chicago:20230402T170000
DTSTAMP:20260424T154422
CREATED:20230221T204155Z
LAST-MODIFIED:20230221T204155Z
UID:11545-1680249600-1680454800@www.mshumanities.org
SUMMARY:Creating Space for Lucy: Philosophy\, Race and the Artisan Nashville Ballet's Lucy Negro Redux
DESCRIPTION:Mississippi State University will host this conference intended to bring together the artist who created Nashville Ballet’s “Lucy Negro Redux” with both senior and junior scholars in academic fields important for thinking through different aspects of it. \nFeatured Events include: \nA Roundtable Discussion with poet\, Caroline Randall Williams\, choreographer Paul Vasterling\, and originator of the role of Lucy\, Kayla Rowser\nA Public Screening of Nashville Ballet’s Lucy Negro Redux\nInvited paper sessions featuring an international and interdisciplinary roster of scholars from African American and African Studies\, Dance and Performance Studies\, Literary Studies\, and Philosophy. \nAll events are free & open to the public. For additional\nquestions\, contact Kristin Boyce at\nlucyconference@gmail.com
URL:https://www.mshumanities.org/event/creating-space-for-lucy-philosophy-race-and-the-artisan-nashville-ballets-lucy-negro-redux/
LOCATION:MS
ATTACH;FMTTYPE=application/pdf:https://www.mshumanities.org/wp-content/uploads/2023/02/LucyConferenceFlier.pdf
END:VEVENT
END:VCALENDAR