BEGIN:VCALENDAR
VERSION:2.0
PRODID:-//Mississippi Humanities Council - ECPv6.15.18//NONSGML v1.0//EN
CALSCALE:GREGORIAN
METHOD:PUBLISH
X-ORIGINAL-URL:https://www.mshumanities.org
X-WR-CALDESC:Events for Mississippi Humanities Council
REFRESH-INTERVAL;VALUE=DURATION:PT1H
X-Robots-Tag:noindex
X-PUBLISHED-TTL:PT1H
BEGIN:VTIMEZONE
TZID:America/Chicago
BEGIN:DAYLIGHT
TZOFFSETFROM:-0600
TZOFFSETTO:-0500
TZNAME:CDT
DTSTART:20220313T080000
END:DAYLIGHT
BEGIN:STANDARD
TZOFFSETFROM:-0500
TZOFFSETTO:-0600
TZNAME:CST
DTSTART:20221106T070000
END:STANDARD
BEGIN:DAYLIGHT
TZOFFSETFROM:-0600
TZOFFSETTO:-0500
TZNAME:CDT
DTSTART:20230312T080000
END:DAYLIGHT
BEGIN:STANDARD
TZOFFSETFROM:-0500
TZOFFSETTO:-0600
TZNAME:CST
DTSTART:20231105T070000
END:STANDARD
BEGIN:DAYLIGHT
TZOFFSETFROM:-0600
TZOFFSETTO:-0500
TZNAME:CDT
DTSTART:20240310T080000
END:DAYLIGHT
BEGIN:STANDARD
TZOFFSETFROM:-0500
TZOFFSETTO:-0600
TZNAME:CST
DTSTART:20241103T070000
END:STANDARD
END:VTIMEZONE
BEGIN:VEVENT
DTSTART;TZID=America/Chicago:20230604T100000
DTEND;TZID=America/Chicago:20230604T120000
DTSTAMP:20260424T181728
CREATED:20230602T184902Z
LAST-MODIFIED:20230602T184902Z
UID:11561-1685872800-1685880000@www.mshumanities.org
SUMMARY:M.W. Stringer Grand Lodge Freedom Trail Marker
DESCRIPTION:– On June 4\, the historic M.W. Stringer Grand Lodge will be added to the Mississippi Freedom Trail. Visit Jackson\, Visit Mississippi\, and the Mississippi Humanities Council are organizing the unveiling ceremony that will be a part of the M.W. Stringer Grand Lodge Homecoming activities that day. The historic site served as a sanctuary for Masons of Jackson and the Jackson Civil Rights Movement. At one time\, the Student Nonviolent Coordinating Committee (SNCC)\, the National Association for the Advancement of Colored People (NAACP)\, and other civil rights organizations of Mississippi had their central offices within the Stringer Lodge. \nThe Mississippi Freedom Democratic Party organized and chose delegates during a conference at the Lodge to represent the party at the 1964 Democratic Convention. Those delegates later became catalysts for the expansion of voting rights to all Americans. The Lodge also served as Medgar W. Evers’ second Jackson office working as the field secretary for the Mississippi State Conference of the NAACP. The current Mississippi State Conference of the NAACP\, led by Charles Taylor\, is still housed in the M.W. Stringer Grand Lodge. \nJoin us on June 4 at 10:00 A.M. for the unveiling of the marker outside in the Lodge’s parking lot. The ceremony is open to the public.
URL:https://www.mshumanities.org/event/m-w-stringer-grand-lodge-freedom-trail-marker/
LOCATION:MS
ATTACH;FMTTYPE=image/jpeg:https://www.mshumanities.org/wp-content/uploads/2023/06/IMG_7473.jpg
END:VEVENT
BEGIN:VEVENT
DTSTART;TZID=America/Chicago:20230605T080000
DTEND;TZID=America/Chicago:20230630T140000
DTSTAMP:20260424T181728
CREATED:20230517T150924Z
LAST-MODIFIED:20230517T150924Z
UID:11556-1685952000-1688133600@www.mshumanities.org
SUMMARY:E-STEAM Summer Camp
DESCRIPTION:The Center for Social Entrepreneurship will provide a free E-STEAM Summer Camp to promote entrepreneurship\, STEAM\, and the arts 4th and 5th graders residing in West Jackson\, MS. The four week camp is scheduled for June 2023 with daily sessions Monday-Friday 8:—2:00. Cap will be help at iVilliage Community House to provide easy access for neighborhood children.
URL:https://www.mshumanities.org/event/e-steam-summer-camp/
LOCATION:iVilliage Community House\, 1225 Robinson Street\, Jackson\, MS\, 39203\, United States
ORGANIZER;CN="center for social entrepreneurship":MAILTO:vilas@cse-ms.org
END:VEVENT
BEGIN:VEVENT
DTSTART;TZID=America/Chicago:20230608T190000
DTEND;TZID=America/Chicago:20230611T150000
DTSTAMP:20260424T181728
CREATED:20230523T180918Z
LAST-MODIFIED:20230523T180918Z
UID:11557-1686250800-1686495600@www.mshumanities.org
SUMMARY:Voice of Freedom: Fannie Lou Hamer (theatre project)
DESCRIPTION:The performance is a theatrical adaptation of the award winning children’s book Voices of Freedom Fannie Lou Hamer Spirit of the Civil Rights Movement authored by Carol Boston Weatherford. The actors are faith\, school and civic community members in Winona and the counties of Mongomery and Carroll. \nVoices of Freedom chronicles Mrs. Hamer’s life from childhood through the 1968 Democratic National Convention in Chicago. At the conclusion of each performance\, there will be an opportunity for audience members to ask questions and share commentary of their experiences.
URL:https://www.mshumanities.org/event/voice-of-freedom-fannie-lou-hamer-theatre-project/
LOCATION:Montogomery County Performing Arts Center\, 208 Summit St\, Winona\, 38967\, United States
END:VEVENT
BEGIN:VEVENT
DTSTART;TZID=America/Chicago:20230615T183000
DTEND;TZID=America/Chicago:20230615T210000
DTSTAMP:20260424T181728
CREATED:20230607T133453Z
LAST-MODIFIED:20230607T133453Z
UID:11563-1686853800-1686862800@www.mshumanities.org
SUMMARY:In the Bones Movie Premiere
DESCRIPTION:The Mississippi Humanities Council and The Southern Poverty Law Center are co-sponsoring the Jackson premiere screening of the Mississippi-based documentary\, IN THE BONES\, directed by Kelly Duane de la Vega and produced by Jessica Anthony.  The Screening is at the Capri Theatre June 15th at 6:30pm. \nHaving previously screened at the New Orleans\, Atlanta\, Nashville\, San Francisco DOCFEST (where it won the audience award)\, and Oxford Film Festivals\, as well as internationally in Berlin\, Sydney\, Tokyo and Dubai\, IN THE BONES will have its Jackson premiere on Thursday\, June 15th\, at 6:30 p.m. at the historic Capri Theatre in Fondren\, followed by a panel discussion with director Kelly Duane de la Vega\, producer Jessica Anthony and local community leaders. \nIn the Bones is a lyrical documentary that explores the personal and political by interweaving the lives of 12 characters living in Mississippi during a legislative session in which equal pay for equal work and abortion rights are being decided. Although set in three distinct regions of Mississippi\, In the Bones is a much broader exploration of our culture\, an unsettling portrayal of America that lingers\, shining a light on the weight women live under in this country and also the resilience expressed in everyday acts of survival. View the trailer for In the Bones here: threeframes.org/in-the-bones.
URL:https://www.mshumanities.org/event/in-the-bones-movie-premiere/
LOCATION:Capri Theatre\, 3023 N State St\,\, Jackson\, 39216\, United States
ATTACH;FMTTYPE=application/pdf:https://www.mshumanities.org/wp-content/uploads/2023/06/Doc-Screening-1.pdf
END:VEVENT
BEGIN:VEVENT
DTSTART;TZID=America/Chicago:20230616T110000
DTEND;TZID=America/Chicago:20230616T140000
DTSTAMP:20260424T181728
CREATED:20230612T210140Z
LAST-MODIFIED:20230612T210140Z
UID:11564-1686913200-1686924000@www.mshumanities.org
SUMMARY:The Legacy of Juneteenth: Are We Free?
DESCRIPTION:What is the legacy of freedom in Mississippi and what challenges are Black Mississippians facing today? Join us for this enlightening community conversation on the legacy of Juneteenth with some of our brightest scholars. This conversation will be focused on Black Mississippian’s liberation story and try to answer the question\, “Are We Really Free?” \n  \nThe program will last from 11am-2pm. We will start the conversation at 11:15am and have it last till 12:30pm. A 15minute Q&A session will follow. Free Food will be served.
URL:https://www.mshumanities.org/event/the-legacy-of-juneteenth-are-we-free/
LOCATION:The Orchid Bed and Breakfast\, 628 North State Street\, Jackson\, MS\, 39202
END:VEVENT
BEGIN:VEVENT
DTSTART;TZID=America/Chicago:20230617T080000
DTEND;TZID=America/Chicago:20230617T170000
DTSTAMP:20260424T181728
CREATED:20230524T141751Z
LAST-MODIFIED:20230524T141751Z
UID:11558-1686988800-1687021200@www.mshumanities.org
SUMMARY:Juneteenth Celebration/Project Kickoff
DESCRIPTION:A Juneteenth Celebration will be held at Valena C. Jones School on June 17\, 2023\, to announce the kickoff of an Oral History Project. The project is to begin collecting contact information for former teachers and students who are interested in participating in interviews. Juneteenth celebrates the independence of Black Americans\, and the celebration is planned to entertain\, educate and empower the Bay St. Louis community and surrounding area. \nHearing their stories is a powerful recognition of the struggle for civil rights\, the barriers to education faces and the successful lives and careers of so many graduates of this school. The friends of the Valena C Jones School hopes to use this project as a springboard to create an exhibit about the school and the community leaders it formed.
URL:https://www.mshumanities.org/event/juneteenth-celebration-project-kickoff/
LOCATION:Valena C. Jones School\, Bay St. Louis\, 39520\, United States
END:VEVENT
BEGIN:VEVENT
DTSTART;TZID=America/Chicago:20230617T120000
DTEND;TZID=America/Chicago:20230617T170000
DTSTAMP:20260424T181728
CREATED:20230530T153249Z
LAST-MODIFIED:20230530T153249Z
UID:11560-1687003200-1687021200@www.mshumanities.org
SUMMARY:Juneteenth Festival
DESCRIPTION:Prepare for a full day of teach and learning African American History! The Juneteenth celebration consist of a Freedom Parade\, Reenactment of Notification to African Americans being freed from slavery\, Tour of Actual Slave quarters at Craft House and a full teaching and learning about slavery and Black History. Freedom parade starts at noon. The first tour of Slave Quarters will be at 1:00pm. There will be tents and tables set up around the Courthouse grounds with resources\, information\, arts & crafts\, games\, prizes and more. The program will begin immediately after the Slave Quarters tour at 1pm. There will be speakers on the History of Juneteenth\, Genealogy\, Slavery and Black History. There will also be singing and live music related to Juneteenth.
URL:https://www.mshumanities.org/event/juneteenth-festival/
LOCATION:Holly Springs Historic Courthouse\, 128 Van Dorn Ave\, Holly Springs\, MS\, 38635\, United States
ORGANIZER;CN="Care Now":MAILTO:carenow1975@gmail.com
END:VEVENT
END:VCALENDAR