BEGIN:VCALENDAR
VERSION:2.0
PRODID:-//Mississippi Humanities Council - ECPv6.15.18//NONSGML v1.0//EN
CALSCALE:GREGORIAN
METHOD:PUBLISH
X-WR-CALNAME:Mississippi Humanities Council
X-ORIGINAL-URL:https://www.mshumanities.org
X-WR-CALDESC:Events for Mississippi Humanities Council
REFRESH-INTERVAL;VALUE=DURATION:PT1H
X-Robots-Tag:noindex
X-PUBLISHED-TTL:PT1H
BEGIN:VTIMEZONE
TZID:America/Chicago
BEGIN:DAYLIGHT
TZOFFSETFROM:-0600
TZOFFSETTO:-0500
TZNAME:CDT
DTSTART:20220313T080000
END:DAYLIGHT
BEGIN:STANDARD
TZOFFSETFROM:-0500
TZOFFSETTO:-0600
TZNAME:CST
DTSTART:20221106T070000
END:STANDARD
BEGIN:DAYLIGHT
TZOFFSETFROM:-0600
TZOFFSETTO:-0500
TZNAME:CDT
DTSTART:20230312T080000
END:DAYLIGHT
BEGIN:STANDARD
TZOFFSETFROM:-0500
TZOFFSETTO:-0600
TZNAME:CST
DTSTART:20231105T070000
END:STANDARD
BEGIN:DAYLIGHT
TZOFFSETFROM:-0600
TZOFFSETTO:-0500
TZNAME:CDT
DTSTART:20240310T080000
END:DAYLIGHT
BEGIN:STANDARD
TZOFFSETFROM:-0500
TZOFFSETTO:-0600
TZNAME:CST
DTSTART:20241103T070000
END:STANDARD
END:VTIMEZONE
BEGIN:VEVENT
DTSTART;TZID=America/Chicago:20230811T100000
DTEND;TZID=America/Chicago:20230811T170000
DTSTAMP:20260424T203130
CREATED:20230628T161914Z
LAST-MODIFIED:20230628T161914Z
UID:11565-1691748000-1691773200@www.mshumanities.org
SUMMARY:Highway 61: Traveling America’s Music Highway
DESCRIPTION:Highway 61: Traveling America’s Music Highway exhibit will tell the important history of Highway 61 and its impact on American music.  The exhibit will be on display at GRAMMY Museum Mississippi in Cleveland\, MS\, through 2024. \nAugust 11th – Exhibit opens to the public at 10:00 AM \n 
URL:https://www.mshumanities.org/event/highway-61-traveling-americas-music-highway/
LOCATION:GRAMMY Museum Mississippi\, 800 West Sunflower Rd\, Cleveland \, MS\, 38732\, United States
END:VEVENT
BEGIN:VEVENT
DTSTART;TZID=America/Chicago:20230813T140000
DTEND;TZID=America/Chicago:20230813T163000
DTSTAMP:20260424T203130
CREATED:20230628T170736Z
LAST-MODIFIED:20230628T170736Z
UID:11569-1691935200-1691944200@www.mshumanities.org
SUMMARY:"It's In the Voices" Documentary Screening
DESCRIPTION:The Mississippi Humanities Council (MHC) is partnering with the Mississippi Film Office and the Mississippi Department of Archives and History to bring free\, high-quality documentary film screenings to public audiences each month for the next year. \nUp next is ” It’s in the Voices\,” by filmmaker Field Humphrey. August 13th at 2:0m \nClint Bagley sits at a table in the Mississippi Department of Archives and History and locates a cassette tape from 1975. On it is the interview\, he conducted with Daisy Greene\, an elderly woman from his hometown of Greenville\, Mississippi. Clint plays the tape and listens to the voice of his long deceased friend. For Clint\, Daisy’s tranquil\, Delta accent carries the same weight it did so many years ago. He ruminates over Daisy’s words as she recalls her experiences as a Black educator in the Mississippi Delta and her story of survival during the Great Mississippi Flood of 1927. As Daisy’s story unfolds\, we learn how her words sparked a nationally-recognized oral history program that chronicled disparate voices of the Mississippi Delta’s once progressive bastion. \nThe screening will be followed by a panel discussion featuring the filmmaker\, Field Humphrey\, and Clinton Bagley from the film.
URL:https://www.mshumanities.org/event/its-in-the-voices-documentary-screening/
LOCATION:TWO MISSISSIPPI MUSEUMS\, 222 NORTH STREET \, JACKSON\, MS\, United States
ATTACH;FMTTYPE=image/jpeg:https://www.mshumanities.org/wp-content/uploads/2023/06/316301022_102387422708338_1682920105625775111_n.jpg
END:VEVENT
BEGIN:VEVENT
DTSTART;TZID=America/Chicago:20230813T140000
DTEND;TZID=America/Chicago:20230813T163000
DTSTAMP:20260424T203130
CREATED:20230718T203514Z
LAST-MODIFIED:20230718T203514Z
UID:11580-1691935200-1691944200@www.mshumanities.org
SUMMARY:It’s in the Voices Documentary Screening
DESCRIPTION:The Mississippi Humanities Council (MHC) will partner with the Mississippi Film Office and the Mississippi Department of Archives and History to screen It’s in the Voices\, a documentary film that tells the story of a 1970 oral history project in Washington County\, Mississippi\, that examined topics regarding black educators in the Mississippi Delta and the Great Mississippi Flood of 1927. A Q&A session with Field Humphrey\, director of the documentary\, will follow the screening. It’s in the Voices will be screened Sunday\, Aug. 13\, at 2 p.m. in the Neilson Auditorium at the Two Mississippi Museums in Jackson. \nThe Sunday Screenings partnership goal is to bring documentary films to public audiences each month for the next year. The MHC gives a special thanks to the Mississippi Film Office\, the Mississippi Department of Archives and History\, and the Southern Circuit Tour of Independent Filmmakers for making these screenings possible. \nFuture screenings will be announced as films are confirmed.
URL:https://www.mshumanities.org/event/its-in-the-voices-documentary-screening-2/
LOCATION:TWO MISSISSIPPI MUSEUMS\, 222 NORTH STREET \, JACKSON\, MS\, United States
END:VEVENT
BEGIN:VEVENT
DTSTART;TZID=America/Chicago:20230822T130000
DTEND;TZID=America/Chicago:20230822T150000
DTSTAMP:20260424T203130
CREATED:20230913T135008Z
LAST-MODIFIED:20230913T135008Z
UID:11586-1692709200-1692716400@www.mshumanities.org
SUMMARY:Possum Town Documentary
DESCRIPTION:This project began in the early 1970s in Columbus\, Mississippi. \nThere\, Dr. Berkley Hudson and his childhood friends discovered the life’s work of local “pictureman” Otis Noel (O.N.) Pruitt. They purchased the collection of 142\,000 negatives in 1987 and spent the next 30 years archiving\, researching\, and preserving the work. Over those years\, Hudson has discovered the stories behind Pruitt’s photographs\, revealing complex and difficult truths. The collection was transferred in 2005 to the University of North Carolina. \nToday\, in partnership with Curatorial and with support of the National Endowment for the Humanities\, the University of Missouri\, and many private donors Pruitt’s work is now being featured in a nationally-traveling exhibition and a book published by UNC Press with the Center for Documentary Studies at Duke University. \nThe exhibition and its companion website\, www.thepruittproject.com\, feature images\, film\, period Mississippi music\, spoken word\, and a teaching and learning toolkit for teachers and their students. Exhibitions\, symposia\, book signings\, and other events can be found on the website calendar. \nEach aspect of the Pruitt Project encourages conversations within our own communities as we continue to search for a deeper understanding of culture and history in 21st-century America.
URL:https://www.mshumanities.org/event/possum-town-documentary/
LOCATION:MS
END:VEVENT
BEGIN:VEVENT
DTSTART;TZID=America/Chicago:20230830T171500
DTEND;TZID=America/Chicago:20230830T200000
DTSTAMP:20260424T203130
CREATED:20230823T124347Z
LAST-MODIFIED:20230823T124347Z
UID:11582-1693415700-1693425600@www.mshumanities.org
SUMMARY:The Harvest World Premiere Film Screening
DESCRIPTION:The Harvest World Premiere Film Screening \nJoin us for the highly anticipated world premiere of The Harvest\, a captivating film that tells the story of how school integration transformed the town of Leland\, Mississippi. \nDate: August 30\, 2023 \nTime: 5:15 Reception w/hors d’oeuvres served \n 6:00pm Film Screening Begins \n Author Douglas Blackmon will participate in a panel discussion after the film. \nLocation: Delta Research & Ext Center\, Stoneville Road\, Stoneville\, Mississippi\, USA \nIn The Harvest\, Pulitzer Prize-winning author Douglas A. Blackmon looks back at how school integration transformed his hometown of Leland\, Mississippi. After the 1954 Supreme Court ruled that racial segregation in public schools was unconstitutional\, little more than token efforts were made to desegregate Southern schools. That changed dramatically on October 29\, 1969\, when the high court ordered that Mississippi schools to fully — and immediately — desegregate. As a result\, a group of children\, including six-year-old Blackmon\, became part of the first class of Black and white children who would attend all 12 grades together in Leland. \nSet against vast historic and demographic changes unfolding across America\, The Harvest follows a coalition of Black and white citizens working to create racially integrated public schools in a cotton town in the middle of the Mississippi Delta\, the most rigidly segregated area in America. It tells the extraordinary story of how that first class became possible\, then traces the lives of Blackmon and his classmates\, teachers and parents from the first day through high school graduation in 1982. It is a riveting portrait of how those children’s lives were transformed and how the town — and America — were changed. But as the film follows the lives of those children into the present\, it is also a portrait of what our society has lost in its failure to finish the work begun a generation ago. \nThe Harvest World Premier
URL:https://www.mshumanities.org/event/the-harvest-world-premiere-film-screening/
LOCATION:MS
ATTACH;FMTTYPE=image/jpeg:https://www.mshumanities.org/wp-content/uploads/2023/08/AMEX_Harvest_SocialVideo_1080x1350_v2.jpg
END:VEVENT
BEGIN:VEVENT
DTSTART;TZID=America/Chicago:20230831T171500
DTEND;TZID=America/Chicago:20230831T200000
DTSTAMP:20260424T203130
CREATED:20230823T124727Z
LAST-MODIFIED:20230823T124727Z
UID:11583-1693502100-1693512000@www.mshumanities.org
SUMMARY:The Harvest Film Screening
DESCRIPTION:The Harvest Film Screening \nJoin us for the highly anticipated screening of The Harvest\, a captivating film that tells the story of how school integration transformed the town of Leland\, Mississippi. \nDate: August 31\, 2023 \nTime: 5:15 Reception w/hors d’oeuvres served \n 6:00pm Film Screening Begins \nAuthor Douglas Blackmon will participate in a panel discussion after the film. \nLocation: Two Mississippi Museums\, 222 North St #1206\, Jackson\, MS 39201 \nIn The Harvest\, Pulitzer Prize-winning author Douglas A. Blackmon looks back at how school integration transformed his hometown of Leland\, Mississippi. After the 1954 Supreme Court ruled that racial segregation in public schools was unconstitutional\, little more than token efforts were made to desegregate Southern schools. That changed dramatically on October 29\, 1969\, when the high court ordered that Mississippi schools to fully — and immediately — desegregate. As a result\, a group of children\, including six-year-old Blackmon\, became part of the first class of Black and white children who would attend all 12 grades together in Leland. \nSet against vast historic and demographic changes unfolding across America\, The Harvest follows a coalition of Black and white citizens working to create racially integrated public schools in a cotton town in the middle of the Mississippi Delta\, the most rigidly segregated area in America. It tells the extraordinary story of how that first class became possible\, then traces the lives of Blackmon and his classmates\, teachers and parents from the first day through high school graduation in 1982. It is a riveting portrait of how those children’s lives were transformed and how the town — and America — were changed. But as the film follows the lives of those children into the present\, it is also a portrait of what our society has lost in its failure to finish the work begun a generation ago. \nThe Harvest
URL:https://www.mshumanities.org/event/the-harvest-film-screening/
LOCATION:TWO MISSISSIPPI MUSEUMS\, 222 NORTH STREET \, JACKSON\, MS\, United States
ATTACH;FMTTYPE=image/jpeg:https://www.mshumanities.org/wp-content/uploads/2023/08/AMEX_Harvest_SocialVideo_1080x1350_v2.jpg
END:VEVENT
END:VCALENDAR