BEGIN:VCALENDAR
VERSION:2.0
PRODID:-//Mississippi Humanities Council - ECPv6.15.18//NONSGML v1.0//EN
CALSCALE:GREGORIAN
METHOD:PUBLISH
X-WR-CALNAME:Mississippi Humanities Council
X-ORIGINAL-URL:https://www.mshumanities.org
X-WR-CALDESC:Events for Mississippi Humanities Council
REFRESH-INTERVAL;VALUE=DURATION:PT1H
X-Robots-Tag:noindex
X-PUBLISHED-TTL:PT1H
BEGIN:VTIMEZONE
TZID:America/Chicago
BEGIN:DAYLIGHT
TZOFFSETFROM:-0600
TZOFFSETTO:-0500
TZNAME:CDT
DTSTART:20220313T080000
END:DAYLIGHT
BEGIN:STANDARD
TZOFFSETFROM:-0500
TZOFFSETTO:-0600
TZNAME:CST
DTSTART:20221106T070000
END:STANDARD
BEGIN:DAYLIGHT
TZOFFSETFROM:-0600
TZOFFSETTO:-0500
TZNAME:CDT
DTSTART:20230312T080000
END:DAYLIGHT
BEGIN:STANDARD
TZOFFSETFROM:-0500
TZOFFSETTO:-0600
TZNAME:CST
DTSTART:20231105T070000
END:STANDARD
BEGIN:DAYLIGHT
TZOFFSETFROM:-0600
TZOFFSETTO:-0500
TZNAME:CDT
DTSTART:20240310T080000
END:DAYLIGHT
BEGIN:STANDARD
TZOFFSETFROM:-0500
TZOFFSETTO:-0600
TZNAME:CST
DTSTART:20241103T070000
END:STANDARD
END:VTIMEZONE
BEGIN:VEVENT
DTSTART;TZID=America/Chicago:20230909T140000
DTEND;TZID=America/Chicago:20230910T140000
DTSTAMP:20260424T213952
CREATED:20230718T213218Z
LAST-MODIFIED:20230718T213218Z
UID:11581-1694268000-1694354400@www.mshumanities.org
SUMMARY:Mercy Train: Next Stop Bay St. louis\, MS
DESCRIPTION:The one-act play outlines the history of Orphan Trains and tells the life stories of the five children who were adopted by Bay St. Louis families in 1909. The large cast of characters include at least 7 children and 10 adults. \nSaturday\, September 9 at 2pm and 7pm. Another performance Sunday Sept. 10 at 2pm. Admission is free.
URL:https://www.mshumanities.org/event/mercy-train-next-stop-bay-st-louis-ms/
LOCATION:bay st louis little theatre\, 398 Blaize Ave\, Bay St Louis\, 39520\, United States
ORGANIZER;CN="Hancock County Historical Society":MAILTO:msbusybee400@gmail.com
END:VEVENT
BEGIN:VEVENT
DTSTART;TZID=America/Chicago:20230914T170000
DTEND;TZID=America/Chicago:20230914T190000
DTSTAMP:20260424T213952
CREATED:20230906T185051Z
LAST-MODIFIED:20230906T185051Z
UID:11585-1694710800-1694718000@www.mshumanities.org
SUMMARY:Ideas on Tap
DESCRIPTION:The Mississippi Humanities Council presents Ideas on Tap\, a thought-provoking series that brings together experts and the community to have good conversation and civil discussion about important issues facing our state. The topic of the evening will be “Land\, Food & Power.”\nThis program will feature Dr. Bobby J. Smith II\, Assistant Professor in the Department of African American Studies at the University of Illinois at Urbana-Champaign\, Robbie Pollard\, Founder of Start 2 Finish Inc. and Happy Foods Project and a representative from Delta Fresh Food.\n\nDate: September 14th\nLOCATION: Club Ebony\n                        404 Hanna Ave\n                         Indianola\, MS\,  38751\nTIME: 5:00 pm – 7:00 pm
URL:https://www.mshumanities.org/event/ideas-on-tap-7/
LOCATION:MS
ATTACH;FMTTYPE=image/jpeg:https://www.mshumanities.org/wp-content/uploads/2023/09/IOT-Club-Ebony-2.jpeg
END:VEVENT
BEGIN:VEVENT
DTSTART;TZID=America/Chicago:20230915T100000
DTEND;TZID=America/Chicago:20230915T190000
DTSTAMP:20260424T213952
CREATED:20230629T173158Z
LAST-MODIFIED:20230629T173158Z
UID:11575-1694772000-1694804400@www.mshumanities.org
SUMMARY:Having Our Say: Women WriteHER Literary Arts Series
DESCRIPTION:One-day public literary program\, during the three-day Mississippi Delta Blues and Heritage Festival in Greenville\, featuring 13 authors\, humanities scholars\, literary artists\, and creatives reflecting on southern women of the Civil Rights Movement.
URL:https://www.mshumanities.org/event/having-our-say-women-writeher-literary-arts-series/
LOCATION:Washington County Convention Center\, 1040 S. Raceway Road \, Greenville \, MS \, 38703
END:VEVENT
BEGIN:VEVENT
DTSTART;TZID=America/Chicago:20230918T080000
DTEND;TZID=America/Chicago:20230922T190000
DTSTAMP:20260424T213952
CREATED:20230718T131235Z
LAST-MODIFIED:20230718T131235Z
UID:11579-1695024000-1695409200@www.mshumanities.org
SUMMARY:Cacao and Chocolate: A Powerful Legacy
DESCRIPTION:COOKING AND CULTURE MEET DURING HISPANIC HERITAGE MONTH AT THE W by Robert Scott\nMississippi University for Women will celebrate Hispanic Heritage Month with “Cacao and Chocolate: A Powerful Legacy\,” a two-day event centering on Hispanic culture and cuisine. \n\n\n\n“Events like ‘Cacao and Chocolate: A Powerful Legacy’ offer exceptional educational opportunities that go beyond traditional classrooms. For example\, a team of interdisciplinary students has passionately delved into the theme\, showcasing their research skills\, creativity and sense of discovery\,” said Dr. Reyna Vergara\, assistant professor of Spanish and co-director of the event. \nThe interdisciplinary students will showcase what they discovered in their research Thursday\, Sept. 21 from noon-1:30 p.m. in the demonstration kitchen of the Culinary Arts Institute. There also will be a chocolate tasting at the event. \nBooklets featuring stories\, messages and recipes from those involved with the event will be handed out to attendees. \nLater in the day\, from 6-7 p.m.\, the presentation “Transforming Traditional Feminine Spaces in El Eterno femenino\, (in italics) ‘La muñeca menor\,’ and Como agua para chocolate (in italics)” will take place. It will be held in Nissan Auditorium in Parkinson Hall in conjunction with the Fall Forum Series hosted by the Gordy Honors College. \n“Cacao and Chocolate” will conclude with a cultural discussion and question and answer forum Friday\, Sept. 22 from 9:30-10:30 a.m. in the northwest lobby of Fant Memorial Library led by Dr. Cecy Brooks\, assistant professor of psychology and family studies. \n“I believe interdisciplinary events like this foster collaboration between departments and subjects\, like Spanish and biology\, which helps with communication and building a stronger campus community. I also believe that it supports the goals of the liberal arts while helping students see that subjects that seem unrelated can actually be combined to create excellent learning experiences. It is also important to bring minority cultures to the forefront of our campus thoughts. We may even be able to reach a point where Hispanic students will seek out The W\,” said Michael Dodson\, science instructor and co-director of the event. \nThe entirety of “Cacao and Chocolate” is free and open to the public. \n\n\n\n\n\n\n\nThe event also allowed for an opportunity to reach outside of campus and partner with a nonprofit\, El Centro. It is a Tupelo-based organization that\, according to its website\, “helps Hispanics and Northeast Mississippi residents integrate into the local community.”\nVisit https://www.elcentrotupelo.org/ for more information. \nIt is the hope of the organizers that partnerships like this one will help expand Hispanic heritage events in the future and perhaps even change them to better fit the goal of inclusion. \n“For the future\, I’d like to explore further whether we should continue to align ourselves with the national Hispanic Heritage Month or adopt what might feel like a more inclusive name that has the potential of better reflecting our community’s identity\,” Vergara said. \nIn addition to the three events\, there will be an accompanying display set up in Fant Memorial Library the entirety of Hispanic Heritage Month (Sept. 15-Oct. 15). It also will feature information about El Centro for anyone who is interested but was unable to attend one of the events. \n“My hope is that we can recruit and serve more of the Hispanic/Latinx community creating an even more diverse campus. I believe diversity brings strength. Since we are working with El Centro\, I hope that we can expand our ability to partner with this organization and possibly use their example in Columbus to help K-12 Hispanic students in the Golden Triangle\,” Dodson said. \n###\nThis project was made possible by a grant from the Mississippi Humanities Council\, through support from the National Endowment for the Humanities. Any views\, findings\, conclusions\, or recommendations expressed in this (publication) (program) (exhibition) (website) do not necessarily represent those of the National Endowment for the Humanities or the Mississippi Humanities Council. \n\n\n\n\n\n\n\n\n\n\n\nAbout The W\nLocated in historic Columbus\, Mississippi\, The W was founded in 1884 as the first state-supported college for women in the United States. Today\, the university is home to 2\,339 students in more than 70 majors and concentrations and has educated men for 40 years. The university is nationally recognized for low student debt\, diversity and social mobility which empowers students to BE BOLD. \nBe Bold. Tower with Blue.
URL:https://www.mshumanities.org/event/cacao-and-chocolate-a-powerful-legacy/
LOCATION:Mississippi University for Women – Fant Memorial Library\, 1200 5th Ave S\, Columbus\, MS\, 39701\, United States
ATTACH;FMTTYPE=image/jpeg:https://www.mshumanities.org/wp-content/uploads/2023/07/HHM_event_23-DKETEk.tmp_.jpg
END:VEVENT
BEGIN:VEVENT
DTSTART;TZID=America/Chicago:20230921T120000
DTEND;TZID=America/Chicago:20230921T124500
DTSTAMP:20260424T213952
CREATED:20230918T144505Z
LAST-MODIFIED:20230918T144505Z
UID:11588-1695297600-1695300300@www.mshumanities.org
SUMMARY:SLIS Prison Program Lunch and Learn
DESCRIPTION:This Week via Zoom: Join MHC Project Coordinator Carla Falkner and others to learn about educational initiatives for incarcerated youth and adults.
URL:https://www.mshumanities.org/event/slis-prison-program-lunch-and-learn/
LOCATION:MS
ATTACH;FMTTYPE=image/png:https://www.mshumanities.org/wp-content/uploads/2023/09/SLIS-Lunch-and-Learn-166221.png
END:VEVENT
BEGIN:VEVENT
DTSTART;TZID=America/Chicago:20230923T130000
DTEND;TZID=America/Chicago:20230923T150000
DTSTAMP:20260424T213952
CREATED:20230210T174157Z
LAST-MODIFIED:20230210T174157Z
UID:11539-1695474000-1695481200@www.mshumanities.org
SUMMARY:Plant-Based Pigments with Robin Whitfield
DESCRIPTION:Medicine Wheel Garden Event at USM Hattiesburg Campus\n\n\nThe Center of American Indian Research and Studies (CAIRS) at The University of Southern Mississippi (USM) is partnering with the Mississippi Humanities Council\, WECAN (Women’s Earth & Climate Action Network) and the Telenutrition Center to present several events throughout the year at the Medicine Wheel Garden\, located on the USM Hattiesburg campus behind the Liberal Arts Building. \nDr. Tammy Greer\, an associate professor of psychology who serves as director for CAIRS\, developed the Medicine Wheel Garden in 2005 along with others to highlight the plants that were used by the indigenous peoples of this area\, and to promote awareness of the rich histories and cultures of Southeastern Native Americans. \nAll events begin at 1 p.m. at the Medicine Wheel Garden; native plant-based snacks will be provided at each event. Members of the university and local communities are invited to these free events. \n*   Sept. 23: Plant-Based Pigments with Robin Whitfield \n*   Nov. 11: Plant Medicine with Jenna Mae
URL:https://www.mshumanities.org/event/plant-based-pigments-with-robin-whitfield/
LOCATION:USM Liberal Arts Building\, 114 N. 31st Ave.\, Hattiesburg\, MS\, 39401
ATTACH;FMTTYPE=image/jpeg:https://www.mshumanities.org/wp-content/uploads/2023/02/medicine-wheel-events.jpeg
END:VEVENT
BEGIN:VEVENT
DTSTART;TZID=America/Chicago:20230926T173000
DTEND;TZID=America/Chicago:20230926T193000
DTSTAMP:20260424T213952
CREATED:20230918T162705Z
LAST-MODIFIED:20230918T162705Z
UID:11589-1695749400-1695756600@www.mshumanities.org
SUMMARY:Speaker's Bureau: "Murder on Pretty Creek: New Revelations on an Old Case"
DESCRIPTION:The killing of Ben Chester White\, one of the brutal murders that occurred in Natchez during the civil rights movement in the 1960s\, will be discussed by Stanley Nelson at the Tuesday\, Sept. 26\, meeting of the Natchez Historical Society. The meeting begins with a social at 5:30 p.m. and Nelson’s presentation at 6 p.m.\, at the Historic Natchez Foundation at 108 S. Commerce St. The event is free to the public. \nNelson’s presentation is titled\, “Murder on Pretty Creek: New Revelations on an Old Case.” It will focus on White\, the 67-year-old Black man who was murdered in 1966 by the Ku Klux Klan. Nelson will talk about his alleged killers\, two of whom\, Ernest Avants and James Lloyd Jones\, were charged but not convicted in 1967; and a third one\, Claude Fuller\, who was never brought to trial.
URL:https://www.mshumanities.org/event/speakers-bureau-murder-on-pretty-creek-new-revelations-on-an-old-case/
LOCATION:Historic Natchez Foundation\, 108 S. Commerce St.\, Natchez\, MS\, United States
END:VEVENT
BEGIN:VEVENT
DTSTART;TZID=America/Chicago:20230927T080000
DTEND;TZID=America/Chicago:20230927T170000
DTSTAMP:20260424T213952
CREATED:20230605T194852Z
LAST-MODIFIED:20230605T194852Z
UID:11562-1695801600-1695834000@www.mshumanities.org
SUMMARY:MS Delta Civil Rights Heritage Tourism Summit
DESCRIPTION:About the Summit\nAs a follow up to these events\, MS Delta NHA/Delta Center\, BB King Museum and Delta Interpretive Center\, Mississippi Humanities Council\, Mound Bayou Museum\, the National Park Service\, and other regional partners are collaborating to host a Civil Rights Heritage Tourism Summit. The Summit is scheduled to take place on Wednesday\, September 27\, 2023\, at BB King Museum and Delta Interpretive Center and the historic\, recently restored Club Ebony in Indianola\, MS. \nIn April 2022\, the Mississippi Delta National Heritage Area (MS Delta NHA) at Delta State University’s Delta Center for Culture and Learning hosted the Alliance of National Heritage Areas Spring Meeting. The meeting included an inclusive storytelling and community-based tourism development session with a special focus on African American Civil Rights heritage in the Mississippi Delta. The session was facilitated by Dr. Déanda Johnson\, National Park Service Civil Rights Historian for the Southeast Region. MS Delta NHA is the first NHA to be designated to the National Park Service’s African American Civil Rights Network
URL:https://www.mshumanities.org/event/ms-delta-civil-rights-heritage-tourism-summit/
LOCATION:BB King Museum\, 400 Second Street\, Indianola\, MS\, 38751\, United States
END:VEVENT
BEGIN:VEVENT
DTSTART;TZID=America/Chicago:20230929T080000
DTEND;TZID=America/Chicago:20231021T170000
DTSTAMP:20260424T213952
CREATED:20230629T172615Z
LAST-MODIFIED:20230629T172615Z
UID:11574-1695974400-1697907600@www.mshumanities.org
SUMMARY:Invisible Histories Project
DESCRIPTION:Magnolia Memories: Mississippi’s LGBTQ History \nExhibit and related public programs documenting and exploring Mississippi’s LGBTQ history from the 1960s through the 2000s including text and artifacts\, textiles\, audio/visual content and art.
URL:https://www.mshumanities.org/event/invisible-histories-project/
LOCATION:Municipal Art Gallery\, 839 N. State Street\, Jackson\, Mississippi\, 39202
ORGANIZER;CN="Invisible Histories Project":MAILTO:contact@invisiblehistory.org
END:VEVENT
END:VCALENDAR