BEGIN:VCALENDAR
VERSION:2.0
PRODID:-//Mississippi Humanities Council - ECPv6.15.18//NONSGML v1.0//EN
CALSCALE:GREGORIAN
METHOD:PUBLISH
X-ORIGINAL-URL:https://www.mshumanities.org
X-WR-CALDESC:Events for Mississippi Humanities Council
REFRESH-INTERVAL;VALUE=DURATION:PT1H
X-Robots-Tag:noindex
X-PUBLISHED-TTL:PT1H
BEGIN:VTIMEZONE
TZID:America/Chicago
BEGIN:DAYLIGHT
TZOFFSETFROM:-0600
TZOFFSETTO:-0500
TZNAME:CDT
DTSTART:20170312T080000
END:DAYLIGHT
BEGIN:STANDARD
TZOFFSETFROM:-0500
TZOFFSETTO:-0600
TZNAME:CST
DTSTART:20171105T070000
END:STANDARD
BEGIN:DAYLIGHT
TZOFFSETFROM:-0600
TZOFFSETTO:-0500
TZNAME:CDT
DTSTART:20180311T080000
END:DAYLIGHT
BEGIN:STANDARD
TZOFFSETFROM:-0500
TZOFFSETTO:-0600
TZNAME:CST
DTSTART:20181104T070000
END:STANDARD
BEGIN:DAYLIGHT
TZOFFSETFROM:-0600
TZOFFSETTO:-0500
TZNAME:CDT
DTSTART:20190310T080000
END:DAYLIGHT
BEGIN:STANDARD
TZOFFSETFROM:-0500
TZOFFSETTO:-0600
TZNAME:CST
DTSTART:20191103T070000
END:STANDARD
END:VTIMEZONE
BEGIN:VEVENT
DTSTART;TZID=America/Chicago:20180802T190000
DTEND;TZID=America/Chicago:20180802T200000
DTSTAMP:20260424T143334
CREATED:20180628T184935Z
LAST-MODIFIED:20180628T184935Z
UID:10998-1533236400-1533240000@www.mshumanities.org
SUMMARY:Water/Ways @ MIHM: Ebbs & Flows of Mississippi History
DESCRIPTION:On August 2\, the Mississippi Industrial Heritage Museum will host Dr. James Giesen of the MHC’s Speakers Bureau to present his free and open to the public lecture “Water Ways: Ebbs & Flows of Mississippi History.” The program will take place in conjunction with the Smithsonian Institution’s traveling exhibit Water/Ways\, which the Mississippi Industrial Heritage Museum will host from July 14 through August 25. \nThere are few states where water has been more central to its history and culture than Mississippi. From ship-building on the coast to Native American migration along rivers and streams\, from Civil Rights Movement wade-ins to Civil War strategy\, water has played a central role in how and why the Magnolia State looks and operates as it does today. Giesen will tell three interrelated histories of water in Mississippi to make the case that Mississippians today often overlook both the breadth and variety of ways that water has affected the history of their state. From massive natural disasters like Hurricane Katrina and the 1927 Mississippi River Flood\, to great success stories like the shipbuilding and fishing industries\, to less well-known incidents where water played an important role in the development of small communities and towns\, the talk will tell not just the well-known water histories of the state\, but show how water has become an often overlooked factor in our past\, present\, and future. \nFuture Water/Ways events @ MIHM:\nAugust 9\, 4-8pm: Fish Fry and “Why We Call it Soul Food” Speakers Bureau presentation\nAugust 16\, 7pm: “Keep America Beautiful” presentation\nAugust 23\, 5-9pm: Evening Steam Up event\nAugust 25\, 12-1pm: “All Things Mississippi” Speakers Bureau presentation
URL:https://www.mshumanities.org/event/water-ways-mihm-ebbs-flows-mississippi-history/
LOCATION:Mississippi Industrial Heritage Museum\, 1808 4th Street\, Meridian\, MS\, 39301\, United States
END:VEVENT
BEGIN:VEVENT
DTSTART;TZID=America/Chicago:20180809T180000
DTEND;TZID=America/Chicago:20180809T190000
DTSTAMP:20260424T143334
CREATED:20180718T205036Z
LAST-MODIFIED:20180718T205036Z
UID:11013-1533837600-1533841200@www.mshumanities.org
SUMMARY:Water/Ways @ MIHM: Fish Fry & "Why We Call It Soul Food"
DESCRIPTION:On August 9\, the Mississippi Industrial Heritage Museum will host Dr. Brinda Willis of the MHC’s Speakers Bureau to present her free and open to the public lecture titled “Why We Call It Soul Food.” This Speakers Bureau event will take place in conjunction with the Smithsonian Institution’s traveling exhibit\, which the Industrial Heritage Museum will host from July 14 through August 25. In addition to the lecture\, the August 9 program will also feature a fish fry onsite at the Industrial Heritage Museum from 4-9pm. \nWillis’s program tells the story of why southerners\, especially African American southerners\, call the foods we eat “soul food.” Dr. Willis discusses the emotional and physical aspects of soul food as it relates to our culture and history. She also discusses the bonds attached to the growing\, nurturing and preparation of these foods as it relates to our culture and way of life in the South. Her August 9 program will also include stories about the significance of fried fish and fish fries in the South. \nFuture Water/Ways events @ MIHM:\nAugust 16\, 7pm: “Keep America Beautiful” presentation\nAugust 23\, 5-9pm: Evening Steam Up event\nAugust 25\, 12-1pm: “All Things Mississippi” Speakers Bureau presentation
URL:https://www.mshumanities.org/event/speakers-bureau-call-soul-food-2/
LOCATION:Mississippi Industrial Heritage Museum\, 1808 4th Street\, Meridian\, MS\, 39301\, United States
END:VEVENT
BEGIN:VEVENT
DTSTART;TZID=America/Chicago:20180825T120000
DTEND;TZID=America/Chicago:20180825T130000
DTSTAMP:20260424T143334
CREATED:20180723T195842Z
LAST-MODIFIED:20180723T195842Z
UID:11017-1535198400-1535202000@www.mshumanities.org
SUMMARY:Water/Ways @MIHM: All Things Mississippi
DESCRIPTION:On August 25\, the Mississippi Industrial Heritage Museum will host Anne McKee of the MHC’s Speakers Bureau to present her free and open to the public lecture titled “All Things Mississippi.” The Speakers Bureau program will take place in conjunction with the Smithsonian Institution’s “Water/Ways” traveling exhibit\, which the Industrial Heritage Museum will host from July 14-August 25. \nAnne McKee is recognized statewide as a passionate teacher of Mississippi history. Through the art of storytelling\, Anne McKee uplifts the accomplishments of famous Mississippians and shares explores the history of a land and a people like no other. Native to the state\, McKee’s love and support for Mississippi began in childhood as she sat at the knees of relatives to learn the Mississippi story—a story for her that is always new and fresh. She dresses in costumes representing the time period of the stories featured on the day of her programs\, and at times\, if the audience is willing\, involves attendees in her stories. \nSpeakers Expertise:\nAnne McKee is a storyteller\, free-lance writer and published author whose work is inspired by “her life in the south lane.” She is listed on the Mississippi Arts Commission’s Artist Roster and the MAC Teaching Artist Roster. In 2009\, she published Historic Photos of Mississippi and in 2010\, Remembering Mississippi\, both celebrating the singular beauty and culture of Mississippi. McKee is a master storyteller who uses her craft to teach the history and heritage of the South through the art of story and drama.
URL:https://www.mshumanities.org/event/speakers-bureau-things-mississippi/
LOCATION:Mississippi Industrial Heritage Museum\, 1808 4th Street\, Meridian\, MS\, 39301\, United States
END:VEVENT
END:VCALENDAR