BEGIN:VCALENDAR
VERSION:2.0
PRODID:-//Mississippi Humanities Council - ECPv6.15.18//NONSGML v1.0//EN
CALSCALE:GREGORIAN
METHOD:PUBLISH
X-WR-CALNAME:Mississippi Humanities Council
X-ORIGINAL-URL:https://www.mshumanities.org
X-WR-CALDESC:Events for Mississippi Humanities Council
REFRESH-INTERVAL;VALUE=DURATION:PT1H
X-Robots-Tag:noindex
X-PUBLISHED-TTL:PT1H
BEGIN:VTIMEZONE
TZID:America/Chicago
BEGIN:DAYLIGHT
TZOFFSETFROM:-0600
TZOFFSETTO:-0500
TZNAME:CDT
DTSTART:20170312T080000
END:DAYLIGHT
BEGIN:STANDARD
TZOFFSETFROM:-0500
TZOFFSETTO:-0600
TZNAME:CST
DTSTART:20171105T070000
END:STANDARD
BEGIN:DAYLIGHT
TZOFFSETFROM:-0600
TZOFFSETTO:-0500
TZNAME:CDT
DTSTART:20180311T080000
END:DAYLIGHT
BEGIN:STANDARD
TZOFFSETFROM:-0500
TZOFFSETTO:-0600
TZNAME:CST
DTSTART:20181104T070000
END:STANDARD
BEGIN:DAYLIGHT
TZOFFSETFROM:-0600
TZOFFSETTO:-0500
TZNAME:CDT
DTSTART:20190310T080000
END:DAYLIGHT
BEGIN:STANDARD
TZOFFSETFROM:-0500
TZOFFSETTO:-0600
TZNAME:CST
DTSTART:20191103T070000
END:STANDARD
END:VTIMEZONE
BEGIN:VEVENT
DTSTART;TZID=America/Chicago:20181006T120000
DTEND;TZID=America/Chicago:20181006T130000
DTSTAMP:20260424T104616
CREATED:20180906T203328Z
LAST-MODIFIED:20180906T203328Z
UID:11037-1538827200-1538830800@www.mshumanities.org
SUMMARY:Water/Ways @ LMRF: Swimming and Civil Rights
DESCRIPTION:On Saturday\, October 6\, the Lower Mississippi River Foundation will host a panel discussion on the role of swimming and pools during the Civil Rights Movement. The event\, which is free and open to the public\, will take place at the Crossroads Cultural Center in Clarksdale. The panel discussion will take place in conjunction with the Smithsonian Institution traveling exhibit Water/Ways\, on display in Clarksdale through October 13. \nWater/Ways is a traveling exhibit offered by the Museum on Main Street division of the Smithsonian Institution. The exhibit explores water’s connection to all aspects of our society\, including the endless motion of the water cycle\, water’s effect on landscape\, settlement and migration\, and its impact on culture and spirituality. \nFuture Water/Ways Events @ LMRF*\nOctober 6-7: Sunflower River Paddle Days\nOctober 7\, 12pm: “Mississippi River Blues”\nOctober 7\, 3pm (HELENA) Horner Neck kayak tour\nOctober 13\, 9am: River Clean-Up\nOctober 13 (HELENA): Steamboat presentation and kids’ craft time \n*Most Water/Ways events take place in Clarksdale. Some\, as noted\, take place in Helena\, Arkansas.
URL:https://www.mshumanities.org/event/water-ways-lmrf-swimming-civil-rights/
LOCATION:Crossroads Cultural Arts Center\, 332 Delta Ave\, Clarksdale\, MS\, 38614\, United States
END:VEVENT
BEGIN:VEVENT
DTSTART;TZID=America/Chicago:20181007T120000
DTEND;TZID=America/Chicago:20181007T130000
DTSTAMP:20260424T104616
CREATED:20180906T203848Z
LAST-MODIFIED:20180906T203848Z
UID:11038-1538913600-1538917200@www.mshumanities.org
SUMMARY:Water/Ways @ LMRF: Mississippi River Blues
DESCRIPTION:On Sunday\, October 7\, the Lower Mississippi River Foundation will host a program on the role of water in the formation of blues culture. The program\, “Mississippi River Blues\,” which is free and open to the public\, will take place at the Crossroads Cultural Arts Center in Clarksdale. The program will take place in conjunction with the Smithsonian Institution traveling exhibit Water/Ways\, on display in Clarksdale through October 13. \nWater/Ways is a traveling exhibit offered by the Museum on Main Street division of the Smithsonian Institution. The exhibit explores water’s connection to all aspects of our society\, including the endless motion of the water cycle\, water’s effect on landscape\, settlement and migration\, and its impact on culture and spirituality. \nFuture Water/Ways Events @ LMRF*\nOctober 7\, 3pm (HELENA) Horner Neck kayak tour\nOctober 13\, 9am: River Clean-Up\nOctober 13 (HELENA): Steamboat presentation and kids’ craft time \n*Most Water/Ways events take place in Clarksdale. Some\, as noted\, take place in Helena\, Arkansas.
URL:https://www.mshumanities.org/event/water-ways-lmrf-mississippi-river-blues/
LOCATION:Crossroads Cultural Arts Center\, 332 Delta Ave\, Clarksdale\, MS\, 38614\, United States
END:VEVENT
BEGIN:VEVENT
DTSTART;TZID=America/Chicago:20181013T090000
DTEND;TZID=America/Chicago:20181013T120000
DTSTAMP:20260424T104616
CREATED:20180906T204158Z
LAST-MODIFIED:20180906T204158Z
UID:11039-1539421200-1539432000@www.mshumanities.org
SUMMARY:Water/Ways @ LMRF: River Clean Up
DESCRIPTION:On Saturday\, October 13\, the Lower Mississippi River Foundation will host a river clean-up day to celebrate the closing of the Smithsonian traveling exhibit Water/Ways. The river clean-up day will take place along the Sunflower River in Clarksdale. \nWater/Ways is a traveling exhibit offered by the Museum on Main Street division of the Smithsonian Institution. The exhibit explores water’s connection to all aspects of our society\, including the endless motion of the water cycle\, water’s effect on landscape\, settlement and migration\, and its impact on culture and spirituality. \n 
URL:https://www.mshumanities.org/event/water-ways-lmrf-river-clean/
LOCATION:Lower Mississippi River Foundation\, 291 Sunflower Avenue\, Clarksdale\, 38614\, United States
END:VEVENT
BEGIN:VEVENT
DTSTART;TZID=America/Chicago:20181020T100000
DTEND;TZID=America/Chicago:20181020T160000
DTSTAMP:20260424T104616
CREATED:20181011T191355Z
LAST-MODIFIED:20181011T191355Z
UID:11054-1540029600-1540051200@www.mshumanities.org
SUMMARY:Water/Ways @ Ocean Springs: Grand Opening
DESCRIPTION:On October 20\, join the Ocean Springs Municipal Library for the grand opening of the Smithsonian Institution’s traveling exhibit\, Water/Ways. Water/Ways\, which will be on display through November 30\, is free and open to the public. \nExhibit hours are Monday-Thursday 10am-6pm and Friday-Saturday 10am-4pm. School and group visits are welcome but are encouraged to schedule a visit by contacting the library in advance at 228-875-1193. \nWater/Ways is a traveling exhibit offered by the Museum on Main Street division of the Smithsonian Institution. The exhibit explores water’s connection to all aspects of our society\, including the endless motion of the water cycle\, water’s effect on landscape\, settlement and migration\, and its impact on culture and spirituality. \nFuture Water/Ways events in Ocean Springs:\nOctober 23\, 6-7:30pm: Beauvoir\, Restoration After Katrina\nOctober 24\, 10-10:45am: Water-related story and craft time\nOctober 25\, 2-3pm: Legacy of Our Forests and Rivers\nOctober 27\, 9am-5pm: Bousillage workshops\nOctober 28\, 2-4pm: Twelve Oaks archaeological dig\nOctober 30\, 6-7pm: Gulf Coast Research Lab Sci-Cafe\, Walking Watersheds\nOctober 31\, 10-10:45am: Water-related story and craft time\nNovember 1\, 6-7pm: Water/Ways\, Ebbs and Flows of Mississippi History\nNovember 6\, 8am-5pm: Living Shorelines–Master Naturalists\nNovember 7\, 10-10:45: Water-related story and craft time\nNovember 8\, 6-7:30pm: Teen Science Cafe\nNovember 10\, 9:30-11:30am: USM Marine Education Center tour\nNovember 13\, 3-4pm: Enviroscape activity\nNovember 14\, 10-10:45am: Water-related story and craft time\nNovember 15\, 3-7pm: Oysters & Seafood Safety/Terrapins & TEDs\nNovember 17\, 9:30am-12:30pm: Get N2RH20 Kayaking trip\nNovember 20\, 12pm: BP Oil Spill\, Eight Years Later\nNovember 21\, 10-10:45am: Water-related story and craft time\nNovember 27\, 6-7:30pm: Gulf Coast Research Lab Sci-Cafe\nNovember 28\, 10-10:45am: Water-related story and craft time\nNovember 29\, 5:30-7:30pm: How Storms Have Impacted Life on the Mississippi Gulf Coast\nDecember 1\, 10am-12pm: Lessons From the Way of Water for Native Americans
URL:https://www.mshumanities.org/event/water-ways-ocean-springs-grand-opening/
LOCATION:Ocean Springs Municipal Library\, 525 Dewey Avenue\, Ocean Springs\, MS\, 39564\, United States
END:VEVENT
BEGIN:VEVENT
DTSTART;TZID=America/Chicago:20181023T180000
DTEND;TZID=America/Chicago:20181023T193000
DTSTAMP:20260424T104616
CREATED:20181011T210158Z
LAST-MODIFIED:20181011T210158Z
UID:11055-1540317600-1540323000@www.mshumanities.org
SUMMARY:Water/Ways @ Ocean Springs: Beauvoir\, Restoration After Katrina
DESCRIPTION:On October 23\, the Ocean Springs Municipal Library and the Mary C. O’Keefe Cultural Center will host a free and open to the public program about Jefferson Davis’s home\, Beauvoir\, and its post-Katrina restoration. Jay Peterson\, curator at Beauvior in Biloxi\, will lead the presentation. See and hear about the process of restoration on the property and the main house after a life-changing storm. Peterson will address architectural restoration\, water damage to artifacts\, and more. See how this important landmark was brought back to life! \nExhibit hours are Monday-Thursday 10am-6pm and Friday-Saturday 10am-4pm. School and group visits are welcome but are encouraged to schedule a visit by contacting the library in advance at 228-875-1193. \nWater/Ways is a traveling exhibit offered by the Museum on Main Street division of the Smithsonian Institution. The exhibit explores water’s connection to all aspects of our society\, including the endless motion of the water cycle\, water’s effect on landscape\, settlement and migration\, and its impact on culture and spirituality. \nFuture Water/Ways events in Ocean Springs:\nOctober 24\, 10-10:45am: Water-related story and craft time\nOctober 25\, 2-3pm: Legacy of Our Forests and Rivers\nOctober 27\, 9am-5pm: Bousillage workshops\nOctober 28\, 2-4pm: Twelve Oaks archaeological dig\nOctober 30\, 6-7pm: Gulf Coast Research Lab Sci-Cafe\, Walking Watersheds\nOctober 31\, 10-10:45am: Water-related story and craft time\nNovember 1\, 6-7pm: Water/Ways\, Ebbs and Flows of Mississippi History\nNovember 6\, 8am-5pm: Living Shorelines–Master Naturalists\nNovember 7\, 10-10:45: Water-related story and craft time\nNovember 8\, 6-7:30pm: Teen Science Cafe\nNovember 10\, 9:30-11:30am: USM Marine Education Center tour\nNovember 13\, 3-4pm: Enviroscape activity\nNovember 14\, 10-10:45am: Water-related story and craft time\nNovember 15\, 3-7pm: Oysters & Seafood Safety/Terrapins & TEDs\nNovember 17\, 9:30am-12:30pm: Get N2RH20 Kayaking trip\nNovember 20\, 12pm: BP Oil Spill\, Eight Years Later\nNovember 21\, 10-10:45am: Water-related story and craft time\nNovember 27\, 6-7:30pm: Gulf Coast Research Lab Sci-Cafe\nNovember 28\, 10-10:45am: Water-related story and craft time\nNovember 29\, 5:30-7:30pm: How Storms Have Impacted Life on the Mississippi Gulf Coast\nDecember 1\, 10am-12pm: Lessons From the Way of Water for Native Americans
URL:https://www.mshumanities.org/event/water-ways-ocean-springs-beauvoir-restoration-katrina/
LOCATION:The Mary C. O’Keefe Cultural Center\, 1600 Government Street\, Ocean Springs\, MS\, 39564
END:VEVENT
BEGIN:VEVENT
DTSTART;TZID=America/Chicago:20181024T100000
DTEND;TZID=America/Chicago:20181024T104500
DTSTAMP:20260424T104616
CREATED:20181011T212247Z
LAST-MODIFIED:20181011T212247Z
UID:11056-1540375200-1540377900@www.mshumanities.org
SUMMARY:Water/Ways @ Ocean Springs: Water-related Story & Craft Time
DESCRIPTION:On October 31\, the Ocean Springs Municipal Library will host a water-related story and craft time for families. Parents are encouraged to bring their preschool-aged children for story time and crafts with children’s librarian Maureen Downey. \nWater/Ways is a traveling exhibit offered by the Museum on Main Street division of the Smithsonian Institution. The exhibit explores water’s connection to all aspects of our society\, including the endless motion of the water cycle\, water’s effect on landscape\, settlement and migration\, and its impact on culture and spirituality. \nExhibit hours are Monday-Thursday 10am-6pm and Friday-Saturday 10am-4pm. School and group visits are welcome but are encouraged to schedule a visit by contacting the library in advance at 228-875-1193. \nFuture Water/Ways events in Ocean Springs:\nOctober 25\, 2-3pm: Legacy of Our Forests and Rivers\nOctober 27\, 9am-5pm: Bousillage workshops\nOctober 28\, 2-4pm: Twelve Oaks archaeological dig\nOctober 30\, 6-7pm: Gulf Coast Research Lab Sci-Cafe\, Walking Watersheds\nOctober 31\, 10-10:45am: Water-related story and craft time\nNovember 1\, 6-7pm: Water/Ways\, Ebbs and Flows of Mississippi History\nNovember 6\, 8am-5pm: Living Shorelines–Master Naturalists\nNovember 7\, 10-10:45: Water-related story and craft time\nNovember 8\, 6-7:30pm: Teen Science Cafe\nNovember 10\, 9:30-11:30am: USM Marine Education Center tour\nNovember 13\, 3-4pm: Enviroscape activity\nNovember 14\, 10-10:45am: Water-related story and craft time\nNovember 15\, 3-7pm: Oysters & Seafood Safety/Terrapins & TEDs\nNovember 17\, 9:30am-12:30pm: Get N2RH20 Kayaking trip\nNovember 20\, 12pm: BP Oil Spill\, Eight Years Later\nNovember 21\, 10-10:45am: Water-related story and craft time\nNovember 27\, 6-7:30pm: Gulf Coast Research Lab Sci-Cafe\nNovember 28\, 10-10:45am: Water-related story and craft time\nNovember 29\, 5:30-7:30pm: How Storms Have Impacted Life on the Mississippi Gulf Coast\nDecember 1\, 10am-12pm: Lessons From the Way of Water for Native Americans
URL:https://www.mshumanities.org/event/water-ways-ocean-springs-water-related-story-craft-time/
LOCATION:Ocean Springs Municipal Library\, 525 Dewey Avenue\, Ocean Springs\, MS\, 39564\, United States
END:VEVENT
BEGIN:VEVENT
DTSTART;TZID=America/Chicago:20181025T140000
DTEND;TZID=America/Chicago:20181025T150000
DTSTAMP:20260424T104616
CREATED:20181012T185000Z
LAST-MODIFIED:20181012T185000Z
UID:11058-1540476000-1540479600@www.mshumanities.org
SUMMARY:Water/Ways @ Ocean Springs: Legacy of Our Forests and Rivers
DESCRIPTION:On October 25\, the Ocean Springs Municipal Library will host a free and open to the public program titled “Legacy of Our Forests and Rivers.” The program\, which will take place in conjunction with the Smithsonian Institution’s traveling exhibit Water/Ways\, will feature Else Martin from the Jackson County Historical Society. \nWater/Ways is a traveling exhibit offered by the Museum on Main Street division of the Smithsonian Institution. The exhibit explores water’s connection to all aspects of our society\, including the endless motion of the water cycle\, water’s effect on landscape\, settlement and migration\, and its impact on culture and spirituality. \nExhibit hours are Monday-Thursday 10am-6pm and Friday-Saturday 10am-4pm. School and group visits are welcome but are encouraged to schedule a visit by contacting the library in advance at 228-875-1193. \nFuture Water/Ways events in Ocean Springs:\nOctober 27\, 9am-5pm: Bousillage workshops\nOctober 28\, 2-4pm: Twelve Oaks archaeological dig\nOctober 30\, 6-7pm: Gulf Coast Research Lab Sci-Cafe\, Walking Watersheds\nOctober 31\, 10-10:45am: Water-related story and craft time\nNovember 1\, 6-7pm: Water/Ways\, Ebbs and Flows of Mississippi History\nNovember 6\, 8am-5pm: Living Shorelines–Master Naturalists\nNovember 7\, 10-10:45: Water-related story and craft time\nNovember 8\, 6-7:30pm: Teen Science Cafe\nNovember 10\, 9:30-11:30am: USM Marine Education Center tour\nNovember 13\, 3-4pm: Enviroscape activity\nNovember 14\, 10-10:45am: Water-related story and craft time\nNovember 15\, 3-7pm: Oysters & Seafood Safety/Terrapins & TEDs\nNovember 17\, 9:30am-12:30pm: Get N2RH20 Kayaking trip\nNovember 20\, 12pm: BP Oil Spill\, Eight Years Later\nNovember 21\, 10-10:45am: Water-related story and craft time\nNovember 27\, 6-7:30pm: Gulf Coast Research Lab Sci-Cafe\nNovember 28\, 10-10:45am: Water-related story and craft time\nNovember 29\, 5:30-7:30pm: How Storms Have Impacted Life on the Mississippi Gulf Coast\nDecember 1\, 10am-12pm: Lessons From the Way of Water for Native Americans
URL:https://www.mshumanities.org/event/water-ways-ocean-springs-legacy-forests-rivers/
LOCATION:Ocean Springs Municipal Library\, 525 Dewey Avenue\, Ocean Springs\, MS\, 39564\, United States
END:VEVENT
BEGIN:VEVENT
DTSTART;TZID=America/Chicago:20181027T090000
DTEND;TZID=America/Chicago:20181027T170000
DTSTAMP:20260424T104616
CREATED:20181012T185518Z
LAST-MODIFIED:20181012T185518Z
UID:11059-1540630800-1540659600@www.mshumanities.org
SUMMARY:Water/Ways @ Ocean Springs: Bousillage Workshop
DESCRIPTION:Get ready to get dirty and learn! The LaPointe-Krebs House and Museum will be offering hands-on demonstrations on how the early settlers made bousillage. Bousillage is a clay mixture that was used to build houses. Be sure to stop by the Pascagoula Library and learn through doing at this one of a kind program! This program will take place in conjunction with Water/Ways\, on display at the Ocean Springs Municipal Library through November 30. \nWater/Ways is a traveling exhibit offered by the Museum on Main Street division of the Smithsonian Institution. The exhibit explores water’s connection to all aspects of our society\, including the endless motion of the water cycle\, water’s effect on landscape\, settlement and migration\, and its impact on culture and spirituality. \nExhibit hours are Monday-Thursday 10am-6pm and Friday-Saturday 10am-4pm. School and group visits are welcome but are encouraged to schedule a visit by contacting the library in advance at 228-875-1193. \nFuture Water/Ways events in Ocean Springs:\nOctober 28\, 2-4pm: Twelve Oaks archaeological dig\nOctober 30\, 6-7pm: Gulf Coast Research Lab Sci-Cafe\, Walking Watersheds\nOctober 31\, 10-10:45am: Water-related story and craft time\nNovember 1\, 6-7pm: Water/Ways\, Ebbs and Flows of Mississippi History\nNovember 6\, 8am-5pm: Living Shorelines–Master Naturalists\nNovember 7\, 10-10:45: Water-related story and craft time\nNovember 8\, 6-7:30pm: Teen Science Cafe\nNovember 10\, 9:30-11:30am: USM Marine Education Center tour\nNovember 13\, 3-4pm: Enviroscape activity\nNovember 14\, 10-10:45am: Water-related story and craft time\nNovember 15\, 3-7pm: Oysters & Seafood Safety/Terrapins & TEDs\nNovember 17\, 9:30am-12:30pm: Get N2RH20 Kayaking trip\nNovember 20\, 12pm: BP Oil Spill\, Eight Years Later\nNovember 21\, 10-10:45am: Water-related story and craft time\nNovember 27\, 6-7:30pm: Gulf Coast Research Lab Sci-Cafe\nNovember 28\, 10-10:45am: Water-related story and craft time\nNovember 29\, 5:30-7:30pm: How Storms Have Impacted Life on the Mississippi Gulf Coast\nDecember 1\, 10am-12pm: Lessons From the Way of Water for Native Americans
URL:https://www.mshumanities.org/event/water-ways-ocean-springs-bousillage-workshop/
LOCATION:Pascagoula Public Library\, 3214 Pascagoula Street\, Pascagoula\, 39564\, United States
END:VEVENT
BEGIN:VEVENT
DTSTART;TZID=America/Chicago:20181028T140000
DTEND;TZID=America/Chicago:20181028T160000
DTSTAMP:20260424T104616
CREATED:20181015T201108Z
LAST-MODIFIED:20181015T201108Z
UID:11060-1540735200-1540742400@www.mshumanities.org
SUMMARY:Water/Ways @ Ocean Springs: Twelve Oaks Archaeological Dig
DESCRIPTION:On October 28\, join the Land Trust for the Mississippi Coastal Plain for a free archaeological dig at the historic Twelve Oaks conservation area in Ocean Springs. Archaeologist Cindy Carter-Davis will exhibit archaeological sites and artifacts associated with Mississippi waterways. The exhibit will include artifacts from a shell midden on the east bank of the Pascagoula River\, a mound site on the shore of the Gulf\, Cedar Lake Island in the Tchoutacabouffa River\, and more. An archaeological demonstration will also be available for viewing with volunteers available to answer questions. Children ages 6 and younger will be able to experience a representation of an archaeological dig. The program will take place in conjunction with the Smithsonian traveling exhibit Water/Ways\, on display at the Ocean Springs Municipal Library through November 30. \nWater/Ways is a traveling exhibit offered by the Museum on Main Street division of the Smithsonian Institution. The exhibit explores water’s connection to all aspects of our society\, including the endless motion of the water cycle\, water’s effect on landscape\, settlement and migration\, and its impact on culture and spirituality. \nExhibit hours are Monday-Thursday 10am-6pm and Friday-Saturday 10am-4pm. School and group visits are welcome but are encouraged to schedule a visit by contacting the library in advance at 228-875-1193. \nFuture Water/Ways events in Ocean Springs:\nOctober 30\, 6-7pm: Gulf Coast Research Lab Sci-Cafe\, Walking Watersheds\nOctober 31\, 10-10:45am: Water-related story and craft time\nNovember 1\, 6-7pm: Water/Ways\, Ebbs and Flows of Mississippi History\nNovember 6\, 8am-5pm: Living Shorelines–Master Naturalists\nNovember 7\, 10-10:45: Water-related story and craft time\nNovember 8\, 6-7:30pm: Teen Science Cafe\nNovember 10\, 9:30-11:30am: USM Marine Education Center tour\nNovember 13\, 3-4pm: Enviroscape activity\nNovember 14\, 10-10:45am: Water-related story and craft time\nNovember 15\, 3-7pm: Oysters & Seafood Safety/Terrapins & TEDs\nNovember 17\, 9:30am-12:30pm: Get N2RH20 Kayaking trip\nNovember 20\, 12pm: BP Oil Spill\, Eight Years Later\nNovember 21\, 10-10:45am: Water-related story and craft time\nNovember 27\, 6-7:30pm: Gulf Coast Research Lab Sci-Cafe\nNovember 28\, 10-10:45am: Water-related story and craft time\nNovember 29\, 5:30-7:30pm: How Storms Have Impacted Life on the Mississippi Gulf Coast\nDecember 1\, 10am-12pm: Lessons From the Way of Water for Native Americans
URL:https://www.mshumanities.org/event/water-ways-ocean-springs-twelve-oaks-archaeological-dig/
LOCATION:Twelve Oaks\, 1112 Hanley Road\, Ocean Springs\, MS\, 39564\, United States
END:VEVENT
BEGIN:VEVENT
DTSTART;TZID=America/Chicago:20181030T180000
DTEND;TZID=America/Chicago:20181030T190000
DTSTAMP:20260424T104616
CREATED:20181015T203514Z
LAST-MODIFIED:20181015T203514Z
UID:11061-1540922400-1540926000@www.mshumanities.org
SUMMARY:Water/Ways at Ocean Springs: Gulf Coast Research Lab Sci-Cafe
DESCRIPTION:On October 30\, join the Gulf Coast Research Lab for its program “Sci Cafe: Walking Watersheds.” Dr. Jessie Kastler from USM’s Gulf Coast Research Lab will lead the program and discuss the role and importance of watersheds. The free program will take place in conjunction with the Smithsonian traveling exhibit Water/Ways\, on display at the Ocean Springs Municipal Library through November 30. \nWater/Ways is a traveling exhibit offered by the Museum on Main Street division of the Smithsonian Institution. The exhibit explores water’s connection to all aspects of our society\, including the endless motion of the water cycle\, water’s effect on landscape\, settlement and migration\, and its impact on culture and spirituality. \nExhibit hours are Monday-Thursday 10am-6pm and Friday-Saturday 10am-4pm. School and group visits are welcome but are encouraged to schedule a visit by contacting the library in advance at 228-875-1193. \nFuture Water/Ways events in Ocean Springs:\nOctober 31\, 10-10:45am: Water-related story and craft time\nNovember 1\, 6-7pm: Water/Ways\, Ebbs and Flows of Mississippi History\nNovember 6\, 8am-5pm: Living Shorelines–Master Naturalists\nNovember 7\, 10-10:45: Water-related story and craft time\nNovember 8\, 6-7:30pm: Teen Science Cafe\nNovember 10\, 9:30-11:30am: USM Marine Education Center tour\nNovember 13\, 3-4pm: Enviroscape activity\nNovember 14\, 10-10:45am: Water-related story and craft time\nNovember 15\, 3-7pm: Oysters & Seafood Safety/Terrapins & TEDs\nNovember 17\, 9:30am-12:30pm: Get N2RH20 Kayaking trip\nNovember 20\, 12pm: BP Oil Spill\, Eight Years Later\nNovember 21\, 10-10:45am: Water-related story and craft time\nNovember 27\, 6-7:30pm: Gulf Coast Research Lab Sci-Cafe\nNovember 28\, 10-10:45am: Water-related story and craft time\nNovember 29\, 5:30-7:30pm: How Storms Have Impacted Life on the Mississippi Gulf Coast\nDecember 1\, 10am-12pm: Lessons From the Way of Water for Native Americans
URL:https://www.mshumanities.org/event/water-ways-ocean-springs-gulf-coast-research-lab-sci-cafe/
LOCATION:USM Gulf Coast Research Lab Marine Education Center\, 101 Sweetbay Drive\, Ocean Springs\, MS\, 39564\, United States
END:VEVENT
BEGIN:VEVENT
DTSTART;TZID=America/Chicago:20181031T100000
DTEND;TZID=America/Chicago:20181031T104500
DTSTAMP:20260424T104616
CREATED:20181015T204144Z
LAST-MODIFIED:20181015T204144Z
UID:11062-1540980000-1540982700@www.mshumanities.org
SUMMARY:Water/Ways @ Ocean Springs: Water-related Story & Craft Time
DESCRIPTION:On October 31\, the Ocean Springs Municipal Library will host a water-related story and craft time for families. Parents are encouraged to bring their preschool-aged children for story time and crafts with children’s librarian Maureen Downey. The free program will take place in conjunction with the Smithsonian traveling exhibit Water/Ways\, on display at the Ocean Springs Municipal Library through November 30. \nWater/Ways is a traveling exhibit offered by the Museum on Main Street division of the Smithsonian Institution. The exhibit explores water’s connection to all aspects of our society\, including the endless motion of the water cycle\, water’s effect on landscape\, settlement and migration\, and its impact on culture and spirituality. \nExhibit hours are Monday-Thursday 10am-6pm and Friday-Saturday 10am-4pm. School and group visits are welcome but are encouraged to schedule a visit by contacting the library in advance at 228-875-1193. \nFuture Water/Ways events in Ocean Springs:\nNovember 1\, 6-7pm: Water/Ways\, Ebbs and Flows of Mississippi History\nNovember 6\, 8am-5pm: Living Shorelines–Master Naturalists\nNovember 7\, 10-10:45: Water-related story and craft time\nNovember 8\, 6-7:30pm: Teen Science Cafe\nNovember 10\, 9:30-11:30am: USM Marine Education Center tour\nNovember 13\, 3-4pm: Enviroscape activity\nNovember 14\, 10-10:45am: Water-related story and craft time\nNovember 15\, 3-7pm: Oysters & Seafood Safety/Terrapins & TEDs\nNovember 17\, 9:30am-12:30pm: Get N2RH20 Kayaking trip\nNovember 20\, 12pm: BP Oil Spill\, Eight Years Later\nNovember 21\, 10-10:45am: Water-related story and craft time\nNovember 27\, 6-7:30pm: Gulf Coast Research Lab Sci-Cafe\nNovember 28\, 10-10:45am: Water-related story and craft time\nNovember 29\, 5:30-7:30pm: How Storms Have Impacted Life on the Mississippi Gulf Coast\nDecember 1\, 10am-12pm: Lessons From the Way of Water for Native Americans
URL:https://www.mshumanities.org/event/water-ways-ocean-springs-water-related-story-craft-time-2/
LOCATION:Ocean Springs Municipal Library\, 525 Dewey Avenue\, Ocean Springs\, MS\, 39564\, United States
END:VEVENT
END:VCALENDAR