BEGIN:VCALENDAR
VERSION:2.0
PRODID:-//Mississippi Humanities Council - ECPv6.15.18//NONSGML v1.0//EN
CALSCALE:GREGORIAN
METHOD:PUBLISH
X-ORIGINAL-URL:https://www.mshumanities.org
X-WR-CALDESC:Events for Mississippi Humanities Council
REFRESH-INTERVAL;VALUE=DURATION:PT1H
X-Robots-Tag:noindex
X-PUBLISHED-TTL:PT1H
BEGIN:VTIMEZONE
TZID:America/Chicago
BEGIN:DAYLIGHT
TZOFFSETFROM:-0600
TZOFFSETTO:-0500
TZNAME:CDT
DTSTART:20180311T080000
END:DAYLIGHT
BEGIN:STANDARD
TZOFFSETFROM:-0500
TZOFFSETTO:-0600
TZNAME:CST
DTSTART:20181104T070000
END:STANDARD
BEGIN:DAYLIGHT
TZOFFSETFROM:-0600
TZOFFSETTO:-0500
TZNAME:CDT
DTSTART:20190310T080000
END:DAYLIGHT
BEGIN:STANDARD
TZOFFSETFROM:-0500
TZOFFSETTO:-0600
TZNAME:CST
DTSTART:20191103T070000
END:STANDARD
BEGIN:DAYLIGHT
TZOFFSETFROM:-0600
TZOFFSETTO:-0500
TZNAME:CDT
DTSTART:20200308T080000
END:DAYLIGHT
BEGIN:STANDARD
TZOFFSETFROM:-0500
TZOFFSETTO:-0600
TZNAME:CST
DTSTART:20201101T070000
END:STANDARD
END:VTIMEZONE
BEGIN:VEVENT
DTSTART;TZID=America/Chicago:20190102T090000
DTEND;TZID=America/Chicago:20190105T170000
DTSTAMP:20260424T015732
CREATED:20181207T161200Z
LAST-MODIFIED:20181207T161200Z
UID:11112-1546419600-1546707600@www.mshumanities.org
SUMMARY:Water/Ways @ Ag Museum: Augmented Reality Sandbox
DESCRIPTION:On December 26\, the Mississippi Agriculture and Forestry Museum will host a free and open to the public program featuring the Friends of the Mississippi River Basin Model’s Augmented Reality Sandbox\, which will be on display through January 5. The Augmented Reality Sandbox is a hands-on sandbox exhibit combined with 3-D visualization applications. Simply mold the sand by hand and the landscape comes to life! The sand is augmented in real-time with an elevation color map\, topographic contour lines\, and simulated water. While the Friends of the Mississippi River Basin Model will only present the program on December 26\, it is available for visitors to interact with through January 5. \nThis program takes place in conjunction with Water/Ways\, a traveling exhibit offered by the Museum on Main Street division of the Smithsonian Institution and sponsored by the Mississippi Humanities Council. The exhibit explores water’s connection to all aspects of our society\, including the endless motion of the water cycle\, water’s effect on landscape\, settlement and migration\, and its impact on culture and spirituality. \nFuture Water/Ways events in Jackson:\nDecember 26-January 5\, all day: Augmented Reality Sandbox interactive display\nJanuary 8\, 10am: Story Time with Uncle Story\, Did A Dinosaur Drink This Water?\nJanuary 12\, 10am: Friends of the Mississippi River Basin Model presentation\nJanuary 19\, 10am-2pm: Enviroscape Table interactive display
URL:https://www.mshumanities.org/event/water-ways-ag-museum-augmented-reality-sandbox-2/
LOCATION:Mississippi Agriculture & Forestry Museum\, 1150 Lakeland Drive\, Jackson\, MS\, 39216\, United States
END:VEVENT
BEGIN:VEVENT
DTSTART;TZID=America/Chicago:20190108T100000
DTEND;TZID=America/Chicago:20190108T110000
DTSTAMP:20260424T015732
CREATED:20181207T160332Z
LAST-MODIFIED:20181207T160332Z
UID:11111-1546941600-1546945200@www.mshumanities.org
SUMMARY:Water/Ways @ Ag Museum: Story Time With Uncle Story
DESCRIPTION:On January 8\, the Mississippi Agriculture and Forestry Museum will present a free and open to the public presentation of Story Time With Uncle Story. The program\, which will take place in conjunction with the Smithsonian traveling exhibit Water/Ways\, will feature the children’s book Did A Dinosaur Drink This Water? by Robert E. Wells. Following storytime will be a special craft activity related to the book. \nThis program takes place in conjunction with Water/Ways\, a traveling exhibit offered by the Museum on Main Street division of the Smithsonian Institution and sponsored by the Mississippi Humanities Council. The exhibit explores water’s connection to all aspects of our society\, including the endless motion of the water cycle\, water’s effect on landscape\, settlement and migration\, and its impact on culture and spirituality. \nFuture Water/Ways events in Jackson:\nJanuary 12\, 10am: Friends of the Mississippi River Basin Model presentation\nJanuary 19\, 10am-2pm: Enviroscape Table interactive display \n \n 
URL:https://www.mshumanities.org/event/water-ways-ag-museum-story-time-uncle-story/
LOCATION:Mississippi Agriculture & Forestry Museum\, 1150 Lakeland Drive\, Jackson\, MS\, 39216\, United States
END:VEVENT
BEGIN:VEVENT
DTSTART;TZID=America/Chicago:20190112T100000
DTEND;TZID=America/Chicago:20190112T110000
DTSTAMP:20260424T015732
CREATED:20181207T162421Z
LAST-MODIFIED:20181207T162421Z
UID:11113-1547287200-1547290800@www.mshumanities.org
SUMMARY:Water/Ways @ Ag Museum: MS River Basin Model Presentation
DESCRIPTION:On January 12\, the Mississippi Agriculture and Forestry Museum will present a free and open to the public presentation about the Mississippi River Basin Model. The program will feature Sarah McEwen\, president of the Friends of the Mississippi River Basin Model\, who will discuss the history of the model\, its uses\, and its importance today. \nThis program takes place in conjunction with Water/Ways\, a traveling exhibit offered by the Museum on Main Street division of the Smithsonian Institution and sponsored by the Mississippi Humanities Council. The exhibit explores water’s connection to all aspects of our society\, including the endless motion of the water cycle\, water’s effect on landscape\, settlement and migration\, and its impact on culture and spirituality. \nFuture Water/Ways events in Jackson:\nJanuary 19\, 10am-2pm: Enviroscape Table interactive display
URL:https://www.mshumanities.org/event/water-ways-ag-museum-ms-river-basin-model-presentation/
LOCATION:Mississippi Agriculture & Forestry Museum\, 1150 Lakeland Drive\, Jackson\, MS\, 39216\, United States
END:VEVENT
BEGIN:VEVENT
DTSTART;TZID=America/Chicago:20190119T100000
DTEND;TZID=America/Chicago:20190119T140000
DTSTAMP:20260424T015732
CREATED:20181207T163020Z
LAST-MODIFIED:20181207T163020Z
UID:11114-1547892000-1547906400@www.mshumanities.org
SUMMARY:Water/Ways @ Ag Museum: Enviroscape Table
DESCRIPTION:On January 19\,  the Mississippi Agriculture and Forestry Museum will host a free and open to the public interactive presentation about water pollution. The program will feature Melissa Wells\, Education Outreach Coordinator for the Mississippi Department of Environmental Quality\, to present MDEQ’s Enviroscape Table. The Enviroscape Table provides a hands-on\, interactive demonstration of the sources and effects of water pollution and how to prevent it. Presentations of the Enviroscape Table will take place every half hour between 10am and 2pm. \nThis program takes place in conjunction with Water/Ways\, a traveling exhibit offered by the Museum on Main Street division of the Smithsonian Institution and sponsored by the Mississippi Humanities Council. The exhibit explores water’s connection to all aspects of our society\, including the endless motion of the water cycle\, water’s effect on landscape\, settlement and migration\, and its impact on culture and spirituality.
URL:https://www.mshumanities.org/event/water-ways-ag-museum-enviroscape-table/
LOCATION:Mississippi Agriculture & Forestry Museum\, 1150 Lakeland Drive\, Jackson\, MS\, 39216\, United States
END:VEVENT
END:VCALENDAR