BEGIN:VCALENDAR
VERSION:2.0
PRODID:-//Mississippi Humanities Council - ECPv6.15.18//NONSGML v1.0//EN
CALSCALE:GREGORIAN
METHOD:PUBLISH
X-ORIGINAL-URL:https://www.mshumanities.org
X-WR-CALDESC:Events for Mississippi Humanities Council
REFRESH-INTERVAL;VALUE=DURATION:PT1H
X-Robots-Tag:noindex
X-PUBLISHED-TTL:PT1H
BEGIN:VTIMEZONE
TZID:America/Chicago
BEGIN:DAYLIGHT
TZOFFSETFROM:-0600
TZOFFSETTO:-0500
TZNAME:CDT
DTSTART:20170312T080000
END:DAYLIGHT
BEGIN:STANDARD
TZOFFSETFROM:-0500
TZOFFSETTO:-0600
TZNAME:CST
DTSTART:20171105T070000
END:STANDARD
BEGIN:DAYLIGHT
TZOFFSETFROM:-0600
TZOFFSETTO:-0500
TZNAME:CDT
DTSTART:20180311T080000
END:DAYLIGHT
BEGIN:STANDARD
TZOFFSETFROM:-0500
TZOFFSETTO:-0600
TZNAME:CST
DTSTART:20181104T070000
END:STANDARD
BEGIN:DAYLIGHT
TZOFFSETFROM:-0600
TZOFFSETTO:-0500
TZNAME:CDT
DTSTART:20190310T080000
END:DAYLIGHT
BEGIN:STANDARD
TZOFFSETFROM:-0500
TZOFFSETTO:-0600
TZNAME:CST
DTSTART:20191103T070000
END:STANDARD
END:VTIMEZONE
BEGIN:VEVENT
DTSTART;TZID=America/Chicago:20180929T120000
DTEND;TZID=America/Chicago:20180929T130000
DTSTAMP:20260424T143432
CREATED:20180906T201350Z
LAST-MODIFIED:20180906T201350Z
UID:11036-1538222400-1538226000@www.mshumanities.org
SUMMARY:Water/Ways @ LMRF: Youth Art Exhibit & Sale
DESCRIPTION:On Saturday\, September 29\, the Lower Mississippi River Foundation will host an art exhibit and sale at Meraki Roasting Company in Clarksdale. The exhibit will feature art from Clarksdale youth related to the power of water. Art from the exhibit will be on sale. The exhibit and sale will take place in conjunction with the Smithsonian Institution traveling exhibit Water/Ways\, on display in Clarksdale through October 13. \nWater/Ways is a traveling exhibit offered by the Museum on Main Street division of the Smithsonian Institution. The exhibit explores water’s connection to all aspects of our society\, including the endless motion of the water cycle\, water’s effect on landscape\, settlement and migration\, and its impact on culture and spirituality. \nFuture Water/Ways Events @ LMRF*\nOctober 6\, 12pm: “Swimming and Civil Rights” panel discussion\nOctober 6-7: Sunflower River Paddle Days\nOctober 7\, 12pm: “Mississippi River Blues”\nOctober 7\, 3pm (HELENA) Horner Neck kayak tour\nOctober 13\, 9am: River Clean-Up\nOctober 13 (HELENA): Steamboat presentation and kids’ craft time \n*Most Water/Ways events take place in Clarksdale. Some\, as noted\, take place in Helena\, Arkansas.
URL:https://www.mshumanities.org/event/water-ways-lmrf-youth-art-exhibit-sale/
LOCATION:Meraki Roasting Company\, 282 Sunflower Ave\, Clarksdale\, MS\, 38614\, United States
END:VEVENT
END:VCALENDAR